{"text_format":"1","workbook":"xlsx","n_sheets":3,"sheets":["F6 Certificación del Fiduciario","Series","Bienes fideicomitidos"],"not_rendered":{"charts":0,"images":1,"macros":1,"external_links":0,"defined_names":0,"comments":3,"pivot_tables":0},"unopened":[],"bounds":{"document_bytes":16777216,"sheet_cells":100000,"rows_first":2000,"rows_last":500,"rows_between":2000,"halvings":0,"cell_chars":16384,"cell_head_chars":4096},"cells_cut":0,"cells_raw":0,"read":"whole","date_system":"1900"}

{"sheet":"F6 Certificación del Fiduciario","index":0,"n_rows":1023,"n_cols":15,"rows_kept":1023,"cut":false,"hidden":false,"merged":[[4,0,4,11],[3,0,3,11],[2,0,2,11],[1,0,1,11],[0,0,0,11]]}
["Superintendencia del Mercado de Valores"]
["EMISORES"]
["Formulario F6 - Certificación del Fiduciario"]
["Al Cierre del Trimestre"]
[" Version 1.0"]
["Emisor:"]
["Código*:"]
["Fecha de Reporte*:"]
[]
["Los campos con asterisco (*) son obligatorios."]
["Resolución*","Fecha de la resolución*","Resolución de modificación de garantía","Fecha de la res. de mod. de garantía.","Detalle del título emitido ","Monto autorizado*","Nombre de la Fiduciaria*","Resolución  Fiduciaria *","Total del patrimonio administrado del Fideicomiso*","Cuenta con avalúo*","Fecha del avalúo","Monto del Avalúo","Porcentaje (%) de cobertura estipulado en el prospecto","Monto de las series garantizadas","Porcentaje de cobertura de la garantía establecida en el Prospecto Informativo y la que resulta  de dividir el patrimonio del fideicomiso entre el monto en circulación"]
[null,null,null,null,null,null,null,null,{"$f":"SUMIF('Bienes fideicomitidos'!$A$2:$A$1048576, \"=\" &A12,'Bienes fideicomitidos'!$C$2:$C$1048576)","v":0},null,null,null,null,{"$f":"SUMIF(Series!$A$2:$A$1048576, \"=\" &A12,Series!$C$2:$C$1048576)","v":0},{"$f":"IFERROR((I12/N12)*100,0)","v":0}]
[null,null,null,null,null,null,null,null,{"$f":"SUMIF('Bienes fideicomitidos'!$A$2:$A$1048576, \"=\" &A13,'Bienes fideicomitidos'!$C$2:$C$1048576)","v":0},null,null,null,null,{"$f":"SUMIF(Series!$A$2:$A$1048576, \"=\" &A13,Series!$C$2:$C$1048576)","v":0},{"$f":"IFERROR((I13/N13)*100,0)","v":0}]
[null,null,null,null,null,null,null,null,{"$f":"SUMIF('Bienes fideicomitidos'!$A$2:$A$1048576, \"=\" &A14,'Bienes fideicomitidos'!$C$2:$C$1048576)","v":0},null,null,null,null,{"$f":"SUMIF(Series!$A$2:$A$1048576, \"=\" &A14,Series!$C$2:$C$1048576)","v":0},{"$f":"IFERROR((I14/N14)*100,0)","v":0}]
[null,null,null,null,null,null,null,null,{"$f":"SUMIF('Bienes fideicomitidos'!$A$2:$A$1048576, \"=\" &A15,'Bienes fideicomitidos'!$C$2:$C$1048576)","v":0},null,null,null,null,{"$f":"SUMIF(Series!$A$2:$A$1048576, \"=\" &A15,Series!$C$2:$C$1048576)","v":0},0]
[null,null,null,null,null,null,null,null,{"$f":"SUMIF('Bienes fideicomitidos'!$A$2:$A$1048576, \"=\" &A16,'Bienes fideicomitidos'!$C$2:$C$1048576)","v":0},null,null,null,null,{"$f":"SUMIF(Series!$A$2:$A$1048576, \"=\" &A16,Series!$C$2:$C$1048576)","v":0},0]
[null,null,null,null,null,null,null,null,{"$f":"SUMIF('Bienes fideicomitidos'!$A$2:$A$1048576, \"=\" &A17,'Bienes fideicomitidos'!$C$2:$C$1048576)","v":0},null,null,null,null,{"$f":"SUMIF(Series!$A$2:$A$1048576, \"=\" &A17,Series!$C$2:$C$1048576)","v":0},0]
[null,null,null,null,null,null,null,null,{"$f":"SUMIF('Bienes fideicomitidos'!$A$2:$A$1048576, \"=\" &A18,'Bienes fideicomitidos'!$C$2:$C$1048576)","v":0},null,null,null,null,{"$f":"SUMIF(Series!$A$2:$A$1048576, \"=\" &A18,Series!$C$2:$C$1048576)","v":0},0]
[null,null,null,null,null,null,null,null,{"$f":"SUMIF('Bienes fideicomitidos'!$A$2:$A$1048576, \"=\" &A19,'Bienes fideicomitidos'!$C$2:$C$1048576)","v":0},null,null,null,null,{"$f":"SUMIF(Series!$A$2:$A$1048576, \"=\" &A19,Series!$C$2:$C$1048576)","v":0},0]
[null,null,null,null,null,null,null,null,{"$f":"SUMIF('Bienes fideicomitidos'!$A$2:$A$1048576, \"=\" &A20,'Bienes fideicomitidos'!$C$2:$C$1048576)","v":0},null,null,null,null,{"$f":"SUMIF(Series!$A$2:$A$1048576, \"=\" &A20,Series!$C$2:$C$1048576)","v":0},0]
[null,null,null,null,null,null,null,null,{"$f":"SUMIF('Bienes fideicomitidos'!$A$2:$A$1048576, \"=\" &A21,'Bienes fideicomitidos'!$C$2:$C$1048576)","v":0},null,null,null,null,{"$f":"SUMIF(Series!$A$2:$A$1048576, \"=\" &A21,Series!$C$2:$C$1048576)","v":0},0]
[null,null,null,null,null,null,null,null,{"$f":"SUMIF('Bienes fideicomitidos'!$A$2:$A$1048576, \"=\" &A22,'Bienes fideicomitidos'!$C$2:$C$1048576)","v":0},null,null,null,null,{"$f":"SUMIF(Series!$A$2:$A$1048576, \"=\" &A22,Series!$C$2:$C$1048576)","v":0},0]
[null,null,null,null,null,null,null,null,{"$f":"SUMIF('Bienes fideicomitidos'!$A$2:$A$1048576, \"=\" &A23,'Bienes fideicomitidos'!$C$2:$C$1048576)","v":0},null,null,null,null,{"$f":"SUMIF(Series!$A$2:$A$1048576, \"=\" &A23,Series!$C$2:$C$1048576)","v":0},0]
[null,null,null,null,null,null,null,null,{"$f":"SUMIF('Bienes fideicomitidos'!$A$2:$A$1048576, \"=\" &A24,'Bienes fideicomitidos'!$C$2:$C$1048576)","v":0},null,null,null,null,{"$f":"SUMIF(Series!$A$2:$A$1048576, \"=\" &A24,Series!$C$2:$C$1048576)","v":0},0]
[null,null,null,null,null,null,null,null,{"$f":"SUMIF('Bienes fideicomitidos'!$A$2:$A$1048576, \"=\" &A25,'Bienes fideicomitidos'!$C$2:$C$1048576)","v":0},null,null,null,null,{"$f":"SUMIF(Series!$A$2:$A$1048576, \"=\" &A25,Series!$C$2:$C$1048576)","v":0},0]
[null,null,null,null,null,null,null,null,{"$f":"SUMIF('Bienes fideicomitidos'!$A$2:$A$1048576, \"=\" &A26,'Bienes fideicomitidos'!$C$2:$C$1048576)","v":0},null,null,null,null,{"$f":"SUMIF(Series!$A$2:$A$1048576, \"=\" &A26,Series!$C$2:$C$1048576)","v":0},0]
[null,null,null,null,null,null,null,null,{"$f":"SUMIF('Bienes fideicomitidos'!$A$2:$A$1048576, \"=\" &A27,'Bienes fideicomitidos'!$C$2:$C$1048576)","v":0},null,null,null,null,{"$f":"SUMIF(Series!$A$2:$A$1048576, \"=\" &A27,Series!$C$2:$C$1048576)","v":0},0]
[null,null,null,null,null,null,null,null,{"$f":"SUMIF('Bienes fideicomitidos'!$A$2:$A$1048576, \"=\" &A28,'Bienes fideicomitidos'!$C$2:$C$1048576)","v":0},null,null,null,null,{"$f":"SUMIF(Series!$A$2:$A$1048576, \"=\" &A28,Series!$C$2:$C$1048576)","v":0},0]
[null,null,null,null,null,null,null,null,{"$f":"SUMIF('Bienes fideicomitidos'!$A$2:$A$1048576, \"=\" &A29,'Bienes fideicomitidos'!$C$2:$C$1048576)","v":0},null,null,null,null,{"$f":"SUMIF(Series!$A$2:$A$1048576, \"=\" &A29,Series!$C$2:$C$1048576)","v":0},0]
[null,null,null,null,null,null,null,null,{"$f":"SUMIF('Bienes fideicomitidos'!$A$2:$A$1048576, \"=\" &A30,'Bienes fideicomitidos'!$C$2:$C$1048576)","v":0},null,null,null,null,{"$f":"SUMIF(Series!$A$2:$A$1048576, \"=\" &A30,Series!$C$2:$C$1048576)","v":0},0]
[null,null,null,null,null,null,null,null,{"$f":"SUMIF('Bienes fideicomitidos'!$A$2:$A$1048576, \"=\" &A31,'Bienes fideicomitidos'!$C$2:$C$1048576)","v":0},null,null,null,null,{"$f":"SUMIF(Series!$A$2:$A$1048576, \"=\" &A31,Series!$C$2:$C$1048576)","v":0},0]
[null,null,null,null,null,null,null,null,{"$f":"SUMIF('Bienes fideicomitidos'!$A$2:$A$1048576, \"=\" &A32,'Bienes fideicomitidos'!$C$2:$C$1048576)","v":0},null,null,null,null,{"$f":"SUMIF(Series!$A$2:$A$1048576, \"=\" &A32,Series!$C$2:$C$1048576)","v":0},0]
[null,null,null,null,null,null,null,null,{"$f":"SUMIF('Bienes fideicomitidos'!$A$2:$A$1048576, \"=\" &A33,'Bienes fideicomitidos'!$C$2:$C$1048576)","v":0},null,null,null,null,{"$f":"SUMIF(Series!$A$2:$A$1048576, \"=\" &A33,Series!$C$2:$C$1048576)","v":0},0]
[null,null,null,null,null,null,null,null,{"$f":"SUMIF('Bienes fideicomitidos'!$A$2:$A$1048576, \"=\" &A34,'Bienes fideicomitidos'!$C$2:$C$1048576)","v":0},null,null,null,null,{"$f":"SUMIF(Series!$A$2:$A$1048576, \"=\" &A34,Series!$C$2:$C$1048576)","v":0},0]
[null,null,null,null,null,null,null,null,{"$f":"SUMIF('Bienes fideicomitidos'!$A$2:$A$1048576, \"=\" &A35,'Bienes fideicomitidos'!$C$2:$C$1048576)","v":0},null,null,null,null,{"$f":"SUMIF(Series!$A$2:$A$1048576, \"=\" &A35,Series!$C$2:$C$1048576)","v":0},0]
[null,null,null,null,null,null,null,null,{"$f":"SUMIF('Bienes fideicomitidos'!$A$2:$A$1048576, \"=\" &A36,'Bienes fideicomitidos'!$C$2:$C$1048576)","v":0},null,null,null,null,{"$f":"SUMIF(Series!$A$2:$A$1048576, \"=\" &A36,Series!$C$2:$C$1048576)","v":0},0]
[null,null,null,null,null,null,null,null,{"$f":"SUMIF('Bienes fideicomitidos'!$A$2:$A$1048576, \"=\" &A37,'Bienes fideicomitidos'!$C$2:$C$1048576)","v":0},null,null,null,null,{"$f":"SUMIF(Series!$A$2:$A$1048576, \"=\" &A37,Series!$C$2:$C$1048576)","v":0},0]
[null,null,null,null,null,null,null,null,{"$f":"SUMIF('Bienes fideicomitidos'!$A$2:$A$1048576, \"=\" &A38,'Bienes fideicomitidos'!$C$2:$C$1048576)","v":0},null,null,null,null,{"$f":"SUMIF(Series!$A$2:$A$1048576, \"=\" &A38,Series!$C$2:$C$1048576)","v":0},0]
[null,null,null,null,null,null,null,null,{"$f":"SUMIF('Bienes fideicomitidos'!$A$2:$A$1048576, \"=\" &A39,'Bienes fideicomitidos'!$C$2:$C$1048576)","v":0},null,null,null,null,{"$f":"SUMIF(Series!$A$2:$A$1048576, \"=\" &A39,Series!$C$2:$C$1048576)","v":0},0]
[null,null,null,null,null,null,null,null,{"$f":"SUMIF('Bienes fideicomitidos'!$A$2:$A$1048576, \"=\" &A40,'Bienes fideicomitidos'!$C$2:$C$1048576)","v":0},null,null,null,null,{"$f":"SUMIF(Series!$A$2:$A$1048576, \"=\" &A40,Series!$C$2:$C$1048576)","v":0},0]
[null,null,null,null,null,null,null,null,{"$f":"SUMIF('Bienes fideicomitidos'!$A$2:$A$1048576, \"=\" &A41,'Bienes fideicomitidos'!$C$2:$C$1048576)","v":0},null,null,null,null,{"$f":"SUMIF(Series!$A$2:$A$1048576, \"=\" &A41,Series!$C$2:$C$1048576)","v":0},0]
[null,null,null,null,null,null,null,null,{"$f":"SUMIF('Bienes fideicomitidos'!$A$2:$A$1048576, \"=\" &A42,'Bienes fideicomitidos'!$C$2:$C$1048576)","v":0},null,null,null,null,{"$f":"SUMIF(Series!$A$2:$A$1048576, \"=\" &A42,Series!$C$2:$C$1048576)","v":0},0]
[null,null,null,null,null,null,null,null,{"$f":"SUMIF('Bienes fideicomitidos'!$A$2:$A$1048576, \"=\" &A43,'Bienes fideicomitidos'!$C$2:$C$1048576)","v":0},null,null,null,null,{"$f":"SUMIF(Series!$A$2:$A$1048576, \"=\" &A43,Series!$C$2:$C$1048576)","v":0},0]
[null,null,null,null,null,null,null,null,{"$f":"SUMIF('Bienes fideicomitidos'!$A$2:$A$1048576, \"=\" &A44,'Bienes fideicomitidos'!$C$2:$C$1048576)","v":0},null,null,null,null,{"$f":"SUMIF(Series!$A$2:$A$1048576, \"=\" &A44,Series!$C$2:$C$1048576)","v":0},0]
[null,null,null,null,null,null,null,null,{"$f":"SUMIF('Bienes fideicomitidos'!$A$2:$A$1048576, \"=\" &A45,'Bienes fideicomitidos'!$C$2:$C$1048576)","v":0},null,null,null,null,{"$f":"SUMIF(Series!$A$2:$A$1048576, \"=\" &A45,Series!$C$2:$C$1048576)","v":0},0]
[null,null,null,null,null,null,null,null,{"$f":"SUMIF('Bienes fideicomitidos'!$A$2:$A$1048576, \"=\" &A46,'Bienes fideicomitidos'!$C$2:$C$1048576)","v":0},null,null,null,null,{"$f":"SUMIF(Series!$A$2:$A$1048576, \"=\" &A46,Series!$C$2:$C$1048576)","v":0},0]
[null,null,null,null,null,null,null,null,{"$f":"SUMIF('Bienes fideicomitidos'!$A$2:$A$1048576, \"=\" &A47,'Bienes fideicomitidos'!$C$2:$C$1048576)","v":0},null,null,null,null,{"$f":"SUMIF(Series!$A$2:$A$1048576, \"=\" &A47,Series!$C$2:$C$1048576)","v":0},0]
[null,null,null,null,null,null,null,null,{"$f":"SUMIF('Bienes fideicomitidos'!$A$2:$A$1048576, \"=\" &A48,'Bienes fideicomitidos'!$C$2:$C$1048576)","v":0},null,null,null,null,{"$f":"SUMIF(Series!$A$2:$A$1048576, \"=\" &A48,Series!$C$2:$C$1048576)","v":0},0]
[null,null,null,null,null,null,null,null,{"$f":"SUMIF('Bienes fideicomitidos'!$A$2:$A$1048576, \"=\" &A49,'Bienes fideicomitidos'!$C$2:$C$1048576)","v":0},null,null,null,null,{"$f":"SUMIF(Series!$A$2:$A$1048576, \"=\" &A49,Series!$C$2:$C$1048576)","v":0},0]
[null,null,null,null,null,null,null,null,{"$f":"SUMIF('Bienes fideicomitidos'!$A$2:$A$1048576, \"=\" &A50,'Bienes fideicomitidos'!$C$2:$C$1048576)","v":0},null,null,null,null,{"$f":"SUMIF(Series!$A$2:$A$1048576, \"=\" &A50,Series!$C$2:$C$1048576)","v":0},0]
[null,null,null,null,null,null,null,null,{"$f":"SUMIF('Bienes fideicomitidos'!$A$2:$A$1048576, \"=\" &A51,'Bienes fideicomitidos'!$C$2:$C$1048576)","v":0},null,null,null,null,{"$f":"SUMIF(Series!$A$2:$A$1048576, \"=\" &A51,Series!$C$2:$C$1048576)","v":0},0]
[null,null,null,null,null,null,null,null,{"$f":"SUMIF('Bienes fideicomitidos'!$A$2:$A$1048576, \"=\" &A52,'Bienes fideicomitidos'!$C$2:$C$1048576)","v":0},null,null,null,null,{"$f":"SUMIF(Series!$A$2:$A$1048576, \"=\" &A52,Series!$C$2:$C$1048576)","v":0},0]
[null,null,null,null,null,null,null,null,{"$f":"SUMIF('Bienes fideicomitidos'!$A$2:$A$1048576, \"=\" &A53,'Bienes fideicomitidos'!$C$2:$C$1048576)","v":0},null,null,null,null,{"$f":"SUMIF(Series!$A$2:$A$1048576, \"=\" &A53,Series!$C$2:$C$1048576)","v":0},0]
[null,null,null,null,null,null,null,null,{"$f":"SUMIF('Bienes fideicomitidos'!$A$2:$A$1048576, \"=\" &A54,'Bienes fideicomitidos'!$C$2:$C$1048576)","v":0},null,null,null,null,{"$f":"SUMIF(Series!$A$2:$A$1048576, \"=\" &A54,Series!$C$2:$C$1048576)","v":0},0]
[null,null,null,null,null,null,null,null,{"$f":"SUMIF('Bienes fideicomitidos'!$A$2:$A$1048576, \"=\" &A55,'Bienes fideicomitidos'!$C$2:$C$1048576)","v":0},null,null,null,null,{"$f":"SUMIF(Series!$A$2:$A$1048576, \"=\" &A55,Series!$C$2:$C$1048576)","v":0},0]
[null,null,null,null,null,null,null,null,{"$f":"SUMIF('Bienes fideicomitidos'!$A$2:$A$1048576, \"=\" &A56,'Bienes fideicomitidos'!$C$2:$C$1048576)","v":0},null,null,null,null,{"$f":"SUMIF(Series!$A$2:$A$1048576, \"=\" &A56,Series!$C$2:$C$1048576)","v":0},0]
[null,null,null,null,null,null,null,null,{"$f":"SUMIF('Bienes fideicomitidos'!$A$2:$A$1048576, \"=\" &A57,'Bienes fideicomitidos'!$C$2:$C$1048576)","v":0},null,null,null,null,{"$f":"SUMIF(Series!$A$2:$A$1048576, \"=\" &A57,Series!$C$2:$C$1048576)","v":0},0]
[null,null,null,null,null,null,null,null,{"$f":"SUMIF('Bienes fideicomitidos'!$A$2:$A$1048576, \"=\" &A58,'Bienes fideicomitidos'!$C$2:$C$1048576)","v":0},null,null,null,null,{"$f":"SUMIF(Series!$A$2:$A$1048576, \"=\" &A58,Series!$C$2:$C$1048576)","v":0},0]
[null,null,null,null,null,null,null,null,{"$f":"SUMIF('Bienes fideicomitidos'!$A$2:$A$1048576, \"=\" &A59,'Bienes fideicomitidos'!$C$2:$C$1048576)","v":0},null,null,null,null,{"$f":"SUMIF(Series!$A$2:$A$1048576, \"=\" &A59,Series!$C$2:$C$1048576)","v":0},0]
[null,null,null,null,null,null,null,null,{"$f":"SUMIF('Bienes fideicomitidos'!$A$2:$A$1048576, \"=\" &A60,'Bienes fideicomitidos'!$C$2:$C$1048576)","v":0},null,null,null,null,{"$f":"SUMIF(Series!$A$2:$A$1048576, \"=\" &A60,Series!$C$2:$C$1048576)","v":0},0]
[null,null,null,null,null,null,null,null,{"$f":"SUMIF('Bienes fideicomitidos'!$A$2:$A$1048576, \"=\" &A61,'Bienes fideicomitidos'!$C$2:$C$1048576)","v":0},null,null,null,null,{"$f":"SUMIF(Series!$A$2:$A$1048576, \"=\" &A61,Series!$C$2:$C$1048576)","v":0},0]
[null,null,null,null,null,null,null,null,{"$f":"SUMIF('Bienes fideicomitidos'!$A$2:$A$1048576, \"=\" &A62,'Bienes fideicomitidos'!$C$2:$C$1048576)","v":0},null,null,null,null,{"$f":"SUMIF(Series!$A$2:$A$1048576, \"=\" &A62,Series!$C$2:$C$1048576)","v":0},0]
[null,null,null,null,null,null,null,null,{"$f":"SUMIF('Bienes fideicomitidos'!$A$2:$A$1048576, \"=\" &A63,'Bienes fideicomitidos'!$C$2:$C$1048576)","v":0},null,null,null,null,{"$f":"SUMIF(Series!$A$2:$A$1048576, \"=\" &A63,Series!$C$2:$C$1048576)","v":0},0]
[null,null,null,null,null,null,null,null,{"$f":"SUMIF('Bienes fideicomitidos'!$A$2:$A$1048576, \"=\" &A64,'Bienes fideicomitidos'!$C$2:$C$1048576)","v":0},null,null,null,null,{"$f":"SUMIF(Series!$A$2:$A$1048576, \"=\" &A64,Series!$C$2:$C$1048576)","v":0},0]
[null,null,null,null,null,null,null,null,{"$f":"SUMIF('Bienes fideicomitidos'!$A$2:$A$1048576, \"=\" &A65,'Bienes fideicomitidos'!$C$2:$C$1048576)","v":0},null,null,null,null,{"$f":"SUMIF(Series!$A$2:$A$1048576, \"=\" &A65,Series!$C$2:$C$1048576)","v":0},0]
[null,null,null,null,null,null,null,null,{"$f":"SUMIF('Bienes fideicomitidos'!$A$2:$A$1048576, \"=\" &A66,'Bienes fideicomitidos'!$C$2:$C$1048576)","v":0},null,null,null,null,{"$f":"SUMIF(Series!$A$2:$A$1048576, \"=\" &A66,Series!$C$2:$C$1048576)","v":0},0]
[null,null,null,null,null,null,null,null,{"$f":"SUMIF('Bienes fideicomitidos'!$A$2:$A$1048576, \"=\" &A67,'Bienes fideicomitidos'!$C$2:$C$1048576)","v":0},null,null,null,null,{"$f":"SUMIF(Series!$A$2:$A$1048576, \"=\" &A67,Series!$C$2:$C$1048576)","v":0},0]
[null,null,null,null,null,null,null,null,{"$f":"SUMIF('Bienes fideicomitidos'!$A$2:$A$1048576, \"=\" &A68,'Bienes fideicomitidos'!$C$2:$C$1048576)","v":0},null,null,null,null,{"$f":"SUMIF(Series!$A$2:$A$1048576, \"=\" &A68,Series!$C$2:$C$1048576)","v":0},0]
[null,null,null,null,null,null,null,null,{"$f":"SUMIF('Bienes fideicomitidos'!$A$2:$A$1048576, \"=\" &A69,'Bienes fideicomitidos'!$C$2:$C$1048576)","v":0},null,null,null,null,{"$f":"SUMIF(Series!$A$2:$A$1048576, \"=\" &A69,Series!$C$2:$C$1048576)","v":0},0]
[null,null,null,null,null,null,null,null,{"$f":"SUMIF('Bienes fideicomitidos'!$A$2:$A$1048576, \"=\" &A70,'Bienes fideicomitidos'!$C$2:$C$1048576)","v":0},null,null,null,null,{"$f":"SUMIF(Series!$A$2:$A$1048576, \"=\" &A70,Series!$C$2:$C$1048576)","v":0},0]
[null,null,null,null,null,null,null,null,{"$f":"SUMIF('Bienes fideicomitidos'!$A$2:$A$1048576, \"=\" &A71,'Bienes fideicomitidos'!$C$2:$C$1048576)","v":0},null,null,null,null,{"$f":"SUMIF(Series!$A$2:$A$1048576, \"=\" &A71,Series!$C$2:$C$1048576)","v":0},0]
[null,null,null,null,null,null,null,null,{"$f":"SUMIF('Bienes fideicomitidos'!$A$2:$A$1048576, \"=\" &A72,'Bienes fideicomitidos'!$C$2:$C$1048576)","v":0},null,null,null,null,{"$f":"SUMIF(Series!$A$2:$A$1048576, \"=\" &A72,Series!$C$2:$C$1048576)","v":0},0]
[null,null,null,null,null,null,null,null,{"$f":"SUMIF('Bienes fideicomitidos'!$A$2:$A$1048576, \"=\" &A73,'Bienes fideicomitidos'!$C$2:$C$1048576)","v":0},null,null,null,null,{"$f":"SUMIF(Series!$A$2:$A$1048576, \"=\" &A73,Series!$C$2:$C$1048576)","v":0},0]
[null,null,null,null,null,null,null,null,{"$f":"SUMIF('Bienes fideicomitidos'!$A$2:$A$1048576, \"=\" &A74,'Bienes fideicomitidos'!$C$2:$C$1048576)","v":0},null,null,null,null,{"$f":"SUMIF(Series!$A$2:$A$1048576, \"=\" &A74,Series!$C$2:$C$1048576)","v":0},0]
[null,null,null,null,null,null,null,null,{"$f":"SUMIF('Bienes fideicomitidos'!$A$2:$A$1048576, \"=\" &A75,'Bienes fideicomitidos'!$C$2:$C$1048576)","v":0},null,null,null,null,{"$f":"SUMIF(Series!$A$2:$A$1048576, \"=\" &A75,Series!$C$2:$C$1048576)","v":0},0]
[null,null,null,null,null,null,null,null,{"$f":"SUMIF('Bienes fideicomitidos'!$A$2:$A$1048576, \"=\" &A76,'Bienes fideicomitidos'!$C$2:$C$1048576)","v":0},null,null,null,null,{"$f":"SUMIF(Series!$A$2:$A$1048576, \"=\" &A76,Series!$C$2:$C$1048576)","v":0},0]
[null,null,null,null,null,null,null,null,{"$f":"SUMIF('Bienes fideicomitidos'!$A$2:$A$1048576, \"=\" &A77,'Bienes fideicomitidos'!$C$2:$C$1048576)","v":0},null,null,null,null,{"$f":"SUMIF(Series!$A$2:$A$1048576, \"=\" &A77,Series!$C$2:$C$1048576)","v":0},0]
[null,null,null,null,null,null,null,null,{"$f":"SUMIF('Bienes fideicomitidos'!$A$2:$A$1048576, \"=\" &A78,'Bienes fideicomitidos'!$C$2:$C$1048576)","v":0},null,null,null,null,{"$f":"SUMIF(Series!$A$2:$A$1048576, \"=\" &A78,Series!$C$2:$C$1048576)","v":0},{"$f":"IFERROR((I78/N78)*100,0)","v":0}]
[null,null,null,null,null,null,null,null,{"$f":"SUMIF('Bienes fideicomitidos'!$A$2:$A$1048576, \"=\" &A79,'Bienes fideicomitidos'!$C$2:$C$1048576)","v":0},null,null,null,null,{"$f":"SUMIF(Series!$A$2:$A$1048576, \"=\" &A79,Series!$C$2:$C$1048576)","v":0},0]
[null,null,null,null,null,null,null,null,{"$f":"SUMIF('Bienes fideicomitidos'!$A$2:$A$1048576, \"=\" &A80,'Bienes fideicomitidos'!$C$2:$C$1048576)","v":0},null,null,null,null,{"$f":"SUMIF(Series!$A$2:$A$1048576, \"=\" &A80,Series!$C$2:$C$1048576)","v":0},0]
[null,null,null,null,null,null,null,null,{"$f":"SUMIF('Bienes fideicomitidos'!$A$2:$A$1048576, \"=\" &A81,'Bienes fideicomitidos'!$C$2:$C$1048576)","v":0},null,null,null,null,{"$f":"SUMIF(Series!$A$2:$A$1048576, \"=\" &A81,Series!$C$2:$C$1048576)","v":0},0]
[null,null,null,null,null,null,null,null,{"$f":"SUMIF('Bienes fideicomitidos'!$A$2:$A$1048576, \"=\" &A82,'Bienes fideicomitidos'!$C$2:$C$1048576)","v":0},null,null,null,null,{"$f":"SUMIF(Series!$A$2:$A$1048576, \"=\" &A82,Series!$C$2:$C$1048576)","v":0},0]
[null,null,null,null,null,null,null,null,{"$f":"SUMIF('Bienes fideicomitidos'!$A$2:$A$1048576, \"=\" &A83,'Bienes fideicomitidos'!$C$2:$C$1048576)","v":0},null,null,null,null,{"$f":"SUMIF(Series!$A$2:$A$1048576, \"=\" &A83,Series!$C$2:$C$1048576)","v":0},0]
[null,null,null,null,null,null,null,null,{"$f":"SUMIF('Bienes fideicomitidos'!$A$2:$A$1048576, \"=\" &A84,'Bienes fideicomitidos'!$C$2:$C$1048576)","v":0},null,null,null,null,{"$f":"SUMIF(Series!$A$2:$A$1048576, \"=\" &A84,Series!$C$2:$C$1048576)","v":0},0]
[null,null,null,null,null,null,null,null,{"$f":"SUMIF('Bienes fideicomitidos'!$A$2:$A$1048576, \"=\" &A85,'Bienes fideicomitidos'!$C$2:$C$1048576)","v":0},null,null,null,null,{"$f":"SUMIF(Series!$A$2:$A$1048576, \"=\" &A85,Series!$C$2:$C$1048576)","v":0},0]
[null,null,null,null,null,null,null,null,{"$f":"SUMIF('Bienes fideicomitidos'!$A$2:$A$1048576, \"=\" &A86,'Bienes fideicomitidos'!$C$2:$C$1048576)","v":0},null,null,null,null,{"$f":"SUMIF(Series!$A$2:$A$1048576, \"=\" &A86,Series!$C$2:$C$1048576)","v":0},0]
[null,null,null,null,null,null,null,null,{"$f":"SUMIF('Bienes fideicomitidos'!$A$2:$A$1048576, \"=\" &A87,'Bienes fideicomitidos'!$C$2:$C$1048576)","v":0},null,null,null,null,{"$f":"SUMIF(Series!$A$2:$A$1048576, \"=\" &A87,Series!$C$2:$C$1048576)","v":0},0]
[null,null,null,null,null,null,null,null,{"$f":"SUMIF('Bienes fideicomitidos'!$A$2:$A$1048576, \"=\" &A88,'Bienes fideicomitidos'!$C$2:$C$1048576)","v":0},null,null,null,null,{"$f":"SUMIF(Series!$A$2:$A$1048576, \"=\" &A88,Series!$C$2:$C$1048576)","v":0},0]
[null,null,null,null,null,null,null,null,{"$f":"SUMIF('Bienes fideicomitidos'!$A$2:$A$1048576, \"=\" &A89,'Bienes fideicomitidos'!$C$2:$C$1048576)","v":0},null,null,null,null,{"$f":"SUMIF(Series!$A$2:$A$1048576, \"=\" &A89,Series!$C$2:$C$1048576)","v":0},0]
[null,null,null,null,null,null,null,null,{"$f":"SUMIF('Bienes fideicomitidos'!$A$2:$A$1048576, \"=\" &A90,'Bienes fideicomitidos'!$C$2:$C$1048576)","v":0},null,null,null,null,{"$f":"SUMIF(Series!$A$2:$A$1048576, \"=\" &A90,Series!$C$2:$C$1048576)","v":0},0]
[null,null,null,null,null,null,null,null,{"$f":"SUMIF('Bienes fideicomitidos'!$A$2:$A$1048576, \"=\" &A91,'Bienes fideicomitidos'!$C$2:$C$1048576)","v":0},null,null,null,null,{"$f":"SUMIF(Series!$A$2:$A$1048576, \"=\" &A91,Series!$C$2:$C$1048576)","v":0},0]
[null,null,null,null,null,null,null,null,{"$f":"SUMIF('Bienes fideicomitidos'!$A$2:$A$1048576, \"=\" &A92,'Bienes fideicomitidos'!$C$2:$C$1048576)","v":0},null,null,null,null,{"$f":"SUMIF(Series!$A$2:$A$1048576, \"=\" &A92,Series!$C$2:$C$1048576)","v":0},0]
[null,null,null,null,null,null,null,null,{"$f":"SUMIF('Bienes fideicomitidos'!$A$2:$A$1048576, \"=\" &A93,'Bienes fideicomitidos'!$C$2:$C$1048576)","v":0},null,null,null,null,{"$f":"SUMIF(Series!$A$2:$A$1048576, \"=\" &A93,Series!$C$2:$C$1048576)","v":0},0]
[null,null,null,null,null,null,null,null,{"$f":"SUMIF('Bienes fideicomitidos'!$A$2:$A$1048576, \"=\" &A94,'Bienes fideicomitidos'!$C$2:$C$1048576)","v":0},null,null,null,null,{"$f":"SUMIF(Series!$A$2:$A$1048576, \"=\" &A94,Series!$C$2:$C$1048576)","v":0},0]
[null,null,null,null,null,null,null,null,{"$f":"SUMIF('Bienes fideicomitidos'!$A$2:$A$1048576, \"=\" &A95,'Bienes fideicomitidos'!$C$2:$C$1048576)","v":0},null,null,null,null,{"$f":"SUMIF(Series!$A$2:$A$1048576, \"=\" &A95,Series!$C$2:$C$1048576)","v":0},0]
[null,null,null,null,null,null,null,null,{"$f":"SUMIF('Bienes fideicomitidos'!$A$2:$A$1048576, \"=\" &A96,'Bienes fideicomitidos'!$C$2:$C$1048576)","v":0},null,null,null,null,{"$f":"SUMIF(Series!$A$2:$A$1048576, \"=\" &A96,Series!$C$2:$C$1048576)","v":0},0]
[null,null,null,null,null,null,null,null,{"$f":"SUMIF('Bienes fideicomitidos'!$A$2:$A$1048576, \"=\" &A97,'Bienes fideicomitidos'!$C$2:$C$1048576)","v":0},null,null,null,null,{"$f":"SUMIF(Series!$A$2:$A$1048576, \"=\" &A97,Series!$C$2:$C$1048576)","v":0},0]
[null,null,null,null,null,null,null,null,{"$f":"SUMIF('Bienes fideicomitidos'!$A$2:$A$1048576, \"=\" &A98,'Bienes fideicomitidos'!$C$2:$C$1048576)","v":0},null,null,null,null,{"$f":"SUMIF(Series!$A$2:$A$1048576, \"=\" &A98,Series!$C$2:$C$1048576)","v":0},0]
[null,null,null,null,null,null,null,null,{"$f":"SUMIF('Bienes fideicomitidos'!$A$2:$A$1048576, \"=\" &A99,'Bienes fideicomitidos'!$C$2:$C$1048576)","v":0},null,null,null,null,{"$f":"SUMIF(Series!$A$2:$A$1048576, \"=\" &A99,Series!$C$2:$C$1048576)","v":0},0]
[null,null,null,null,null,null,null,null,{"$f":"SUMIF('Bienes fideicomitidos'!$A$2:$A$1048576, \"=\" &A100,'Bienes fideicomitidos'!$C$2:$C$1048576)","v":0},null,null,null,null,{"$f":"SUMIF(Series!$A$2:$A$1048576, \"=\" &A100,Series!$C$2:$C$1048576)","v":0},0]
[null,null,null,null,null,null,null,null,{"$f":"SUMIF('Bienes fideicomitidos'!$A$2:$A$1048576, \"=\" &A101,'Bienes fideicomitidos'!$C$2:$C$1048576)","v":0},null,null,null,null,{"$f":"SUMIF(Series!$A$2:$A$1048576, \"=\" &A101,Series!$C$2:$C$1048576)","v":0},0]
[null,null,null,null,null,null,null,null,{"$f":"SUMIF('Bienes fideicomitidos'!$A$2:$A$1048576, \"=\" &A102,'Bienes fideicomitidos'!$C$2:$C$1048576)","v":0},null,null,null,null,{"$f":"SUMIF(Series!$A$2:$A$1048576, \"=\" &A102,Series!$C$2:$C$1048576)","v":0},0]
[null,null,null,null,null,null,null,null,{"$f":"SUMIF('Bienes fideicomitidos'!$A$2:$A$1048576, \"=\" &A103,'Bienes fideicomitidos'!$C$2:$C$1048576)","v":0},null,null,null,null,{"$f":"SUMIF(Series!$A$2:$A$1048576, \"=\" &A103,Series!$C$2:$C$1048576)","v":0},0]
[null,null,null,null,null,null,null,null,{"$f":"SUMIF('Bienes fideicomitidos'!$A$2:$A$1048576, \"=\" &A104,'Bienes fideicomitidos'!$C$2:$C$1048576)","v":0},null,null,null,null,{"$f":"SUMIF(Series!$A$2:$A$1048576, \"=\" &A104,Series!$C$2:$C$1048576)","v":0},0]
[null,null,null,null,null,null,null,null,{"$f":"SUMIF('Bienes fideicomitidos'!$A$2:$A$1048576, \"=\" &A105,'Bienes fideicomitidos'!$C$2:$C$1048576)","v":0},null,null,null,null,{"$f":"SUMIF(Series!$A$2:$A$1048576, \"=\" &A105,Series!$C$2:$C$1048576)","v":0},0]
[null,null,null,null,null,null,null,null,{"$f":"SUMIF('Bienes fideicomitidos'!$A$2:$A$1048576, \"=\" &A106,'Bienes fideicomitidos'!$C$2:$C$1048576)","v":0},null,null,null,null,{"$f":"SUMIF(Series!$A$2:$A$1048576, \"=\" &A106,Series!$C$2:$C$1048576)","v":0},0]
[null,null,null,null,null,null,null,null,{"$f":"SUMIF('Bienes fideicomitidos'!$A$2:$A$1048576, \"=\" &A107,'Bienes fideicomitidos'!$C$2:$C$1048576)","v":0},null,null,null,null,{"$f":"SUMIF(Series!$A$2:$A$1048576, \"=\" &A107,Series!$C$2:$C$1048576)","v":0},0]
[null,null,null,null,null,null,null,null,{"$f":"SUMIF('Bienes fideicomitidos'!$A$2:$A$1048576, \"=\" &A108,'Bienes fideicomitidos'!$C$2:$C$1048576)","v":0},null,null,null,null,{"$f":"SUMIF(Series!$A$2:$A$1048576, \"=\" &A108,Series!$C$2:$C$1048576)","v":0},0]
[null,null,null,null,null,null,null,null,{"$f":"SUMIF('Bienes fideicomitidos'!$A$2:$A$1048576, \"=\" &A109,'Bienes fideicomitidos'!$C$2:$C$1048576)","v":0},null,null,null,null,{"$f":"SUMIF(Series!$A$2:$A$1048576, \"=\" &A109,Series!$C$2:$C$1048576)","v":0},0]
[null,null,null,null,null,null,null,null,{"$f":"SUMIF('Bienes fideicomitidos'!$A$2:$A$1048576, \"=\" &A110,'Bienes fideicomitidos'!$C$2:$C$1048576)","v":0},null,null,null,null,{"$f":"SUMIF(Series!$A$2:$A$1048576, \"=\" &A110,Series!$C$2:$C$1048576)","v":0},0]
[null,null,null,null,null,null,null,null,{"$f":"SUMIF('Bienes fideicomitidos'!$A$2:$A$1048576, \"=\" &A111,'Bienes fideicomitidos'!$C$2:$C$1048576)","v":0},null,null,null,null,{"$f":"SUMIF(Series!$A$2:$A$1048576, \"=\" &A111,Series!$C$2:$C$1048576)","v":0},0]
[null,null,null,null,null,null,null,null,{"$f":"SUMIF('Bienes fideicomitidos'!$A$2:$A$1048576, \"=\" &A112,'Bienes fideicomitidos'!$C$2:$C$1048576)","v":0},null,null,null,null,{"$f":"SUMIF(Series!$A$2:$A$1048576, \"=\" &A112,Series!$C$2:$C$1048576)","v":0},0]
[null,null,null,null,null,null,null,null,{"$f":"SUMIF('Bienes fideicomitidos'!$A$2:$A$1048576, \"=\" &A113,'Bienes fideicomitidos'!$C$2:$C$1048576)","v":0},null,null,null,null,{"$f":"SUMIF(Series!$A$2:$A$1048576, \"=\" &A113,Series!$C$2:$C$1048576)","v":0},0]
[null,null,null,null,null,null,null,null,{"$f":"SUMIF('Bienes fideicomitidos'!$A$2:$A$1048576, \"=\" &A114,'Bienes fideicomitidos'!$C$2:$C$1048576)","v":0},null,null,null,null,{"$f":"SUMIF(Series!$A$2:$A$1048576, \"=\" &A114,Series!$C$2:$C$1048576)","v":0},0]
[null,null,null,null,null,null,null,null,{"$f":"SUMIF('Bienes fideicomitidos'!$A$2:$A$1048576, \"=\" &A115,'Bienes fideicomitidos'!$C$2:$C$1048576)","v":0},null,null,null,null,{"$f":"SUMIF(Series!$A$2:$A$1048576, \"=\" &A115,Series!$C$2:$C$1048576)","v":0},0]
[null,null,null,null,null,null,null,null,{"$f":"SUMIF('Bienes fideicomitidos'!$A$2:$A$1048576, \"=\" &A116,'Bienes fideicomitidos'!$C$2:$C$1048576)","v":0},null,null,null,null,{"$f":"SUMIF(Series!$A$2:$A$1048576, \"=\" &A116,Series!$C$2:$C$1048576)","v":0},0]
[null,null,null,null,null,null,null,null,{"$f":"SUMIF('Bienes fideicomitidos'!$A$2:$A$1048576, \"=\" &A117,'Bienes fideicomitidos'!$C$2:$C$1048576)","v":0},null,null,null,null,{"$f":"SUMIF(Series!$A$2:$A$1048576, \"=\" &A117,Series!$C$2:$C$1048576)","v":0},0]
[null,null,null,null,null,null,null,null,{"$f":"SUMIF('Bienes fideicomitidos'!$A$2:$A$1048576, \"=\" &A118,'Bienes fideicomitidos'!$C$2:$C$1048576)","v":0},null,null,null,null,{"$f":"SUMIF(Series!$A$2:$A$1048576, \"=\" &A118,Series!$C$2:$C$1048576)","v":0},0]
[null,null,null,null,null,null,null,null,{"$f":"SUMIF('Bienes fideicomitidos'!$A$2:$A$1048576, \"=\" &A119,'Bienes fideicomitidos'!$C$2:$C$1048576)","v":0},null,null,null,null,{"$f":"SUMIF(Series!$A$2:$A$1048576, \"=\" &A119,Series!$C$2:$C$1048576)","v":0},0]
[null,null,null,null,null,null,null,null,{"$f":"SUMIF('Bienes fideicomitidos'!$A$2:$A$1048576, \"=\" &A120,'Bienes fideicomitidos'!$C$2:$C$1048576)","v":0},null,null,null,null,{"$f":"SUMIF(Series!$A$2:$A$1048576, \"=\" &A120,Series!$C$2:$C$1048576)","v":0},0]
[null,null,null,null,null,null,null,null,{"$f":"SUMIF('Bienes fideicomitidos'!$A$2:$A$1048576, \"=\" &A121,'Bienes fideicomitidos'!$C$2:$C$1048576)","v":0},null,null,null,null,{"$f":"SUMIF(Series!$A$2:$A$1048576, \"=\" &A121,Series!$C$2:$C$1048576)","v":0},0]
[null,null,null,null,null,null,null,null,{"$f":"SUMIF('Bienes fideicomitidos'!$A$2:$A$1048576, \"=\" &A122,'Bienes fideicomitidos'!$C$2:$C$1048576)","v":0},null,null,null,null,{"$f":"SUMIF(Series!$A$2:$A$1048576, \"=\" &A122,Series!$C$2:$C$1048576)","v":0},0]
[null,null,null,null,null,null,null,null,{"$f":"SUMIF('Bienes fideicomitidos'!$A$2:$A$1048576, \"=\" &A123,'Bienes fideicomitidos'!$C$2:$C$1048576)","v":0},null,null,null,null,{"$f":"SUMIF(Series!$A$2:$A$1048576, \"=\" &A123,Series!$C$2:$C$1048576)","v":0},0]
[null,null,null,null,null,null,null,null,{"$f":"SUMIF('Bienes fideicomitidos'!$A$2:$A$1048576, \"=\" &A124,'Bienes fideicomitidos'!$C$2:$C$1048576)","v":0},null,null,null,null,{"$f":"SUMIF(Series!$A$2:$A$1048576, \"=\" &A124,Series!$C$2:$C$1048576)","v":0},0]
[null,null,null,null,null,null,null,null,{"$f":"SUMIF('Bienes fideicomitidos'!$A$2:$A$1048576, \"=\" &A125,'Bienes fideicomitidos'!$C$2:$C$1048576)","v":0},null,null,null,null,{"$f":"SUMIF(Series!$A$2:$A$1048576, \"=\" &A125,Series!$C$2:$C$1048576)","v":0},0]
[null,null,null,null,null,null,null,null,{"$f":"SUMIF('Bienes fideicomitidos'!$A$2:$A$1048576, \"=\" &A126,'Bienes fideicomitidos'!$C$2:$C$1048576)","v":0},null,null,null,null,{"$f":"SUMIF(Series!$A$2:$A$1048576, \"=\" &A126,Series!$C$2:$C$1048576)","v":0},0]
[null,null,null,null,null,null,null,null,{"$f":"SUMIF('Bienes fideicomitidos'!$A$2:$A$1048576, \"=\" &A127,'Bienes fideicomitidos'!$C$2:$C$1048576)","v":0},null,null,null,null,{"$f":"SUMIF(Series!$A$2:$A$1048576, \"=\" &A127,Series!$C$2:$C$1048576)","v":0},0]
[null,null,null,null,null,null,null,null,{"$f":"SUMIF('Bienes fideicomitidos'!$A$2:$A$1048576, \"=\" &A128,'Bienes fideicomitidos'!$C$2:$C$1048576)","v":0},null,null,null,null,{"$f":"SUMIF(Series!$A$2:$A$1048576, \"=\" &A128,Series!$C$2:$C$1048576)","v":0},0]
[null,null,null,null,null,null,null,null,{"$f":"SUMIF('Bienes fideicomitidos'!$A$2:$A$1048576, \"=\" &A129,'Bienes fideicomitidos'!$C$2:$C$1048576)","v":0},null,null,null,null,{"$f":"SUMIF(Series!$A$2:$A$1048576, \"=\" &A129,Series!$C$2:$C$1048576)","v":0},0]
[null,null,null,null,null,null,null,null,{"$f":"SUMIF('Bienes fideicomitidos'!$A$2:$A$1048576, \"=\" &A130,'Bienes fideicomitidos'!$C$2:$C$1048576)","v":0},null,null,null,null,{"$f":"SUMIF(Series!$A$2:$A$1048576, \"=\" &A130,Series!$C$2:$C$1048576)","v":0},0]
[null,null,null,null,null,null,null,null,{"$f":"SUMIF('Bienes fideicomitidos'!$A$2:$A$1048576, \"=\" &A131,'Bienes fideicomitidos'!$C$2:$C$1048576)","v":0},null,null,null,null,{"$f":"SUMIF(Series!$A$2:$A$1048576, \"=\" &A131,Series!$C$2:$C$1048576)","v":0},0]
[null,null,null,null,null,null,null,null,{"$f":"SUMIF('Bienes fideicomitidos'!$A$2:$A$1048576, \"=\" &A132,'Bienes fideicomitidos'!$C$2:$C$1048576)","v":0},null,null,null,null,{"$f":"SUMIF(Series!$A$2:$A$1048576, \"=\" &A132,Series!$C$2:$C$1048576)","v":0},0]
[null,null,null,null,null,null,null,null,{"$f":"SUMIF('Bienes fideicomitidos'!$A$2:$A$1048576, \"=\" &A133,'Bienes fideicomitidos'!$C$2:$C$1048576)","v":0},null,null,null,null,{"$f":"SUMIF(Series!$A$2:$A$1048576, \"=\" &A133,Series!$C$2:$C$1048576)","v":0},0]
[null,null,null,null,null,null,null,null,{"$f":"SUMIF('Bienes fideicomitidos'!$A$2:$A$1048576, \"=\" &A134,'Bienes fideicomitidos'!$C$2:$C$1048576)","v":0},null,null,null,null,{"$f":"SUMIF(Series!$A$2:$A$1048576, \"=\" &A134,Series!$C$2:$C$1048576)","v":0},0]
[null,null,null,null,null,null,null,null,{"$f":"SUMIF('Bienes fideicomitidos'!$A$2:$A$1048576, \"=\" &A135,'Bienes fideicomitidos'!$C$2:$C$1048576)","v":0},null,null,null,null,{"$f":"SUMIF(Series!$A$2:$A$1048576, \"=\" &A135,Series!$C$2:$C$1048576)","v":0},0]
[null,null,null,null,null,null,null,null,{"$f":"SUMIF('Bienes fideicomitidos'!$A$2:$A$1048576, \"=\" &A136,'Bienes fideicomitidos'!$C$2:$C$1048576)","v":0},null,null,null,null,{"$f":"SUMIF(Series!$A$2:$A$1048576, \"=\" &A136,Series!$C$2:$C$1048576)","v":0},0]
[null,null,null,null,null,null,null,null,{"$f":"SUMIF('Bienes fideicomitidos'!$A$2:$A$1048576, \"=\" &A137,'Bienes fideicomitidos'!$C$2:$C$1048576)","v":0},null,null,null,null,{"$f":"SUMIF(Series!$A$2:$A$1048576, \"=\" &A137,Series!$C$2:$C$1048576)","v":0},0]
[null,null,null,null,null,null,null,null,{"$f":"SUMIF('Bienes fideicomitidos'!$A$2:$A$1048576, \"=\" &A138,'Bienes fideicomitidos'!$C$2:$C$1048576)","v":0},null,null,null,null,{"$f":"SUMIF(Series!$A$2:$A$1048576, \"=\" &A138,Series!$C$2:$C$1048576)","v":0},0]
[null,null,null,null,null,null,null,null,{"$f":"SUMIF('Bienes fideicomitidos'!$A$2:$A$1048576, \"=\" &A139,'Bienes fideicomitidos'!$C$2:$C$1048576)","v":0},null,null,null,null,{"$f":"SUMIF(Series!$A$2:$A$1048576, \"=\" &A139,Series!$C$2:$C$1048576)","v":0},0]
[null,null,null,null,null,null,null,null,{"$f":"SUMIF('Bienes fideicomitidos'!$A$2:$A$1048576, \"=\" &A140,'Bienes fideicomitidos'!$C$2:$C$1048576)","v":0},null,null,null,null,{"$f":"SUMIF(Series!$A$2:$A$1048576, \"=\" &A140,Series!$C$2:$C$1048576)","v":0},0]
[null,null,null,null,null,null,null,null,{"$f":"SUMIF('Bienes fideicomitidos'!$A$2:$A$1048576, \"=\" &A141,'Bienes fideicomitidos'!$C$2:$C$1048576)","v":0},null,null,null,null,{"$f":"SUMIF(Series!$A$2:$A$1048576, \"=\" &A141,Series!$C$2:$C$1048576)","v":0},0]
[null,null,null,null,null,null,null,null,{"$f":"SUMIF('Bienes fideicomitidos'!$A$2:$A$1048576, \"=\" &A142,'Bienes fideicomitidos'!$C$2:$C$1048576)","v":0},null,null,null,null,{"$f":"SUMIF(Series!$A$2:$A$1048576, \"=\" &A142,Series!$C$2:$C$1048576)","v":0},{"$f":"IFERROR((I142/N142)*100,0)","v":0}]
[null,null,null,null,null,null,null,null,{"$f":"SUMIF('Bienes fideicomitidos'!$A$2:$A$1048576, \"=\" &A143,'Bienes fideicomitidos'!$C$2:$C$1048576)","v":0},null,null,null,null,{"$f":"SUMIF(Series!$A$2:$A$1048576, \"=\" &A143,Series!$C$2:$C$1048576)","v":0},0]
[null,null,null,null,null,null,null,null,{"$f":"SUMIF('Bienes fideicomitidos'!$A$2:$A$1048576, \"=\" &A144,'Bienes fideicomitidos'!$C$2:$C$1048576)","v":0},null,null,null,null,{"$f":"SUMIF(Series!$A$2:$A$1048576, \"=\" &A144,Series!$C$2:$C$1048576)","v":0},0]
[null,null,null,null,null,null,null,null,{"$f":"SUMIF('Bienes fideicomitidos'!$A$2:$A$1048576, \"=\" &A145,'Bienes fideicomitidos'!$C$2:$C$1048576)","v":0},null,null,null,null,{"$f":"SUMIF(Series!$A$2:$A$1048576, \"=\" &A145,Series!$C$2:$C$1048576)","v":0},0]
[null,null,null,null,null,null,null,null,{"$f":"SUMIF('Bienes fideicomitidos'!$A$2:$A$1048576, \"=\" &A146,'Bienes fideicomitidos'!$C$2:$C$1048576)","v":0},null,null,null,null,{"$f":"SUMIF(Series!$A$2:$A$1048576, \"=\" &A146,Series!$C$2:$C$1048576)","v":0},0]
[null,null,null,null,null,null,null,null,{"$f":"SUMIF('Bienes fideicomitidos'!$A$2:$A$1048576, \"=\" &A147,'Bienes fideicomitidos'!$C$2:$C$1048576)","v":0},null,null,null,null,{"$f":"SUMIF(Series!$A$2:$A$1048576, \"=\" &A147,Series!$C$2:$C$1048576)","v":0},0]
[null,null,null,null,null,null,null,null,{"$f":"SUMIF('Bienes fideicomitidos'!$A$2:$A$1048576, \"=\" &A148,'Bienes fideicomitidos'!$C$2:$C$1048576)","v":0},null,null,null,null,{"$f":"SUMIF(Series!$A$2:$A$1048576, \"=\" &A148,Series!$C$2:$C$1048576)","v":0},0]
[null,null,null,null,null,null,null,null,{"$f":"SUMIF('Bienes fideicomitidos'!$A$2:$A$1048576, \"=\" &A149,'Bienes fideicomitidos'!$C$2:$C$1048576)","v":0},null,null,null,null,{"$f":"SUMIF(Series!$A$2:$A$1048576, \"=\" &A149,Series!$C$2:$C$1048576)","v":0},0]
[null,null,null,null,null,null,null,null,{"$f":"SUMIF('Bienes fideicomitidos'!$A$2:$A$1048576, \"=\" &A150,'Bienes fideicomitidos'!$C$2:$C$1048576)","v":0},null,null,null,null,{"$f":"SUMIF(Series!$A$2:$A$1048576, \"=\" &A150,Series!$C$2:$C$1048576)","v":0},0]
[null,null,null,null,null,null,null,null,{"$f":"SUMIF('Bienes fideicomitidos'!$A$2:$A$1048576, \"=\" &A151,'Bienes fideicomitidos'!$C$2:$C$1048576)","v":0},null,null,null,null,{"$f":"SUMIF(Series!$A$2:$A$1048576, \"=\" &A151,Series!$C$2:$C$1048576)","v":0},0]
[null,null,null,null,null,null,null,null,{"$f":"SUMIF('Bienes fideicomitidos'!$A$2:$A$1048576, \"=\" &A152,'Bienes fideicomitidos'!$C$2:$C$1048576)","v":0},null,null,null,null,{"$f":"SUMIF(Series!$A$2:$A$1048576, \"=\" &A152,Series!$C$2:$C$1048576)","v":0},0]
[null,null,null,null,null,null,null,null,{"$f":"SUMIF('Bienes fideicomitidos'!$A$2:$A$1048576, \"=\" &A153,'Bienes fideicomitidos'!$C$2:$C$1048576)","v":0},null,null,null,null,{"$f":"SUMIF(Series!$A$2:$A$1048576, \"=\" &A153,Series!$C$2:$C$1048576)","v":0},0]
[null,null,null,null,null,null,null,null,{"$f":"SUMIF('Bienes fideicomitidos'!$A$2:$A$1048576, \"=\" &A154,'Bienes fideicomitidos'!$C$2:$C$1048576)","v":0},null,null,null,null,{"$f":"SUMIF(Series!$A$2:$A$1048576, \"=\" &A154,Series!$C$2:$C$1048576)","v":0},0]
[null,null,null,null,null,null,null,null,{"$f":"SUMIF('Bienes fideicomitidos'!$A$2:$A$1048576, \"=\" &A155,'Bienes fideicomitidos'!$C$2:$C$1048576)","v":0},null,null,null,null,{"$f":"SUMIF(Series!$A$2:$A$1048576, \"=\" &A155,Series!$C$2:$C$1048576)","v":0},0]
[null,null,null,null,null,null,null,null,{"$f":"SUMIF('Bienes fideicomitidos'!$A$2:$A$1048576, \"=\" &A156,'Bienes fideicomitidos'!$C$2:$C$1048576)","v":0},null,null,null,null,{"$f":"SUMIF(Series!$A$2:$A$1048576, \"=\" &A156,Series!$C$2:$C$1048576)","v":0},0]
[null,null,null,null,null,null,null,null,{"$f":"SUMIF('Bienes fideicomitidos'!$A$2:$A$1048576, \"=\" &A157,'Bienes fideicomitidos'!$C$2:$C$1048576)","v":0},null,null,null,null,{"$f":"SUMIF(Series!$A$2:$A$1048576, \"=\" &A157,Series!$C$2:$C$1048576)","v":0},0]
[null,null,null,null,null,null,null,null,{"$f":"SUMIF('Bienes fideicomitidos'!$A$2:$A$1048576, \"=\" &A158,'Bienes fideicomitidos'!$C$2:$C$1048576)","v":0},null,null,null,null,{"$f":"SUMIF(Series!$A$2:$A$1048576, \"=\" &A158,Series!$C$2:$C$1048576)","v":0},0]
[null,null,null,null,null,null,null,null,{"$f":"SUMIF('Bienes fideicomitidos'!$A$2:$A$1048576, \"=\" &A159,'Bienes fideicomitidos'!$C$2:$C$1048576)","v":0},null,null,null,null,{"$f":"SUMIF(Series!$A$2:$A$1048576, \"=\" &A159,Series!$C$2:$C$1048576)","v":0},0]
[null,null,null,null,null,null,null,null,{"$f":"SUMIF('Bienes fideicomitidos'!$A$2:$A$1048576, \"=\" &A160,'Bienes fideicomitidos'!$C$2:$C$1048576)","v":0},null,null,null,null,{"$f":"SUMIF(Series!$A$2:$A$1048576, \"=\" &A160,Series!$C$2:$C$1048576)","v":0},0]
[null,null,null,null,null,null,null,null,{"$f":"SUMIF('Bienes fideicomitidos'!$A$2:$A$1048576, \"=\" &A161,'Bienes fideicomitidos'!$C$2:$C$1048576)","v":0},null,null,null,null,{"$f":"SUMIF(Series!$A$2:$A$1048576, \"=\" &A161,Series!$C$2:$C$1048576)","v":0},0]
[null,null,null,null,null,null,null,null,{"$f":"SUMIF('Bienes fideicomitidos'!$A$2:$A$1048576, \"=\" &A162,'Bienes fideicomitidos'!$C$2:$C$1048576)","v":0},null,null,null,null,{"$f":"SUMIF(Series!$A$2:$A$1048576, \"=\" &A162,Series!$C$2:$C$1048576)","v":0},0]
[null,null,null,null,null,null,null,null,{"$f":"SUMIF('Bienes fideicomitidos'!$A$2:$A$1048576, \"=\" &A163,'Bienes fideicomitidos'!$C$2:$C$1048576)","v":0},null,null,null,null,{"$f":"SUMIF(Series!$A$2:$A$1048576, \"=\" &A163,Series!$C$2:$C$1048576)","v":0},0]
[null,null,null,null,null,null,null,null,{"$f":"SUMIF('Bienes fideicomitidos'!$A$2:$A$1048576, \"=\" &A164,'Bienes fideicomitidos'!$C$2:$C$1048576)","v":0},null,null,null,null,{"$f":"SUMIF(Series!$A$2:$A$1048576, \"=\" &A164,Series!$C$2:$C$1048576)","v":0},0]
[null,null,null,null,null,null,null,null,{"$f":"SUMIF('Bienes fideicomitidos'!$A$2:$A$1048576, \"=\" &A165,'Bienes fideicomitidos'!$C$2:$C$1048576)","v":0},null,null,null,null,{"$f":"SUMIF(Series!$A$2:$A$1048576, \"=\" &A165,Series!$C$2:$C$1048576)","v":0},0]
[null,null,null,null,null,null,null,null,{"$f":"SUMIF('Bienes fideicomitidos'!$A$2:$A$1048576, \"=\" &A166,'Bienes fideicomitidos'!$C$2:$C$1048576)","v":0},null,null,null,null,{"$f":"SUMIF(Series!$A$2:$A$1048576, \"=\" &A166,Series!$C$2:$C$1048576)","v":0},0]
[null,null,null,null,null,null,null,null,{"$f":"SUMIF('Bienes fideicomitidos'!$A$2:$A$1048576, \"=\" &A167,'Bienes fideicomitidos'!$C$2:$C$1048576)","v":0},null,null,null,null,{"$f":"SUMIF(Series!$A$2:$A$1048576, \"=\" &A167,Series!$C$2:$C$1048576)","v":0},0]
[null,null,null,null,null,null,null,null,{"$f":"SUMIF('Bienes fideicomitidos'!$A$2:$A$1048576, \"=\" &A168,'Bienes fideicomitidos'!$C$2:$C$1048576)","v":0},null,null,null,null,{"$f":"SUMIF(Series!$A$2:$A$1048576, \"=\" &A168,Series!$C$2:$C$1048576)","v":0},0]
[null,null,null,null,null,null,null,null,{"$f":"SUMIF('Bienes fideicomitidos'!$A$2:$A$1048576, \"=\" &A169,'Bienes fideicomitidos'!$C$2:$C$1048576)","v":0},null,null,null,null,{"$f":"SUMIF(Series!$A$2:$A$1048576, \"=\" &A169,Series!$C$2:$C$1048576)","v":0},0]
[null,null,null,null,null,null,null,null,{"$f":"SUMIF('Bienes fideicomitidos'!$A$2:$A$1048576, \"=\" &A170,'Bienes fideicomitidos'!$C$2:$C$1048576)","v":0},null,null,null,null,{"$f":"SUMIF(Series!$A$2:$A$1048576, \"=\" &A170,Series!$C$2:$C$1048576)","v":0},0]
[null,null,null,null,null,null,null,null,{"$f":"SUMIF('Bienes fideicomitidos'!$A$2:$A$1048576, \"=\" &A171,'Bienes fideicomitidos'!$C$2:$C$1048576)","v":0},null,null,null,null,{"$f":"SUMIF(Series!$A$2:$A$1048576, \"=\" &A171,Series!$C$2:$C$1048576)","v":0},0]
[null,null,null,null,null,null,null,null,{"$f":"SUMIF('Bienes fideicomitidos'!$A$2:$A$1048576, \"=\" &A172,'Bienes fideicomitidos'!$C$2:$C$1048576)","v":0},null,null,null,null,{"$f":"SUMIF(Series!$A$2:$A$1048576, \"=\" &A172,Series!$C$2:$C$1048576)","v":0},0]
[null,null,null,null,null,null,null,null,{"$f":"SUMIF('Bienes fideicomitidos'!$A$2:$A$1048576, \"=\" &A173,'Bienes fideicomitidos'!$C$2:$C$1048576)","v":0},null,null,null,null,{"$f":"SUMIF(Series!$A$2:$A$1048576, \"=\" &A173,Series!$C$2:$C$1048576)","v":0},0]
[null,null,null,null,null,null,null,null,{"$f":"SUMIF('Bienes fideicomitidos'!$A$2:$A$1048576, \"=\" &A174,'Bienes fideicomitidos'!$C$2:$C$1048576)","v":0},null,null,null,null,{"$f":"SUMIF(Series!$A$2:$A$1048576, \"=\" &A174,Series!$C$2:$C$1048576)","v":0},0]
[null,null,null,null,null,null,null,null,{"$f":"SUMIF('Bienes fideicomitidos'!$A$2:$A$1048576, \"=\" &A175,'Bienes fideicomitidos'!$C$2:$C$1048576)","v":0},null,null,null,null,{"$f":"SUMIF(Series!$A$2:$A$1048576, \"=\" &A175,Series!$C$2:$C$1048576)","v":0},0]
[null,null,null,null,null,null,null,null,{"$f":"SUMIF('Bienes fideicomitidos'!$A$2:$A$1048576, \"=\" &A176,'Bienes fideicomitidos'!$C$2:$C$1048576)","v":0},null,null,null,null,{"$f":"SUMIF(Series!$A$2:$A$1048576, \"=\" &A176,Series!$C$2:$C$1048576)","v":0},0]
[null,null,null,null,null,null,null,null,{"$f":"SUMIF('Bienes fideicomitidos'!$A$2:$A$1048576, \"=\" &A177,'Bienes fideicomitidos'!$C$2:$C$1048576)","v":0},null,null,null,null,{"$f":"SUMIF(Series!$A$2:$A$1048576, \"=\" &A177,Series!$C$2:$C$1048576)","v":0},0]
[null,null,null,null,null,null,null,null,{"$f":"SUMIF('Bienes fideicomitidos'!$A$2:$A$1048576, \"=\" &A178,'Bienes fideicomitidos'!$C$2:$C$1048576)","v":0},null,null,null,null,{"$f":"SUMIF(Series!$A$2:$A$1048576, \"=\" &A178,Series!$C$2:$C$1048576)","v":0},0]
[null,null,null,null,null,null,null,null,{"$f":"SUMIF('Bienes fideicomitidos'!$A$2:$A$1048576, \"=\" &A179,'Bienes fideicomitidos'!$C$2:$C$1048576)","v":0},null,null,null,null,{"$f":"SUMIF(Series!$A$2:$A$1048576, \"=\" &A179,Series!$C$2:$C$1048576)","v":0},0]
[null,null,null,null,null,null,null,null,{"$f":"SUMIF('Bienes fideicomitidos'!$A$2:$A$1048576, \"=\" &A180,'Bienes fideicomitidos'!$C$2:$C$1048576)","v":0},null,null,null,null,{"$f":"SUMIF(Series!$A$2:$A$1048576, \"=\" &A180,Series!$C$2:$C$1048576)","v":0},0]
[null,null,null,null,null,null,null,null,{"$f":"SUMIF('Bienes fideicomitidos'!$A$2:$A$1048576, \"=\" &A181,'Bienes fideicomitidos'!$C$2:$C$1048576)","v":0},null,null,null,null,{"$f":"SUMIF(Series!$A$2:$A$1048576, \"=\" &A181,Series!$C$2:$C$1048576)","v":0},0]
[null,null,null,null,null,null,null,null,{"$f":"SUMIF('Bienes fideicomitidos'!$A$2:$A$1048576, \"=\" &A182,'Bienes fideicomitidos'!$C$2:$C$1048576)","v":0},null,null,null,null,{"$f":"SUMIF(Series!$A$2:$A$1048576, \"=\" &A182,Series!$C$2:$C$1048576)","v":0},0]
[null,null,null,null,null,null,null,null,{"$f":"SUMIF('Bienes fideicomitidos'!$A$2:$A$1048576, \"=\" &A183,'Bienes fideicomitidos'!$C$2:$C$1048576)","v":0},null,null,null,null,{"$f":"SUMIF(Series!$A$2:$A$1048576, \"=\" &A183,Series!$C$2:$C$1048576)","v":0},0]
[null,null,null,null,null,null,null,null,{"$f":"SUMIF('Bienes fideicomitidos'!$A$2:$A$1048576, \"=\" &A184,'Bienes fideicomitidos'!$C$2:$C$1048576)","v":0},null,null,null,null,{"$f":"SUMIF(Series!$A$2:$A$1048576, \"=\" &A184,Series!$C$2:$C$1048576)","v":0},0]
[null,null,null,null,null,null,null,null,{"$f":"SUMIF('Bienes fideicomitidos'!$A$2:$A$1048576, \"=\" &A185,'Bienes fideicomitidos'!$C$2:$C$1048576)","v":0},null,null,null,null,{"$f":"SUMIF(Series!$A$2:$A$1048576, \"=\" &A185,Series!$C$2:$C$1048576)","v":0},0]
[null,null,null,null,null,null,null,null,{"$f":"SUMIF('Bienes fideicomitidos'!$A$2:$A$1048576, \"=\" &A186,'Bienes fideicomitidos'!$C$2:$C$1048576)","v":0},null,null,null,null,{"$f":"SUMIF(Series!$A$2:$A$1048576, \"=\" &A186,Series!$C$2:$C$1048576)","v":0},0]
[null,null,null,null,null,null,null,null,{"$f":"SUMIF('Bienes fideicomitidos'!$A$2:$A$1048576, \"=\" &A187,'Bienes fideicomitidos'!$C$2:$C$1048576)","v":0},null,null,null,null,{"$f":"SUMIF(Series!$A$2:$A$1048576, \"=\" &A187,Series!$C$2:$C$1048576)","v":0},0]
[null,null,null,null,null,null,null,null,{"$f":"SUMIF('Bienes fideicomitidos'!$A$2:$A$1048576, \"=\" &A188,'Bienes fideicomitidos'!$C$2:$C$1048576)","v":0},null,null,null,null,{"$f":"SUMIF(Series!$A$2:$A$1048576, \"=\" &A188,Series!$C$2:$C$1048576)","v":0},0]
[null,null,null,null,null,null,null,null,{"$f":"SUMIF('Bienes fideicomitidos'!$A$2:$A$1048576, \"=\" &A189,'Bienes fideicomitidos'!$C$2:$C$1048576)","v":0},null,null,null,null,{"$f":"SUMIF(Series!$A$2:$A$1048576, \"=\" &A189,Series!$C$2:$C$1048576)","v":0},0]
[null,null,null,null,null,null,null,null,{"$f":"SUMIF('Bienes fideicomitidos'!$A$2:$A$1048576, \"=\" &A190,'Bienes fideicomitidos'!$C$2:$C$1048576)","v":0},null,null,null,null,{"$f":"SUMIF(Series!$A$2:$A$1048576, \"=\" &A190,Series!$C$2:$C$1048576)","v":0},0]
[null,null,null,null,null,null,null,null,{"$f":"SUMIF('Bienes fideicomitidos'!$A$2:$A$1048576, \"=\" &A191,'Bienes fideicomitidos'!$C$2:$C$1048576)","v":0},null,null,null,null,{"$f":"SUMIF(Series!$A$2:$A$1048576, \"=\" &A191,Series!$C$2:$C$1048576)","v":0},0]
[null,null,null,null,null,null,null,null,{"$f":"SUMIF('Bienes fideicomitidos'!$A$2:$A$1048576, \"=\" &A192,'Bienes fideicomitidos'!$C$2:$C$1048576)","v":0},null,null,null,null,{"$f":"SUMIF(Series!$A$2:$A$1048576, \"=\" &A192,Series!$C$2:$C$1048576)","v":0},0]
[null,null,null,null,null,null,null,null,{"$f":"SUMIF('Bienes fideicomitidos'!$A$2:$A$1048576, \"=\" &A193,'Bienes fideicomitidos'!$C$2:$C$1048576)","v":0},null,null,null,null,{"$f":"SUMIF(Series!$A$2:$A$1048576, \"=\" &A193,Series!$C$2:$C$1048576)","v":0},0]
[null,null,null,null,null,null,null,null,{"$f":"SUMIF('Bienes fideicomitidos'!$A$2:$A$1048576, \"=\" &A194,'Bienes fideicomitidos'!$C$2:$C$1048576)","v":0},null,null,null,null,{"$f":"SUMIF(Series!$A$2:$A$1048576, \"=\" &A194,Series!$C$2:$C$1048576)","v":0},0]
[null,null,null,null,null,null,null,null,{"$f":"SUMIF('Bienes fideicomitidos'!$A$2:$A$1048576, \"=\" &A195,'Bienes fideicomitidos'!$C$2:$C$1048576)","v":0},null,null,null,null,{"$f":"SUMIF(Series!$A$2:$A$1048576, \"=\" &A195,Series!$C$2:$C$1048576)","v":0},0]
[null,null,null,null,null,null,null,null,{"$f":"SUMIF('Bienes fideicomitidos'!$A$2:$A$1048576, \"=\" &A196,'Bienes fideicomitidos'!$C$2:$C$1048576)","v":0},null,null,null,null,{"$f":"SUMIF(Series!$A$2:$A$1048576, \"=\" &A196,Series!$C$2:$C$1048576)","v":0},0]
[null,null,null,null,null,null,null,null,{"$f":"SUMIF('Bienes fideicomitidos'!$A$2:$A$1048576, \"=\" &A197,'Bienes fideicomitidos'!$C$2:$C$1048576)","v":0},null,null,null,null,{"$f":"SUMIF(Series!$A$2:$A$1048576, \"=\" &A197,Series!$C$2:$C$1048576)","v":0},0]
[null,null,null,null,null,null,null,null,{"$f":"SUMIF('Bienes fideicomitidos'!$A$2:$A$1048576, \"=\" &A198,'Bienes fideicomitidos'!$C$2:$C$1048576)","v":0},null,null,null,null,{"$f":"SUMIF(Series!$A$2:$A$1048576, \"=\" &A198,Series!$C$2:$C$1048576)","v":0},0]
[null,null,null,null,null,null,null,null,{"$f":"SUMIF('Bienes fideicomitidos'!$A$2:$A$1048576, \"=\" &A199,'Bienes fideicomitidos'!$C$2:$C$1048576)","v":0},null,null,null,null,{"$f":"SUMIF(Series!$A$2:$A$1048576, \"=\" &A199,Series!$C$2:$C$1048576)","v":0},0]
[null,null,null,null,null,null,null,null,{"$f":"SUMIF('Bienes fideicomitidos'!$A$2:$A$1048576, \"=\" &A200,'Bienes fideicomitidos'!$C$2:$C$1048576)","v":0},null,null,null,null,{"$f":"SUMIF(Series!$A$2:$A$1048576, \"=\" &A200,Series!$C$2:$C$1048576)","v":0},0]
[null,null,null,null,null,null,null,null,{"$f":"SUMIF('Bienes fideicomitidos'!$A$2:$A$1048576, \"=\" &A201,'Bienes fideicomitidos'!$C$2:$C$1048576)","v":0},null,null,null,null,{"$f":"SUMIF(Series!$A$2:$A$1048576, \"=\" &A201,Series!$C$2:$C$1048576)","v":0},0]
[null,null,null,null,null,null,null,null,{"$f":"SUMIF('Bienes fideicomitidos'!$A$2:$A$1048576, \"=\" &A202,'Bienes fideicomitidos'!$C$2:$C$1048576)","v":0},null,null,null,null,{"$f":"SUMIF(Series!$A$2:$A$1048576, \"=\" &A202,Series!$C$2:$C$1048576)","v":0},0]
[null,null,null,null,null,null,null,null,{"$f":"SUMIF('Bienes fideicomitidos'!$A$2:$A$1048576, \"=\" &A203,'Bienes fideicomitidos'!$C$2:$C$1048576)","v":0},null,null,null,null,{"$f":"SUMIF(Series!$A$2:$A$1048576, \"=\" &A203,Series!$C$2:$C$1048576)","v":0},0]
[null,null,null,null,null,null,null,null,{"$f":"SUMIF('Bienes fideicomitidos'!$A$2:$A$1048576, \"=\" &A204,'Bienes fideicomitidos'!$C$2:$C$1048576)","v":0},null,null,null,null,{"$f":"SUMIF(Series!$A$2:$A$1048576, \"=\" &A204,Series!$C$2:$C$1048576)","v":0},0]
[null,null,null,null,null,null,null,null,{"$f":"SUMIF('Bienes fideicomitidos'!$A$2:$A$1048576, \"=\" &A205,'Bienes fideicomitidos'!$C$2:$C$1048576)","v":0},null,null,null,null,{"$f":"SUMIF(Series!$A$2:$A$1048576, \"=\" &A205,Series!$C$2:$C$1048576)","v":0},0]
[null,null,null,null,null,null,null,null,{"$f":"SUMIF('Bienes fideicomitidos'!$A$2:$A$1048576, \"=\" &A206,'Bienes fideicomitidos'!$C$2:$C$1048576)","v":0},null,null,null,null,{"$f":"SUMIF(Series!$A$2:$A$1048576, \"=\" &A206,Series!$C$2:$C$1048576)","v":0},{"$f":"IFERROR((I206/N206)*100,0)","v":0}]
[null,null,null,null,null,null,null,null,{"$f":"SUMIF('Bienes fideicomitidos'!$A$2:$A$1048576, \"=\" &A207,'Bienes fideicomitidos'!$C$2:$C$1048576)","v":0},null,null,null,null,{"$f":"SUMIF(Series!$A$2:$A$1048576, \"=\" &A207,Series!$C$2:$C$1048576)","v":0},0]
[null,null,null,null,null,null,null,null,{"$f":"SUMIF('Bienes fideicomitidos'!$A$2:$A$1048576, \"=\" &A208,'Bienes fideicomitidos'!$C$2:$C$1048576)","v":0},null,null,null,null,{"$f":"SUMIF(Series!$A$2:$A$1048576, \"=\" &A208,Series!$C$2:$C$1048576)","v":0},0]
[null,null,null,null,null,null,null,null,{"$f":"SUMIF('Bienes fideicomitidos'!$A$2:$A$1048576, \"=\" &A209,'Bienes fideicomitidos'!$C$2:$C$1048576)","v":0},null,null,null,null,{"$f":"SUMIF(Series!$A$2:$A$1048576, \"=\" &A209,Series!$C$2:$C$1048576)","v":0},0]
[null,null,null,null,null,null,null,null,{"$f":"SUMIF('Bienes fideicomitidos'!$A$2:$A$1048576, \"=\" &A210,'Bienes fideicomitidos'!$C$2:$C$1048576)","v":0},null,null,null,null,{"$f":"SUMIF(Series!$A$2:$A$1048576, \"=\" &A210,Series!$C$2:$C$1048576)","v":0},0]
[null,null,null,null,null,null,null,null,{"$f":"SUMIF('Bienes fideicomitidos'!$A$2:$A$1048576, \"=\" &A211,'Bienes fideicomitidos'!$C$2:$C$1048576)","v":0},null,null,null,null,{"$f":"SUMIF(Series!$A$2:$A$1048576, \"=\" &A211,Series!$C$2:$C$1048576)","v":0},0]
[null,null,null,null,null,null,null,null,{"$f":"SUMIF('Bienes fideicomitidos'!$A$2:$A$1048576, \"=\" &A212,'Bienes fideicomitidos'!$C$2:$C$1048576)","v":0},null,null,null,null,{"$f":"SUMIF(Series!$A$2:$A$1048576, \"=\" &A212,Series!$C$2:$C$1048576)","v":0},0]
[null,null,null,null,null,null,null,null,{"$f":"SUMIF('Bienes fideicomitidos'!$A$2:$A$1048576, \"=\" &A213,'Bienes fideicomitidos'!$C$2:$C$1048576)","v":0},null,null,null,null,{"$f":"SUMIF(Series!$A$2:$A$1048576, \"=\" &A213,Series!$C$2:$C$1048576)","v":0},0]
[null,null,null,null,null,null,null,null,{"$f":"SUMIF('Bienes fideicomitidos'!$A$2:$A$1048576, \"=\" &A214,'Bienes fideicomitidos'!$C$2:$C$1048576)","v":0},null,null,null,null,{"$f":"SUMIF(Series!$A$2:$A$1048576, \"=\" &A214,Series!$C$2:$C$1048576)","v":0},0]
[null,null,null,null,null,null,null,null,{"$f":"SUMIF('Bienes fideicomitidos'!$A$2:$A$1048576, \"=\" &A215,'Bienes fideicomitidos'!$C$2:$C$1048576)","v":0},null,null,null,null,{"$f":"SUMIF(Series!$A$2:$A$1048576, \"=\" &A215,Series!$C$2:$C$1048576)","v":0},0]
[null,null,null,null,null,null,null,null,{"$f":"SUMIF('Bienes fideicomitidos'!$A$2:$A$1048576, \"=\" &A216,'Bienes fideicomitidos'!$C$2:$C$1048576)","v":0},null,null,null,null,{"$f":"SUMIF(Series!$A$2:$A$1048576, \"=\" &A216,Series!$C$2:$C$1048576)","v":0},0]
[null,null,null,null,null,null,null,null,{"$f":"SUMIF('Bienes fideicomitidos'!$A$2:$A$1048576, \"=\" &A217,'Bienes fideicomitidos'!$C$2:$C$1048576)","v":0},null,null,null,null,{"$f":"SUMIF(Series!$A$2:$A$1048576, \"=\" &A217,Series!$C$2:$C$1048576)","v":0},0]
[null,null,null,null,null,null,null,null,{"$f":"SUMIF('Bienes fideicomitidos'!$A$2:$A$1048576, \"=\" &A218,'Bienes fideicomitidos'!$C$2:$C$1048576)","v":0},null,null,null,null,{"$f":"SUMIF(Series!$A$2:$A$1048576, \"=\" &A218,Series!$C$2:$C$1048576)","v":0},0]
[null,null,null,null,null,null,null,null,{"$f":"SUMIF('Bienes fideicomitidos'!$A$2:$A$1048576, \"=\" &A219,'Bienes fideicomitidos'!$C$2:$C$1048576)","v":0},null,null,null,null,{"$f":"SUMIF(Series!$A$2:$A$1048576, \"=\" &A219,Series!$C$2:$C$1048576)","v":0},0]
[null,null,null,null,null,null,null,null,{"$f":"SUMIF('Bienes fideicomitidos'!$A$2:$A$1048576, \"=\" &A220,'Bienes fideicomitidos'!$C$2:$C$1048576)","v":0},null,null,null,null,{"$f":"SUMIF(Series!$A$2:$A$1048576, \"=\" &A220,Series!$C$2:$C$1048576)","v":0},0]
[null,null,null,null,null,null,null,null,{"$f":"SUMIF('Bienes fideicomitidos'!$A$2:$A$1048576, \"=\" &A221,'Bienes fideicomitidos'!$C$2:$C$1048576)","v":0},null,null,null,null,{"$f":"SUMIF(Series!$A$2:$A$1048576, \"=\" &A221,Series!$C$2:$C$1048576)","v":0},0]
[null,null,null,null,null,null,null,null,{"$f":"SUMIF('Bienes fideicomitidos'!$A$2:$A$1048576, \"=\" &A222,'Bienes fideicomitidos'!$C$2:$C$1048576)","v":0},null,null,null,null,{"$f":"SUMIF(Series!$A$2:$A$1048576, \"=\" &A222,Series!$C$2:$C$1048576)","v":0},0]
[null,null,null,null,null,null,null,null,{"$f":"SUMIF('Bienes fideicomitidos'!$A$2:$A$1048576, \"=\" &A223,'Bienes fideicomitidos'!$C$2:$C$1048576)","v":0},null,null,null,null,{"$f":"SUMIF(Series!$A$2:$A$1048576, \"=\" &A223,Series!$C$2:$C$1048576)","v":0},0]
[null,null,null,null,null,null,null,null,{"$f":"SUMIF('Bienes fideicomitidos'!$A$2:$A$1048576, \"=\" &A224,'Bienes fideicomitidos'!$C$2:$C$1048576)","v":0},null,null,null,null,{"$f":"SUMIF(Series!$A$2:$A$1048576, \"=\" &A224,Series!$C$2:$C$1048576)","v":0},0]
[null,null,null,null,null,null,null,null,{"$f":"SUMIF('Bienes fideicomitidos'!$A$2:$A$1048576, \"=\" &A225,'Bienes fideicomitidos'!$C$2:$C$1048576)","v":0},null,null,null,null,{"$f":"SUMIF(Series!$A$2:$A$1048576, \"=\" &A225,Series!$C$2:$C$1048576)","v":0},0]
[null,null,null,null,null,null,null,null,{"$f":"SUMIF('Bienes fideicomitidos'!$A$2:$A$1048576, \"=\" &A226,'Bienes fideicomitidos'!$C$2:$C$1048576)","v":0},null,null,null,null,{"$f":"SUMIF(Series!$A$2:$A$1048576, \"=\" &A226,Series!$C$2:$C$1048576)","v":0},0]
[null,null,null,null,null,null,null,null,{"$f":"SUMIF('Bienes fideicomitidos'!$A$2:$A$1048576, \"=\" &A227,'Bienes fideicomitidos'!$C$2:$C$1048576)","v":0},null,null,null,null,{"$f":"SUMIF(Series!$A$2:$A$1048576, \"=\" &A227,Series!$C$2:$C$1048576)","v":0},0]
[null,null,null,null,null,null,null,null,{"$f":"SUMIF('Bienes fideicomitidos'!$A$2:$A$1048576, \"=\" &A228,'Bienes fideicomitidos'!$C$2:$C$1048576)","v":0},null,null,null,null,{"$f":"SUMIF(Series!$A$2:$A$1048576, \"=\" &A228,Series!$C$2:$C$1048576)","v":0},0]
[null,null,null,null,null,null,null,null,{"$f":"SUMIF('Bienes fideicomitidos'!$A$2:$A$1048576, \"=\" &A229,'Bienes fideicomitidos'!$C$2:$C$1048576)","v":0},null,null,null,null,{"$f":"SUMIF(Series!$A$2:$A$1048576, \"=\" &A229,Series!$C$2:$C$1048576)","v":0},0]
[null,null,null,null,null,null,null,null,{"$f":"SUMIF('Bienes fideicomitidos'!$A$2:$A$1048576, \"=\" &A230,'Bienes fideicomitidos'!$C$2:$C$1048576)","v":0},null,null,null,null,{"$f":"SUMIF(Series!$A$2:$A$1048576, \"=\" &A230,Series!$C$2:$C$1048576)","v":0},0]
[null,null,null,null,null,null,null,null,{"$f":"SUMIF('Bienes fideicomitidos'!$A$2:$A$1048576, \"=\" &A231,'Bienes fideicomitidos'!$C$2:$C$1048576)","v":0},null,null,null,null,{"$f":"SUMIF(Series!$A$2:$A$1048576, \"=\" &A231,Series!$C$2:$C$1048576)","v":0},0]
[null,null,null,null,null,null,null,null,{"$f":"SUMIF('Bienes fideicomitidos'!$A$2:$A$1048576, \"=\" &A232,'Bienes fideicomitidos'!$C$2:$C$1048576)","v":0},null,null,null,null,{"$f":"SUMIF(Series!$A$2:$A$1048576, \"=\" &A232,Series!$C$2:$C$1048576)","v":0},0]
[null,null,null,null,null,null,null,null,{"$f":"SUMIF('Bienes fideicomitidos'!$A$2:$A$1048576, \"=\" &A233,'Bienes fideicomitidos'!$C$2:$C$1048576)","v":0},null,null,null,null,{"$f":"SUMIF(Series!$A$2:$A$1048576, \"=\" &A233,Series!$C$2:$C$1048576)","v":0},0]
[null,null,null,null,null,null,null,null,{"$f":"SUMIF('Bienes fideicomitidos'!$A$2:$A$1048576, \"=\" &A234,'Bienes fideicomitidos'!$C$2:$C$1048576)","v":0},null,null,null,null,{"$f":"SUMIF(Series!$A$2:$A$1048576, \"=\" &A234,Series!$C$2:$C$1048576)","v":0},0]
[null,null,null,null,null,null,null,null,{"$f":"SUMIF('Bienes fideicomitidos'!$A$2:$A$1048576, \"=\" &A235,'Bienes fideicomitidos'!$C$2:$C$1048576)","v":0},null,null,null,null,{"$f":"SUMIF(Series!$A$2:$A$1048576, \"=\" &A235,Series!$C$2:$C$1048576)","v":0},0]
[null,null,null,null,null,null,null,null,{"$f":"SUMIF('Bienes fideicomitidos'!$A$2:$A$1048576, \"=\" &A236,'Bienes fideicomitidos'!$C$2:$C$1048576)","v":0},null,null,null,null,{"$f":"SUMIF(Series!$A$2:$A$1048576, \"=\" &A236,Series!$C$2:$C$1048576)","v":0},0]
[null,null,null,null,null,null,null,null,{"$f":"SUMIF('Bienes fideicomitidos'!$A$2:$A$1048576, \"=\" &A237,'Bienes fideicomitidos'!$C$2:$C$1048576)","v":0},null,null,null,null,{"$f":"SUMIF(Series!$A$2:$A$1048576, \"=\" &A237,Series!$C$2:$C$1048576)","v":0},0]
[null,null,null,null,null,null,null,null,{"$f":"SUMIF('Bienes fideicomitidos'!$A$2:$A$1048576, \"=\" &A238,'Bienes fideicomitidos'!$C$2:$C$1048576)","v":0},null,null,null,null,{"$f":"SUMIF(Series!$A$2:$A$1048576, \"=\" &A238,Series!$C$2:$C$1048576)","v":0},0]
[null,null,null,null,null,null,null,null,{"$f":"SUMIF('Bienes fideicomitidos'!$A$2:$A$1048576, \"=\" &A239,'Bienes fideicomitidos'!$C$2:$C$1048576)","v":0},null,null,null,null,{"$f":"SUMIF(Series!$A$2:$A$1048576, \"=\" &A239,Series!$C$2:$C$1048576)","v":0},0]
[null,null,null,null,null,null,null,null,{"$f":"SUMIF('Bienes fideicomitidos'!$A$2:$A$1048576, \"=\" &A240,'Bienes fideicomitidos'!$C$2:$C$1048576)","v":0},null,null,null,null,{"$f":"SUMIF(Series!$A$2:$A$1048576, \"=\" &A240,Series!$C$2:$C$1048576)","v":0},0]
[null,null,null,null,null,null,null,null,{"$f":"SUMIF('Bienes fideicomitidos'!$A$2:$A$1048576, \"=\" &A241,'Bienes fideicomitidos'!$C$2:$C$1048576)","v":0},null,null,null,null,{"$f":"SUMIF(Series!$A$2:$A$1048576, \"=\" &A241,Series!$C$2:$C$1048576)","v":0},0]
[null,null,null,null,null,null,null,null,{"$f":"SUMIF('Bienes fideicomitidos'!$A$2:$A$1048576, \"=\" &A242,'Bienes fideicomitidos'!$C$2:$C$1048576)","v":0},null,null,null,null,{"$f":"SUMIF(Series!$A$2:$A$1048576, \"=\" &A242,Series!$C$2:$C$1048576)","v":0},0]
[null,null,null,null,null,null,null,null,{"$f":"SUMIF('Bienes fideicomitidos'!$A$2:$A$1048576, \"=\" &A243,'Bienes fideicomitidos'!$C$2:$C$1048576)","v":0},null,null,null,null,{"$f":"SUMIF(Series!$A$2:$A$1048576, \"=\" &A243,Series!$C$2:$C$1048576)","v":0},0]
[null,null,null,null,null,null,null,null,{"$f":"SUMIF('Bienes fideicomitidos'!$A$2:$A$1048576, \"=\" &A244,'Bienes fideicomitidos'!$C$2:$C$1048576)","v":0},null,null,null,null,{"$f":"SUMIF(Series!$A$2:$A$1048576, \"=\" &A244,Series!$C$2:$C$1048576)","v":0},0]
[null,null,null,null,null,null,null,null,{"$f":"SUMIF('Bienes fideicomitidos'!$A$2:$A$1048576, \"=\" &A245,'Bienes fideicomitidos'!$C$2:$C$1048576)","v":0},null,null,null,null,{"$f":"SUMIF(Series!$A$2:$A$1048576, \"=\" &A245,Series!$C$2:$C$1048576)","v":0},0]
[null,null,null,null,null,null,null,null,{"$f":"SUMIF('Bienes fideicomitidos'!$A$2:$A$1048576, \"=\" &A246,'Bienes fideicomitidos'!$C$2:$C$1048576)","v":0},null,null,null,null,{"$f":"SUMIF(Series!$A$2:$A$1048576, \"=\" &A246,Series!$C$2:$C$1048576)","v":0},0]
[null,null,null,null,null,null,null,null,{"$f":"SUMIF('Bienes fideicomitidos'!$A$2:$A$1048576, \"=\" &A247,'Bienes fideicomitidos'!$C$2:$C$1048576)","v":0},null,null,null,null,{"$f":"SUMIF(Series!$A$2:$A$1048576, \"=\" &A247,Series!$C$2:$C$1048576)","v":0},0]
[null,null,null,null,null,null,null,null,{"$f":"SUMIF('Bienes fideicomitidos'!$A$2:$A$1048576, \"=\" &A248,'Bienes fideicomitidos'!$C$2:$C$1048576)","v":0},null,null,null,null,{"$f":"SUMIF(Series!$A$2:$A$1048576, \"=\" &A248,Series!$C$2:$C$1048576)","v":0},0]
[null,null,null,null,null,null,null,null,{"$f":"SUMIF('Bienes fideicomitidos'!$A$2:$A$1048576, \"=\" &A249,'Bienes fideicomitidos'!$C$2:$C$1048576)","v":0},null,null,null,null,{"$f":"SUMIF(Series!$A$2:$A$1048576, \"=\" &A249,Series!$C$2:$C$1048576)","v":0},0]
[null,null,null,null,null,null,null,null,{"$f":"SUMIF('Bienes fideicomitidos'!$A$2:$A$1048576, \"=\" &A250,'Bienes fideicomitidos'!$C$2:$C$1048576)","v":0},null,null,null,null,{"$f":"SUMIF(Series!$A$2:$A$1048576, \"=\" &A250,Series!$C$2:$C$1048576)","v":0},0]
[null,null,null,null,null,null,null,null,{"$f":"SUMIF('Bienes fideicomitidos'!$A$2:$A$1048576, \"=\" &A251,'Bienes fideicomitidos'!$C$2:$C$1048576)","v":0},null,null,null,null,{"$f":"SUMIF(Series!$A$2:$A$1048576, \"=\" &A251,Series!$C$2:$C$1048576)","v":0},0]
[null,null,null,null,null,null,null,null,{"$f":"SUMIF('Bienes fideicomitidos'!$A$2:$A$1048576, \"=\" &A252,'Bienes fideicomitidos'!$C$2:$C$1048576)","v":0},null,null,null,null,{"$f":"SUMIF(Series!$A$2:$A$1048576, \"=\" &A252,Series!$C$2:$C$1048576)","v":0},0]
[null,null,null,null,null,null,null,null,{"$f":"SUMIF('Bienes fideicomitidos'!$A$2:$A$1048576, \"=\" &A253,'Bienes fideicomitidos'!$C$2:$C$1048576)","v":0},null,null,null,null,{"$f":"SUMIF(Series!$A$2:$A$1048576, \"=\" &A253,Series!$C$2:$C$1048576)","v":0},0]
[null,null,null,null,null,null,null,null,{"$f":"SUMIF('Bienes fideicomitidos'!$A$2:$A$1048576, \"=\" &A254,'Bienes fideicomitidos'!$C$2:$C$1048576)","v":0},null,null,null,null,{"$f":"SUMIF(Series!$A$2:$A$1048576, \"=\" &A254,Series!$C$2:$C$1048576)","v":0},0]
[null,null,null,null,null,null,null,null,{"$f":"SUMIF('Bienes fideicomitidos'!$A$2:$A$1048576, \"=\" &A255,'Bienes fideicomitidos'!$C$2:$C$1048576)","v":0},null,null,null,null,{"$f":"SUMIF(Series!$A$2:$A$1048576, \"=\" &A255,Series!$C$2:$C$1048576)","v":0},0]
[null,null,null,null,null,null,null,null,{"$f":"SUMIF('Bienes fideicomitidos'!$A$2:$A$1048576, \"=\" &A256,'Bienes fideicomitidos'!$C$2:$C$1048576)","v":0},null,null,null,null,{"$f":"SUMIF(Series!$A$2:$A$1048576, \"=\" &A256,Series!$C$2:$C$1048576)","v":0},0]
[null,null,null,null,null,null,null,null,{"$f":"SUMIF('Bienes fideicomitidos'!$A$2:$A$1048576, \"=\" &A257,'Bienes fideicomitidos'!$C$2:$C$1048576)","v":0},null,null,null,null,{"$f":"SUMIF(Series!$A$2:$A$1048576, \"=\" &A257,Series!$C$2:$C$1048576)","v":0},0]
[null,null,null,null,null,null,null,null,{"$f":"SUMIF('Bienes fideicomitidos'!$A$2:$A$1048576, \"=\" &A258,'Bienes fideicomitidos'!$C$2:$C$1048576)","v":0},null,null,null,null,{"$f":"SUMIF(Series!$A$2:$A$1048576, \"=\" &A258,Series!$C$2:$C$1048576)","v":0},0]
[null,null,null,null,null,null,null,null,{"$f":"SUMIF('Bienes fideicomitidos'!$A$2:$A$1048576, \"=\" &A259,'Bienes fideicomitidos'!$C$2:$C$1048576)","v":0},null,null,null,null,{"$f":"SUMIF(Series!$A$2:$A$1048576, \"=\" &A259,Series!$C$2:$C$1048576)","v":0},0]
[null,null,null,null,null,null,null,null,{"$f":"SUMIF('Bienes fideicomitidos'!$A$2:$A$1048576, \"=\" &A260,'Bienes fideicomitidos'!$C$2:$C$1048576)","v":0},null,null,null,null,{"$f":"SUMIF(Series!$A$2:$A$1048576, \"=\" &A260,Series!$C$2:$C$1048576)","v":0},0]
[null,null,null,null,null,null,null,null,{"$f":"SUMIF('Bienes fideicomitidos'!$A$2:$A$1048576, \"=\" &A261,'Bienes fideicomitidos'!$C$2:$C$1048576)","v":0},null,null,null,null,{"$f":"SUMIF(Series!$A$2:$A$1048576, \"=\" &A261,Series!$C$2:$C$1048576)","v":0},0]
[null,null,null,null,null,null,null,null,{"$f":"SUMIF('Bienes fideicomitidos'!$A$2:$A$1048576, \"=\" &A262,'Bienes fideicomitidos'!$C$2:$C$1048576)","v":0},null,null,null,null,{"$f":"SUMIF(Series!$A$2:$A$1048576, \"=\" &A262,Series!$C$2:$C$1048576)","v":0},0]
[null,null,null,null,null,null,null,null,{"$f":"SUMIF('Bienes fideicomitidos'!$A$2:$A$1048576, \"=\" &A263,'Bienes fideicomitidos'!$C$2:$C$1048576)","v":0},null,null,null,null,{"$f":"SUMIF(Series!$A$2:$A$1048576, \"=\" &A263,Series!$C$2:$C$1048576)","v":0},0]
[null,null,null,null,null,null,null,null,{"$f":"SUMIF('Bienes fideicomitidos'!$A$2:$A$1048576, \"=\" &A264,'Bienes fideicomitidos'!$C$2:$C$1048576)","v":0},null,null,null,null,{"$f":"SUMIF(Series!$A$2:$A$1048576, \"=\" &A264,Series!$C$2:$C$1048576)","v":0},0]
[null,null,null,null,null,null,null,null,{"$f":"SUMIF('Bienes fideicomitidos'!$A$2:$A$1048576, \"=\" &A265,'Bienes fideicomitidos'!$C$2:$C$1048576)","v":0},null,null,null,null,{"$f":"SUMIF(Series!$A$2:$A$1048576, \"=\" &A265,Series!$C$2:$C$1048576)","v":0},0]
[null,null,null,null,null,null,null,null,{"$f":"SUMIF('Bienes fideicomitidos'!$A$2:$A$1048576, \"=\" &A266,'Bienes fideicomitidos'!$C$2:$C$1048576)","v":0},null,null,null,null,{"$f":"SUMIF(Series!$A$2:$A$1048576, \"=\" &A266,Series!$C$2:$C$1048576)","v":0},0]
[null,null,null,null,null,null,null,null,{"$f":"SUMIF('Bienes fideicomitidos'!$A$2:$A$1048576, \"=\" &A267,'Bienes fideicomitidos'!$C$2:$C$1048576)","v":0},null,null,null,null,{"$f":"SUMIF(Series!$A$2:$A$1048576, \"=\" &A267,Series!$C$2:$C$1048576)","v":0},0]
[null,null,null,null,null,null,null,null,{"$f":"SUMIF('Bienes fideicomitidos'!$A$2:$A$1048576, \"=\" &A268,'Bienes fideicomitidos'!$C$2:$C$1048576)","v":0},null,null,null,null,{"$f":"SUMIF(Series!$A$2:$A$1048576, \"=\" &A268,Series!$C$2:$C$1048576)","v":0},0]
[null,null,null,null,null,null,null,null,{"$f":"SUMIF('Bienes fideicomitidos'!$A$2:$A$1048576, \"=\" &A269,'Bienes fideicomitidos'!$C$2:$C$1048576)","v":0},null,null,null,null,{"$f":"SUMIF(Series!$A$2:$A$1048576, \"=\" &A269,Series!$C$2:$C$1048576)","v":0},0]
[null,null,null,null,null,null,null,null,{"$f":"SUMIF('Bienes fideicomitidos'!$A$2:$A$1048576, \"=\" &A270,'Bienes fideicomitidos'!$C$2:$C$1048576)","v":0},null,null,null,null,{"$f":"SUMIF(Series!$A$2:$A$1048576, \"=\" &A270,Series!$C$2:$C$1048576)","v":0},{"$f":"IFERROR((I270/N270)*100,0)","v":0}]
[null,null,null,null,null,null,null,null,{"$f":"SUMIF('Bienes fideicomitidos'!$A$2:$A$1048576, \"=\" &A271,'Bienes fideicomitidos'!$C$2:$C$1048576)","v":0},null,null,null,null,{"$f":"SUMIF(Series!$A$2:$A$1048576, \"=\" &A271,Series!$C$2:$C$1048576)","v":0},0]
[null,null,null,null,null,null,null,null,{"$f":"SUMIF('Bienes fideicomitidos'!$A$2:$A$1048576, \"=\" &A272,'Bienes fideicomitidos'!$C$2:$C$1048576)","v":0},null,null,null,null,{"$f":"SUMIF(Series!$A$2:$A$1048576, \"=\" &A272,Series!$C$2:$C$1048576)","v":0},0]
[null,null,null,null,null,null,null,null,{"$f":"SUMIF('Bienes fideicomitidos'!$A$2:$A$1048576, \"=\" &A273,'Bienes fideicomitidos'!$C$2:$C$1048576)","v":0},null,null,null,null,{"$f":"SUMIF(Series!$A$2:$A$1048576, \"=\" &A273,Series!$C$2:$C$1048576)","v":0},0]
[null,null,null,null,null,null,null,null,{"$f":"SUMIF('Bienes fideicomitidos'!$A$2:$A$1048576, \"=\" &A274,'Bienes fideicomitidos'!$C$2:$C$1048576)","v":0},null,null,null,null,{"$f":"SUMIF(Series!$A$2:$A$1048576, \"=\" &A274,Series!$C$2:$C$1048576)","v":0},0]
[null,null,null,null,null,null,null,null,{"$f":"SUMIF('Bienes fideicomitidos'!$A$2:$A$1048576, \"=\" &A275,'Bienes fideicomitidos'!$C$2:$C$1048576)","v":0},null,null,null,null,{"$f":"SUMIF(Series!$A$2:$A$1048576, \"=\" &A275,Series!$C$2:$C$1048576)","v":0},0]
[null,null,null,null,null,null,null,null,{"$f":"SUMIF('Bienes fideicomitidos'!$A$2:$A$1048576, \"=\" &A276,'Bienes fideicomitidos'!$C$2:$C$1048576)","v":0},null,null,null,null,{"$f":"SUMIF(Series!$A$2:$A$1048576, \"=\" &A276,Series!$C$2:$C$1048576)","v":0},0]
[null,null,null,null,null,null,null,null,{"$f":"SUMIF('Bienes fideicomitidos'!$A$2:$A$1048576, \"=\" &A277,'Bienes fideicomitidos'!$C$2:$C$1048576)","v":0},null,null,null,null,{"$f":"SUMIF(Series!$A$2:$A$1048576, \"=\" &A277,Series!$C$2:$C$1048576)","v":0},0]
[null,null,null,null,null,null,null,null,{"$f":"SUMIF('Bienes fideicomitidos'!$A$2:$A$1048576, \"=\" &A278,'Bienes fideicomitidos'!$C$2:$C$1048576)","v":0},null,null,null,null,{"$f":"SUMIF(Series!$A$2:$A$1048576, \"=\" &A278,Series!$C$2:$C$1048576)","v":0},0]
[null,null,null,null,null,null,null,null,{"$f":"SUMIF('Bienes fideicomitidos'!$A$2:$A$1048576, \"=\" &A279,'Bienes fideicomitidos'!$C$2:$C$1048576)","v":0},null,null,null,null,{"$f":"SUMIF(Series!$A$2:$A$1048576, \"=\" &A279,Series!$C$2:$C$1048576)","v":0},0]
[null,null,null,null,null,null,null,null,{"$f":"SUMIF('Bienes fideicomitidos'!$A$2:$A$1048576, \"=\" &A280,'Bienes fideicomitidos'!$C$2:$C$1048576)","v":0},null,null,null,null,{"$f":"SUMIF(Series!$A$2:$A$1048576, \"=\" &A280,Series!$C$2:$C$1048576)","v":0},0]
[null,null,null,null,null,null,null,null,{"$f":"SUMIF('Bienes fideicomitidos'!$A$2:$A$1048576, \"=\" &A281,'Bienes fideicomitidos'!$C$2:$C$1048576)","v":0},null,null,null,null,{"$f":"SUMIF(Series!$A$2:$A$1048576, \"=\" &A281,Series!$C$2:$C$1048576)","v":0},0]
[null,null,null,null,null,null,null,null,{"$f":"SUMIF('Bienes fideicomitidos'!$A$2:$A$1048576, \"=\" &A282,'Bienes fideicomitidos'!$C$2:$C$1048576)","v":0},null,null,null,null,{"$f":"SUMIF(Series!$A$2:$A$1048576, \"=\" &A282,Series!$C$2:$C$1048576)","v":0},0]
[null,null,null,null,null,null,null,null,{"$f":"SUMIF('Bienes fideicomitidos'!$A$2:$A$1048576, \"=\" &A283,'Bienes fideicomitidos'!$C$2:$C$1048576)","v":0},null,null,null,null,{"$f":"SUMIF(Series!$A$2:$A$1048576, \"=\" &A283,Series!$C$2:$C$1048576)","v":0},0]
[null,null,null,null,null,null,null,null,{"$f":"SUMIF('Bienes fideicomitidos'!$A$2:$A$1048576, \"=\" &A284,'Bienes fideicomitidos'!$C$2:$C$1048576)","v":0},null,null,null,null,{"$f":"SUMIF(Series!$A$2:$A$1048576, \"=\" &A284,Series!$C$2:$C$1048576)","v":0},0]
[null,null,null,null,null,null,null,null,{"$f":"SUMIF('Bienes fideicomitidos'!$A$2:$A$1048576, \"=\" &A285,'Bienes fideicomitidos'!$C$2:$C$1048576)","v":0},null,null,null,null,{"$f":"SUMIF(Series!$A$2:$A$1048576, \"=\" &A285,Series!$C$2:$C$1048576)","v":0},0]
[null,null,null,null,null,null,null,null,{"$f":"SUMIF('Bienes fideicomitidos'!$A$2:$A$1048576, \"=\" &A286,'Bienes fideicomitidos'!$C$2:$C$1048576)","v":0},null,null,null,null,{"$f":"SUMIF(Series!$A$2:$A$1048576, \"=\" &A286,Series!$C$2:$C$1048576)","v":0},0]
[null,null,null,null,null,null,null,null,{"$f":"SUMIF('Bienes fideicomitidos'!$A$2:$A$1048576, \"=\" &A287,'Bienes fideicomitidos'!$C$2:$C$1048576)","v":0},null,null,null,null,{"$f":"SUMIF(Series!$A$2:$A$1048576, \"=\" &A287,Series!$C$2:$C$1048576)","v":0},0]
[null,null,null,null,null,null,null,null,{"$f":"SUMIF('Bienes fideicomitidos'!$A$2:$A$1048576, \"=\" &A288,'Bienes fideicomitidos'!$C$2:$C$1048576)","v":0},null,null,null,null,{"$f":"SUMIF(Series!$A$2:$A$1048576, \"=\" &A288,Series!$C$2:$C$1048576)","v":0},0]
[null,null,null,null,null,null,null,null,{"$f":"SUMIF('Bienes fideicomitidos'!$A$2:$A$1048576, \"=\" &A289,'Bienes fideicomitidos'!$C$2:$C$1048576)","v":0},null,null,null,null,{"$f":"SUMIF(Series!$A$2:$A$1048576, \"=\" &A289,Series!$C$2:$C$1048576)","v":0},0]
[null,null,null,null,null,null,null,null,{"$f":"SUMIF('Bienes fideicomitidos'!$A$2:$A$1048576, \"=\" &A290,'Bienes fideicomitidos'!$C$2:$C$1048576)","v":0},null,null,null,null,{"$f":"SUMIF(Series!$A$2:$A$1048576, \"=\" &A290,Series!$C$2:$C$1048576)","v":0},0]
[null,null,null,null,null,null,null,null,{"$f":"SUMIF('Bienes fideicomitidos'!$A$2:$A$1048576, \"=\" &A291,'Bienes fideicomitidos'!$C$2:$C$1048576)","v":0},null,null,null,null,{"$f":"SUMIF(Series!$A$2:$A$1048576, \"=\" &A291,Series!$C$2:$C$1048576)","v":0},0]
[null,null,null,null,null,null,null,null,{"$f":"SUMIF('Bienes fideicomitidos'!$A$2:$A$1048576, \"=\" &A292,'Bienes fideicomitidos'!$C$2:$C$1048576)","v":0},null,null,null,null,{"$f":"SUMIF(Series!$A$2:$A$1048576, \"=\" &A292,Series!$C$2:$C$1048576)","v":0},0]
[null,null,null,null,null,null,null,null,{"$f":"SUMIF('Bienes fideicomitidos'!$A$2:$A$1048576, \"=\" &A293,'Bienes fideicomitidos'!$C$2:$C$1048576)","v":0},null,null,null,null,{"$f":"SUMIF(Series!$A$2:$A$1048576, \"=\" &A293,Series!$C$2:$C$1048576)","v":0},0]
[null,null,null,null,null,null,null,null,{"$f":"SUMIF('Bienes fideicomitidos'!$A$2:$A$1048576, \"=\" &A294,'Bienes fideicomitidos'!$C$2:$C$1048576)","v":0},null,null,null,null,{"$f":"SUMIF(Series!$A$2:$A$1048576, \"=\" &A294,Series!$C$2:$C$1048576)","v":0},0]
[null,null,null,null,null,null,null,null,{"$f":"SUMIF('Bienes fideicomitidos'!$A$2:$A$1048576, \"=\" &A295,'Bienes fideicomitidos'!$C$2:$C$1048576)","v":0},null,null,null,null,{"$f":"SUMIF(Series!$A$2:$A$1048576, \"=\" &A295,Series!$C$2:$C$1048576)","v":0},0]
[null,null,null,null,null,null,null,null,{"$f":"SUMIF('Bienes fideicomitidos'!$A$2:$A$1048576, \"=\" &A296,'Bienes fideicomitidos'!$C$2:$C$1048576)","v":0},null,null,null,null,{"$f":"SUMIF(Series!$A$2:$A$1048576, \"=\" &A296,Series!$C$2:$C$1048576)","v":0},0]
[null,null,null,null,null,null,null,null,{"$f":"SUMIF('Bienes fideicomitidos'!$A$2:$A$1048576, \"=\" &A297,'Bienes fideicomitidos'!$C$2:$C$1048576)","v":0},null,null,null,null,{"$f":"SUMIF(Series!$A$2:$A$1048576, \"=\" &A297,Series!$C$2:$C$1048576)","v":0},0]
[null,null,null,null,null,null,null,null,{"$f":"SUMIF('Bienes fideicomitidos'!$A$2:$A$1048576, \"=\" &A298,'Bienes fideicomitidos'!$C$2:$C$1048576)","v":0},null,null,null,null,{"$f":"SUMIF(Series!$A$2:$A$1048576, \"=\" &A298,Series!$C$2:$C$1048576)","v":0},0]
[null,null,null,null,null,null,null,null,{"$f":"SUMIF('Bienes fideicomitidos'!$A$2:$A$1048576, \"=\" &A299,'Bienes fideicomitidos'!$C$2:$C$1048576)","v":0},null,null,null,null,{"$f":"SUMIF(Series!$A$2:$A$1048576, \"=\" &A299,Series!$C$2:$C$1048576)","v":0},0]
[null,null,null,null,null,null,null,null,{"$f":"SUMIF('Bienes fideicomitidos'!$A$2:$A$1048576, \"=\" &A300,'Bienes fideicomitidos'!$C$2:$C$1048576)","v":0},null,null,null,null,{"$f":"SUMIF(Series!$A$2:$A$1048576, \"=\" &A300,Series!$C$2:$C$1048576)","v":0},0]
[null,null,null,null,null,null,null,null,{"$f":"SUMIF('Bienes fideicomitidos'!$A$2:$A$1048576, \"=\" &A301,'Bienes fideicomitidos'!$C$2:$C$1048576)","v":0},null,null,null,null,{"$f":"SUMIF(Series!$A$2:$A$1048576, \"=\" &A301,Series!$C$2:$C$1048576)","v":0},0]
[null,null,null,null,null,null,null,null,{"$f":"SUMIF('Bienes fideicomitidos'!$A$2:$A$1048576, \"=\" &A302,'Bienes fideicomitidos'!$C$2:$C$1048576)","v":0},null,null,null,null,{"$f":"SUMIF(Series!$A$2:$A$1048576, \"=\" &A302,Series!$C$2:$C$1048576)","v":0},0]
[null,null,null,null,null,null,null,null,{"$f":"SUMIF('Bienes fideicomitidos'!$A$2:$A$1048576, \"=\" &A303,'Bienes fideicomitidos'!$C$2:$C$1048576)","v":0},null,null,null,null,{"$f":"SUMIF(Series!$A$2:$A$1048576, \"=\" &A303,Series!$C$2:$C$1048576)","v":0},0]
[null,null,null,null,null,null,null,null,{"$f":"SUMIF('Bienes fideicomitidos'!$A$2:$A$1048576, \"=\" &A304,'Bienes fideicomitidos'!$C$2:$C$1048576)","v":0},null,null,null,null,{"$f":"SUMIF(Series!$A$2:$A$1048576, \"=\" &A304,Series!$C$2:$C$1048576)","v":0},0]
[null,null,null,null,null,null,null,null,{"$f":"SUMIF('Bienes fideicomitidos'!$A$2:$A$1048576, \"=\" &A305,'Bienes fideicomitidos'!$C$2:$C$1048576)","v":0},null,null,null,null,{"$f":"SUMIF(Series!$A$2:$A$1048576, \"=\" &A305,Series!$C$2:$C$1048576)","v":0},0]
[null,null,null,null,null,null,null,null,{"$f":"SUMIF('Bienes fideicomitidos'!$A$2:$A$1048576, \"=\" &A306,'Bienes fideicomitidos'!$C$2:$C$1048576)","v":0},null,null,null,null,{"$f":"SUMIF(Series!$A$2:$A$1048576, \"=\" &A306,Series!$C$2:$C$1048576)","v":0},0]
[null,null,null,null,null,null,null,null,{"$f":"SUMIF('Bienes fideicomitidos'!$A$2:$A$1048576, \"=\" &A307,'Bienes fideicomitidos'!$C$2:$C$1048576)","v":0},null,null,null,null,{"$f":"SUMIF(Series!$A$2:$A$1048576, \"=\" &A307,Series!$C$2:$C$1048576)","v":0},0]
[null,null,null,null,null,null,null,null,{"$f":"SUMIF('Bienes fideicomitidos'!$A$2:$A$1048576, \"=\" &A308,'Bienes fideicomitidos'!$C$2:$C$1048576)","v":0},null,null,null,null,{"$f":"SUMIF(Series!$A$2:$A$1048576, \"=\" &A308,Series!$C$2:$C$1048576)","v":0},0]
[null,null,null,null,null,null,null,null,{"$f":"SUMIF('Bienes fideicomitidos'!$A$2:$A$1048576, \"=\" &A309,'Bienes fideicomitidos'!$C$2:$C$1048576)","v":0},null,null,null,null,{"$f":"SUMIF(Series!$A$2:$A$1048576, \"=\" &A309,Series!$C$2:$C$1048576)","v":0},0]
[null,null,null,null,null,null,null,null,{"$f":"SUMIF('Bienes fideicomitidos'!$A$2:$A$1048576, \"=\" &A310,'Bienes fideicomitidos'!$C$2:$C$1048576)","v":0},null,null,null,null,{"$f":"SUMIF(Series!$A$2:$A$1048576, \"=\" &A310,Series!$C$2:$C$1048576)","v":0},0]
[null,null,null,null,null,null,null,null,{"$f":"SUMIF('Bienes fideicomitidos'!$A$2:$A$1048576, \"=\" &A311,'Bienes fideicomitidos'!$C$2:$C$1048576)","v":0},null,null,null,null,{"$f":"SUMIF(Series!$A$2:$A$1048576, \"=\" &A311,Series!$C$2:$C$1048576)","v":0},0]
[null,null,null,null,null,null,null,null,{"$f":"SUMIF('Bienes fideicomitidos'!$A$2:$A$1048576, \"=\" &A312,'Bienes fideicomitidos'!$C$2:$C$1048576)","v":0},null,null,null,null,{"$f":"SUMIF(Series!$A$2:$A$1048576, \"=\" &A312,Series!$C$2:$C$1048576)","v":0},0]
[null,null,null,null,null,null,null,null,{"$f":"SUMIF('Bienes fideicomitidos'!$A$2:$A$1048576, \"=\" &A313,'Bienes fideicomitidos'!$C$2:$C$1048576)","v":0},null,null,null,null,{"$f":"SUMIF(Series!$A$2:$A$1048576, \"=\" &A313,Series!$C$2:$C$1048576)","v":0},0]
[null,null,null,null,null,null,null,null,{"$f":"SUMIF('Bienes fideicomitidos'!$A$2:$A$1048576, \"=\" &A314,'Bienes fideicomitidos'!$C$2:$C$1048576)","v":0},null,null,null,null,{"$f":"SUMIF(Series!$A$2:$A$1048576, \"=\" &A314,Series!$C$2:$C$1048576)","v":0},0]
[null,null,null,null,null,null,null,null,{"$f":"SUMIF('Bienes fideicomitidos'!$A$2:$A$1048576, \"=\" &A315,'Bienes fideicomitidos'!$C$2:$C$1048576)","v":0},null,null,null,null,{"$f":"SUMIF(Series!$A$2:$A$1048576, \"=\" &A315,Series!$C$2:$C$1048576)","v":0},0]
[null,null,null,null,null,null,null,null,{"$f":"SUMIF('Bienes fideicomitidos'!$A$2:$A$1048576, \"=\" &A316,'Bienes fideicomitidos'!$C$2:$C$1048576)","v":0},null,null,null,null,{"$f":"SUMIF(Series!$A$2:$A$1048576, \"=\" &A316,Series!$C$2:$C$1048576)","v":0},0]
[null,null,null,null,null,null,null,null,{"$f":"SUMIF('Bienes fideicomitidos'!$A$2:$A$1048576, \"=\" &A317,'Bienes fideicomitidos'!$C$2:$C$1048576)","v":0},null,null,null,null,{"$f":"SUMIF(Series!$A$2:$A$1048576, \"=\" &A317,Series!$C$2:$C$1048576)","v":0},0]
[null,null,null,null,null,null,null,null,{"$f":"SUMIF('Bienes fideicomitidos'!$A$2:$A$1048576, \"=\" &A318,'Bienes fideicomitidos'!$C$2:$C$1048576)","v":0},null,null,null,null,{"$f":"SUMIF(Series!$A$2:$A$1048576, \"=\" &A318,Series!$C$2:$C$1048576)","v":0},0]
[null,null,null,null,null,null,null,null,{"$f":"SUMIF('Bienes fideicomitidos'!$A$2:$A$1048576, \"=\" &A319,'Bienes fideicomitidos'!$C$2:$C$1048576)","v":0},null,null,null,null,{"$f":"SUMIF(Series!$A$2:$A$1048576, \"=\" &A319,Series!$C$2:$C$1048576)","v":0},0]
[null,null,null,null,null,null,null,null,{"$f":"SUMIF('Bienes fideicomitidos'!$A$2:$A$1048576, \"=\" &A320,'Bienes fideicomitidos'!$C$2:$C$1048576)","v":0},null,null,null,null,{"$f":"SUMIF(Series!$A$2:$A$1048576, \"=\" &A320,Series!$C$2:$C$1048576)","v":0},0]
[null,null,null,null,null,null,null,null,{"$f":"SUMIF('Bienes fideicomitidos'!$A$2:$A$1048576, \"=\" &A321,'Bienes fideicomitidos'!$C$2:$C$1048576)","v":0},null,null,null,null,{"$f":"SUMIF(Series!$A$2:$A$1048576, \"=\" &A321,Series!$C$2:$C$1048576)","v":0},0]
[null,null,null,null,null,null,null,null,{"$f":"SUMIF('Bienes fideicomitidos'!$A$2:$A$1048576, \"=\" &A322,'Bienes fideicomitidos'!$C$2:$C$1048576)","v":0},null,null,null,null,{"$f":"SUMIF(Series!$A$2:$A$1048576, \"=\" &A322,Series!$C$2:$C$1048576)","v":0},0]
[null,null,null,null,null,null,null,null,{"$f":"SUMIF('Bienes fideicomitidos'!$A$2:$A$1048576, \"=\" &A323,'Bienes fideicomitidos'!$C$2:$C$1048576)","v":0},null,null,null,null,{"$f":"SUMIF(Series!$A$2:$A$1048576, \"=\" &A323,Series!$C$2:$C$1048576)","v":0},0]
[null,null,null,null,null,null,null,null,{"$f":"SUMIF('Bienes fideicomitidos'!$A$2:$A$1048576, \"=\" &A324,'Bienes fideicomitidos'!$C$2:$C$1048576)","v":0},null,null,null,null,{"$f":"SUMIF(Series!$A$2:$A$1048576, \"=\" &A324,Series!$C$2:$C$1048576)","v":0},0]
[null,null,null,null,null,null,null,null,{"$f":"SUMIF('Bienes fideicomitidos'!$A$2:$A$1048576, \"=\" &A325,'Bienes fideicomitidos'!$C$2:$C$1048576)","v":0},null,null,null,null,{"$f":"SUMIF(Series!$A$2:$A$1048576, \"=\" &A325,Series!$C$2:$C$1048576)","v":0},0]
[null,null,null,null,null,null,null,null,{"$f":"SUMIF('Bienes fideicomitidos'!$A$2:$A$1048576, \"=\" &A326,'Bienes fideicomitidos'!$C$2:$C$1048576)","v":0},null,null,null,null,{"$f":"SUMIF(Series!$A$2:$A$1048576, \"=\" &A326,Series!$C$2:$C$1048576)","v":0},0]
[null,null,null,null,null,null,null,null,{"$f":"SUMIF('Bienes fideicomitidos'!$A$2:$A$1048576, \"=\" &A327,'Bienes fideicomitidos'!$C$2:$C$1048576)","v":0},null,null,null,null,{"$f":"SUMIF(Series!$A$2:$A$1048576, \"=\" &A327,Series!$C$2:$C$1048576)","v":0},0]
[null,null,null,null,null,null,null,null,{"$f":"SUMIF('Bienes fideicomitidos'!$A$2:$A$1048576, \"=\" &A328,'Bienes fideicomitidos'!$C$2:$C$1048576)","v":0},null,null,null,null,{"$f":"SUMIF(Series!$A$2:$A$1048576, \"=\" &A328,Series!$C$2:$C$1048576)","v":0},0]
[null,null,null,null,null,null,null,null,{"$f":"SUMIF('Bienes fideicomitidos'!$A$2:$A$1048576, \"=\" &A329,'Bienes fideicomitidos'!$C$2:$C$1048576)","v":0},null,null,null,null,{"$f":"SUMIF(Series!$A$2:$A$1048576, \"=\" &A329,Series!$C$2:$C$1048576)","v":0},0]
[null,null,null,null,null,null,null,null,{"$f":"SUMIF('Bienes fideicomitidos'!$A$2:$A$1048576, \"=\" &A330,'Bienes fideicomitidos'!$C$2:$C$1048576)","v":0},null,null,null,null,{"$f":"SUMIF(Series!$A$2:$A$1048576, \"=\" &A330,Series!$C$2:$C$1048576)","v":0},0]
[null,null,null,null,null,null,null,null,{"$f":"SUMIF('Bienes fideicomitidos'!$A$2:$A$1048576, \"=\" &A331,'Bienes fideicomitidos'!$C$2:$C$1048576)","v":0},null,null,null,null,{"$f":"SUMIF(Series!$A$2:$A$1048576, \"=\" &A331,Series!$C$2:$C$1048576)","v":0},0]
[null,null,null,null,null,null,null,null,{"$f":"SUMIF('Bienes fideicomitidos'!$A$2:$A$1048576, \"=\" &A332,'Bienes fideicomitidos'!$C$2:$C$1048576)","v":0},null,null,null,null,{"$f":"SUMIF(Series!$A$2:$A$1048576, \"=\" &A332,Series!$C$2:$C$1048576)","v":0},0]
[null,null,null,null,null,null,null,null,{"$f":"SUMIF('Bienes fideicomitidos'!$A$2:$A$1048576, \"=\" &A333,'Bienes fideicomitidos'!$C$2:$C$1048576)","v":0},null,null,null,null,{"$f":"SUMIF(Series!$A$2:$A$1048576, \"=\" &A333,Series!$C$2:$C$1048576)","v":0},0]
[null,null,null,null,null,null,null,null,{"$f":"SUMIF('Bienes fideicomitidos'!$A$2:$A$1048576, \"=\" &A334,'Bienes fideicomitidos'!$C$2:$C$1048576)","v":0},null,null,null,null,{"$f":"SUMIF(Series!$A$2:$A$1048576, \"=\" &A334,Series!$C$2:$C$1048576)","v":0},{"$f":"IFERROR((I334/N334)*100,0)","v":0}]
[null,null,null,null,null,null,null,null,{"$f":"SUMIF('Bienes fideicomitidos'!$A$2:$A$1048576, \"=\" &A335,'Bienes fideicomitidos'!$C$2:$C$1048576)","v":0},null,null,null,null,{"$f":"SUMIF(Series!$A$2:$A$1048576, \"=\" &A335,Series!$C$2:$C$1048576)","v":0},0]
[null,null,null,null,null,null,null,null,{"$f":"SUMIF('Bienes fideicomitidos'!$A$2:$A$1048576, \"=\" &A336,'Bienes fideicomitidos'!$C$2:$C$1048576)","v":0},null,null,null,null,{"$f":"SUMIF(Series!$A$2:$A$1048576, \"=\" &A336,Series!$C$2:$C$1048576)","v":0},0]
[null,null,null,null,null,null,null,null,{"$f":"SUMIF('Bienes fideicomitidos'!$A$2:$A$1048576, \"=\" &A337,'Bienes fideicomitidos'!$C$2:$C$1048576)","v":0},null,null,null,null,{"$f":"SUMIF(Series!$A$2:$A$1048576, \"=\" &A337,Series!$C$2:$C$1048576)","v":0},0]
[null,null,null,null,null,null,null,null,{"$f":"SUMIF('Bienes fideicomitidos'!$A$2:$A$1048576, \"=\" &A338,'Bienes fideicomitidos'!$C$2:$C$1048576)","v":0},null,null,null,null,{"$f":"SUMIF(Series!$A$2:$A$1048576, \"=\" &A338,Series!$C$2:$C$1048576)","v":0},0]
[null,null,null,null,null,null,null,null,{"$f":"SUMIF('Bienes fideicomitidos'!$A$2:$A$1048576, \"=\" &A339,'Bienes fideicomitidos'!$C$2:$C$1048576)","v":0},null,null,null,null,{"$f":"SUMIF(Series!$A$2:$A$1048576, \"=\" &A339,Series!$C$2:$C$1048576)","v":0},0]
[null,null,null,null,null,null,null,null,{"$f":"SUMIF('Bienes fideicomitidos'!$A$2:$A$1048576, \"=\" &A340,'Bienes fideicomitidos'!$C$2:$C$1048576)","v":0},null,null,null,null,{"$f":"SUMIF(Series!$A$2:$A$1048576, \"=\" &A340,Series!$C$2:$C$1048576)","v":0},0]
[null,null,null,null,null,null,null,null,{"$f":"SUMIF('Bienes fideicomitidos'!$A$2:$A$1048576, \"=\" &A341,'Bienes fideicomitidos'!$C$2:$C$1048576)","v":0},null,null,null,null,{"$f":"SUMIF(Series!$A$2:$A$1048576, \"=\" &A341,Series!$C$2:$C$1048576)","v":0},0]
[null,null,null,null,null,null,null,null,{"$f":"SUMIF('Bienes fideicomitidos'!$A$2:$A$1048576, \"=\" &A342,'Bienes fideicomitidos'!$C$2:$C$1048576)","v":0},null,null,null,null,{"$f":"SUMIF(Series!$A$2:$A$1048576, \"=\" &A342,Series!$C$2:$C$1048576)","v":0},0]
[null,null,null,null,null,null,null,null,{"$f":"SUMIF('Bienes fideicomitidos'!$A$2:$A$1048576, \"=\" &A343,'Bienes fideicomitidos'!$C$2:$C$1048576)","v":0},null,null,null,null,{"$f":"SUMIF(Series!$A$2:$A$1048576, \"=\" &A343,Series!$C$2:$C$1048576)","v":0},0]
[null,null,null,null,null,null,null,null,{"$f":"SUMIF('Bienes fideicomitidos'!$A$2:$A$1048576, \"=\" &A344,'Bienes fideicomitidos'!$C$2:$C$1048576)","v":0},null,null,null,null,{"$f":"SUMIF(Series!$A$2:$A$1048576, \"=\" &A344,Series!$C$2:$C$1048576)","v":0},0]
[null,null,null,null,null,null,null,null,{"$f":"SUMIF('Bienes fideicomitidos'!$A$2:$A$1048576, \"=\" &A345,'Bienes fideicomitidos'!$C$2:$C$1048576)","v":0},null,null,null,null,{"$f":"SUMIF(Series!$A$2:$A$1048576, \"=\" &A345,Series!$C$2:$C$1048576)","v":0},0]
[null,null,null,null,null,null,null,null,{"$f":"SUMIF('Bienes fideicomitidos'!$A$2:$A$1048576, \"=\" &A346,'Bienes fideicomitidos'!$C$2:$C$1048576)","v":0},null,null,null,null,{"$f":"SUMIF(Series!$A$2:$A$1048576, \"=\" &A346,Series!$C$2:$C$1048576)","v":0},0]
[null,null,null,null,null,null,null,null,{"$f":"SUMIF('Bienes fideicomitidos'!$A$2:$A$1048576, \"=\" &A347,'Bienes fideicomitidos'!$C$2:$C$1048576)","v":0},null,null,null,null,{"$f":"SUMIF(Series!$A$2:$A$1048576, \"=\" &A347,Series!$C$2:$C$1048576)","v":0},0]
[null,null,null,null,null,null,null,null,{"$f":"SUMIF('Bienes fideicomitidos'!$A$2:$A$1048576, \"=\" &A348,'Bienes fideicomitidos'!$C$2:$C$1048576)","v":0},null,null,null,null,{"$f":"SUMIF(Series!$A$2:$A$1048576, \"=\" &A348,Series!$C$2:$C$1048576)","v":0},0]
[null,null,null,null,null,null,null,null,{"$f":"SUMIF('Bienes fideicomitidos'!$A$2:$A$1048576, \"=\" &A349,'Bienes fideicomitidos'!$C$2:$C$1048576)","v":0},null,null,null,null,{"$f":"SUMIF(Series!$A$2:$A$1048576, \"=\" &A349,Series!$C$2:$C$1048576)","v":0},0]
[null,null,null,null,null,null,null,null,{"$f":"SUMIF('Bienes fideicomitidos'!$A$2:$A$1048576, \"=\" &A350,'Bienes fideicomitidos'!$C$2:$C$1048576)","v":0},null,null,null,null,{"$f":"SUMIF(Series!$A$2:$A$1048576, \"=\" &A350,Series!$C$2:$C$1048576)","v":0},0]
[null,null,null,null,null,null,null,null,{"$f":"SUMIF('Bienes fideicomitidos'!$A$2:$A$1048576, \"=\" &A351,'Bienes fideicomitidos'!$C$2:$C$1048576)","v":0},null,null,null,null,{"$f":"SUMIF(Series!$A$2:$A$1048576, \"=\" &A351,Series!$C$2:$C$1048576)","v":0},0]
[null,null,null,null,null,null,null,null,{"$f":"SUMIF('Bienes fideicomitidos'!$A$2:$A$1048576, \"=\" &A352,'Bienes fideicomitidos'!$C$2:$C$1048576)","v":0},null,null,null,null,{"$f":"SUMIF(Series!$A$2:$A$1048576, \"=\" &A352,Series!$C$2:$C$1048576)","v":0},0]
[null,null,null,null,null,null,null,null,{"$f":"SUMIF('Bienes fideicomitidos'!$A$2:$A$1048576, \"=\" &A353,'Bienes fideicomitidos'!$C$2:$C$1048576)","v":0},null,null,null,null,{"$f":"SUMIF(Series!$A$2:$A$1048576, \"=\" &A353,Series!$C$2:$C$1048576)","v":0},0]
[null,null,null,null,null,null,null,null,{"$f":"SUMIF('Bienes fideicomitidos'!$A$2:$A$1048576, \"=\" &A354,'Bienes fideicomitidos'!$C$2:$C$1048576)","v":0},null,null,null,null,{"$f":"SUMIF(Series!$A$2:$A$1048576, \"=\" &A354,Series!$C$2:$C$1048576)","v":0},0]
[null,null,null,null,null,null,null,null,{"$f":"SUMIF('Bienes fideicomitidos'!$A$2:$A$1048576, \"=\" &A355,'Bienes fideicomitidos'!$C$2:$C$1048576)","v":0},null,null,null,null,{"$f":"SUMIF(Series!$A$2:$A$1048576, \"=\" &A355,Series!$C$2:$C$1048576)","v":0},0]
[null,null,null,null,null,null,null,null,{"$f":"SUMIF('Bienes fideicomitidos'!$A$2:$A$1048576, \"=\" &A356,'Bienes fideicomitidos'!$C$2:$C$1048576)","v":0},null,null,null,null,{"$f":"SUMIF(Series!$A$2:$A$1048576, \"=\" &A356,Series!$C$2:$C$1048576)","v":0},0]
[null,null,null,null,null,null,null,null,{"$f":"SUMIF('Bienes fideicomitidos'!$A$2:$A$1048576, \"=\" &A357,'Bienes fideicomitidos'!$C$2:$C$1048576)","v":0},null,null,null,null,{"$f":"SUMIF(Series!$A$2:$A$1048576, \"=\" &A357,Series!$C$2:$C$1048576)","v":0},0]
[null,null,null,null,null,null,null,null,{"$f":"SUMIF('Bienes fideicomitidos'!$A$2:$A$1048576, \"=\" &A358,'Bienes fideicomitidos'!$C$2:$C$1048576)","v":0},null,null,null,null,{"$f":"SUMIF(Series!$A$2:$A$1048576, \"=\" &A358,Series!$C$2:$C$1048576)","v":0},0]
[null,null,null,null,null,null,null,null,{"$f":"SUMIF('Bienes fideicomitidos'!$A$2:$A$1048576, \"=\" &A359,'Bienes fideicomitidos'!$C$2:$C$1048576)","v":0},null,null,null,null,{"$f":"SUMIF(Series!$A$2:$A$1048576, \"=\" &A359,Series!$C$2:$C$1048576)","v":0},0]
[null,null,null,null,null,null,null,null,{"$f":"SUMIF('Bienes fideicomitidos'!$A$2:$A$1048576, \"=\" &A360,'Bienes fideicomitidos'!$C$2:$C$1048576)","v":0},null,null,null,null,{"$f":"SUMIF(Series!$A$2:$A$1048576, \"=\" &A360,Series!$C$2:$C$1048576)","v":0},0]
[null,null,null,null,null,null,null,null,{"$f":"SUMIF('Bienes fideicomitidos'!$A$2:$A$1048576, \"=\" &A361,'Bienes fideicomitidos'!$C$2:$C$1048576)","v":0},null,null,null,null,{"$f":"SUMIF(Series!$A$2:$A$1048576, \"=\" &A361,Series!$C$2:$C$1048576)","v":0},0]
[null,null,null,null,null,null,null,null,{"$f":"SUMIF('Bienes fideicomitidos'!$A$2:$A$1048576, \"=\" &A362,'Bienes fideicomitidos'!$C$2:$C$1048576)","v":0},null,null,null,null,{"$f":"SUMIF(Series!$A$2:$A$1048576, \"=\" &A362,Series!$C$2:$C$1048576)","v":0},0]
[null,null,null,null,null,null,null,null,{"$f":"SUMIF('Bienes fideicomitidos'!$A$2:$A$1048576, \"=\" &A363,'Bienes fideicomitidos'!$C$2:$C$1048576)","v":0},null,null,null,null,{"$f":"SUMIF(Series!$A$2:$A$1048576, \"=\" &A363,Series!$C$2:$C$1048576)","v":0},0]
[null,null,null,null,null,null,null,null,{"$f":"SUMIF('Bienes fideicomitidos'!$A$2:$A$1048576, \"=\" &A364,'Bienes fideicomitidos'!$C$2:$C$1048576)","v":0},null,null,null,null,{"$f":"SUMIF(Series!$A$2:$A$1048576, \"=\" &A364,Series!$C$2:$C$1048576)","v":0},0]
[null,null,null,null,null,null,null,null,{"$f":"SUMIF('Bienes fideicomitidos'!$A$2:$A$1048576, \"=\" &A365,'Bienes fideicomitidos'!$C$2:$C$1048576)","v":0},null,null,null,null,{"$f":"SUMIF(Series!$A$2:$A$1048576, \"=\" &A365,Series!$C$2:$C$1048576)","v":0},0]
[null,null,null,null,null,null,null,null,{"$f":"SUMIF('Bienes fideicomitidos'!$A$2:$A$1048576, \"=\" &A366,'Bienes fideicomitidos'!$C$2:$C$1048576)","v":0},null,null,null,null,{"$f":"SUMIF(Series!$A$2:$A$1048576, \"=\" &A366,Series!$C$2:$C$1048576)","v":0},0]
[null,null,null,null,null,null,null,null,{"$f":"SUMIF('Bienes fideicomitidos'!$A$2:$A$1048576, \"=\" &A367,'Bienes fideicomitidos'!$C$2:$C$1048576)","v":0},null,null,null,null,{"$f":"SUMIF(Series!$A$2:$A$1048576, \"=\" &A367,Series!$C$2:$C$1048576)","v":0},0]
[null,null,null,null,null,null,null,null,{"$f":"SUMIF('Bienes fideicomitidos'!$A$2:$A$1048576, \"=\" &A368,'Bienes fideicomitidos'!$C$2:$C$1048576)","v":0},null,null,null,null,{"$f":"SUMIF(Series!$A$2:$A$1048576, \"=\" &A368,Series!$C$2:$C$1048576)","v":0},0]
[null,null,null,null,null,null,null,null,{"$f":"SUMIF('Bienes fideicomitidos'!$A$2:$A$1048576, \"=\" &A369,'Bienes fideicomitidos'!$C$2:$C$1048576)","v":0},null,null,null,null,{"$f":"SUMIF(Series!$A$2:$A$1048576, \"=\" &A369,Series!$C$2:$C$1048576)","v":0},0]
[null,null,null,null,null,null,null,null,{"$f":"SUMIF('Bienes fideicomitidos'!$A$2:$A$1048576, \"=\" &A370,'Bienes fideicomitidos'!$C$2:$C$1048576)","v":0},null,null,null,null,{"$f":"SUMIF(Series!$A$2:$A$1048576, \"=\" &A370,Series!$C$2:$C$1048576)","v":0},0]
[null,null,null,null,null,null,null,null,{"$f":"SUMIF('Bienes fideicomitidos'!$A$2:$A$1048576, \"=\" &A371,'Bienes fideicomitidos'!$C$2:$C$1048576)","v":0},null,null,null,null,{"$f":"SUMIF(Series!$A$2:$A$1048576, \"=\" &A371,Series!$C$2:$C$1048576)","v":0},0]
[null,null,null,null,null,null,null,null,{"$f":"SUMIF('Bienes fideicomitidos'!$A$2:$A$1048576, \"=\" &A372,'Bienes fideicomitidos'!$C$2:$C$1048576)","v":0},null,null,null,null,{"$f":"SUMIF(Series!$A$2:$A$1048576, \"=\" &A372,Series!$C$2:$C$1048576)","v":0},0]
[null,null,null,null,null,null,null,null,{"$f":"SUMIF('Bienes fideicomitidos'!$A$2:$A$1048576, \"=\" &A373,'Bienes fideicomitidos'!$C$2:$C$1048576)","v":0},null,null,null,null,{"$f":"SUMIF(Series!$A$2:$A$1048576, \"=\" &A373,Series!$C$2:$C$1048576)","v":0},0]
[null,null,null,null,null,null,null,null,{"$f":"SUMIF('Bienes fideicomitidos'!$A$2:$A$1048576, \"=\" &A374,'Bienes fideicomitidos'!$C$2:$C$1048576)","v":0},null,null,null,null,{"$f":"SUMIF(Series!$A$2:$A$1048576, \"=\" &A374,Series!$C$2:$C$1048576)","v":0},0]
[null,null,null,null,null,null,null,null,{"$f":"SUMIF('Bienes fideicomitidos'!$A$2:$A$1048576, \"=\" &A375,'Bienes fideicomitidos'!$C$2:$C$1048576)","v":0},null,null,null,null,{"$f":"SUMIF(Series!$A$2:$A$1048576, \"=\" &A375,Series!$C$2:$C$1048576)","v":0},0]
[null,null,null,null,null,null,null,null,{"$f":"SUMIF('Bienes fideicomitidos'!$A$2:$A$1048576, \"=\" &A376,'Bienes fideicomitidos'!$C$2:$C$1048576)","v":0},null,null,null,null,{"$f":"SUMIF(Series!$A$2:$A$1048576, \"=\" &A376,Series!$C$2:$C$1048576)","v":0},0]
[null,null,null,null,null,null,null,null,{"$f":"SUMIF('Bienes fideicomitidos'!$A$2:$A$1048576, \"=\" &A377,'Bienes fideicomitidos'!$C$2:$C$1048576)","v":0},null,null,null,null,{"$f":"SUMIF(Series!$A$2:$A$1048576, \"=\" &A377,Series!$C$2:$C$1048576)","v":0},0]
[null,null,null,null,null,null,null,null,{"$f":"SUMIF('Bienes fideicomitidos'!$A$2:$A$1048576, \"=\" &A378,'Bienes fideicomitidos'!$C$2:$C$1048576)","v":0},null,null,null,null,{"$f":"SUMIF(Series!$A$2:$A$1048576, \"=\" &A378,Series!$C$2:$C$1048576)","v":0},0]
[null,null,null,null,null,null,null,null,{"$f":"SUMIF('Bienes fideicomitidos'!$A$2:$A$1048576, \"=\" &A379,'Bienes fideicomitidos'!$C$2:$C$1048576)","v":0},null,null,null,null,{"$f":"SUMIF(Series!$A$2:$A$1048576, \"=\" &A379,Series!$C$2:$C$1048576)","v":0},0]
[null,null,null,null,null,null,null,null,{"$f":"SUMIF('Bienes fideicomitidos'!$A$2:$A$1048576, \"=\" &A380,'Bienes fideicomitidos'!$C$2:$C$1048576)","v":0},null,null,null,null,{"$f":"SUMIF(Series!$A$2:$A$1048576, \"=\" &A380,Series!$C$2:$C$1048576)","v":0},0]
[null,null,null,null,null,null,null,null,{"$f":"SUMIF('Bienes fideicomitidos'!$A$2:$A$1048576, \"=\" &A381,'Bienes fideicomitidos'!$C$2:$C$1048576)","v":0},null,null,null,null,{"$f":"SUMIF(Series!$A$2:$A$1048576, \"=\" &A381,Series!$C$2:$C$1048576)","v":0},0]
[null,null,null,null,null,null,null,null,{"$f":"SUMIF('Bienes fideicomitidos'!$A$2:$A$1048576, \"=\" &A382,'Bienes fideicomitidos'!$C$2:$C$1048576)","v":0},null,null,null,null,{"$f":"SUMIF(Series!$A$2:$A$1048576, \"=\" &A382,Series!$C$2:$C$1048576)","v":0},0]
[null,null,null,null,null,null,null,null,{"$f":"SUMIF('Bienes fideicomitidos'!$A$2:$A$1048576, \"=\" &A383,'Bienes fideicomitidos'!$C$2:$C$1048576)","v":0},null,null,null,null,{"$f":"SUMIF(Series!$A$2:$A$1048576, \"=\" &A383,Series!$C$2:$C$1048576)","v":0},0]
[null,null,null,null,null,null,null,null,{"$f":"SUMIF('Bienes fideicomitidos'!$A$2:$A$1048576, \"=\" &A384,'Bienes fideicomitidos'!$C$2:$C$1048576)","v":0},null,null,null,null,{"$f":"SUMIF(Series!$A$2:$A$1048576, \"=\" &A384,Series!$C$2:$C$1048576)","v":0},0]
[null,null,null,null,null,null,null,null,{"$f":"SUMIF('Bienes fideicomitidos'!$A$2:$A$1048576, \"=\" &A385,'Bienes fideicomitidos'!$C$2:$C$1048576)","v":0},null,null,null,null,{"$f":"SUMIF(Series!$A$2:$A$1048576, \"=\" &A385,Series!$C$2:$C$1048576)","v":0},0]
[null,null,null,null,null,null,null,null,{"$f":"SUMIF('Bienes fideicomitidos'!$A$2:$A$1048576, \"=\" &A386,'Bienes fideicomitidos'!$C$2:$C$1048576)","v":0},null,null,null,null,{"$f":"SUMIF(Series!$A$2:$A$1048576, \"=\" &A386,Series!$C$2:$C$1048576)","v":0},0]
[null,null,null,null,null,null,null,null,{"$f":"SUMIF('Bienes fideicomitidos'!$A$2:$A$1048576, \"=\" &A387,'Bienes fideicomitidos'!$C$2:$C$1048576)","v":0},null,null,null,null,{"$f":"SUMIF(Series!$A$2:$A$1048576, \"=\" &A387,Series!$C$2:$C$1048576)","v":0},0]
[null,null,null,null,null,null,null,null,{"$f":"SUMIF('Bienes fideicomitidos'!$A$2:$A$1048576, \"=\" &A388,'Bienes fideicomitidos'!$C$2:$C$1048576)","v":0},null,null,null,null,{"$f":"SUMIF(Series!$A$2:$A$1048576, \"=\" &A388,Series!$C$2:$C$1048576)","v":0},0]
[null,null,null,null,null,null,null,null,{"$f":"SUMIF('Bienes fideicomitidos'!$A$2:$A$1048576, \"=\" &A389,'Bienes fideicomitidos'!$C$2:$C$1048576)","v":0},null,null,null,null,{"$f":"SUMIF(Series!$A$2:$A$1048576, \"=\" &A389,Series!$C$2:$C$1048576)","v":0},0]
[null,null,null,null,null,null,null,null,{"$f":"SUMIF('Bienes fideicomitidos'!$A$2:$A$1048576, \"=\" &A390,'Bienes fideicomitidos'!$C$2:$C$1048576)","v":0},null,null,null,null,{"$f":"SUMIF(Series!$A$2:$A$1048576, \"=\" &A390,Series!$C$2:$C$1048576)","v":0},0]
[null,null,null,null,null,null,null,null,{"$f":"SUMIF('Bienes fideicomitidos'!$A$2:$A$1048576, \"=\" &A391,'Bienes fideicomitidos'!$C$2:$C$1048576)","v":0},null,null,null,null,{"$f":"SUMIF(Series!$A$2:$A$1048576, \"=\" &A391,Series!$C$2:$C$1048576)","v":0},0]
[null,null,null,null,null,null,null,null,{"$f":"SUMIF('Bienes fideicomitidos'!$A$2:$A$1048576, \"=\" &A392,'Bienes fideicomitidos'!$C$2:$C$1048576)","v":0},null,null,null,null,{"$f":"SUMIF(Series!$A$2:$A$1048576, \"=\" &A392,Series!$C$2:$C$1048576)","v":0},0]
[null,null,null,null,null,null,null,null,{"$f":"SUMIF('Bienes fideicomitidos'!$A$2:$A$1048576, \"=\" &A393,'Bienes fideicomitidos'!$C$2:$C$1048576)","v":0},null,null,null,null,{"$f":"SUMIF(Series!$A$2:$A$1048576, \"=\" &A393,Series!$C$2:$C$1048576)","v":0},0]
[null,null,null,null,null,null,null,null,{"$f":"SUMIF('Bienes fideicomitidos'!$A$2:$A$1048576, \"=\" &A394,'Bienes fideicomitidos'!$C$2:$C$1048576)","v":0},null,null,null,null,{"$f":"SUMIF(Series!$A$2:$A$1048576, \"=\" &A394,Series!$C$2:$C$1048576)","v":0},0]
[null,null,null,null,null,null,null,null,{"$f":"SUMIF('Bienes fideicomitidos'!$A$2:$A$1048576, \"=\" &A395,'Bienes fideicomitidos'!$C$2:$C$1048576)","v":0},null,null,null,null,{"$f":"SUMIF(Series!$A$2:$A$1048576, \"=\" &A395,Series!$C$2:$C$1048576)","v":0},0]
[null,null,null,null,null,null,null,null,{"$f":"SUMIF('Bienes fideicomitidos'!$A$2:$A$1048576, \"=\" &A396,'Bienes fideicomitidos'!$C$2:$C$1048576)","v":0},null,null,null,null,{"$f":"SUMIF(Series!$A$2:$A$1048576, \"=\" &A396,Series!$C$2:$C$1048576)","v":0},0]
[null,null,null,null,null,null,null,null,{"$f":"SUMIF('Bienes fideicomitidos'!$A$2:$A$1048576, \"=\" &A397,'Bienes fideicomitidos'!$C$2:$C$1048576)","v":0},null,null,null,null,{"$f":"SUMIF(Series!$A$2:$A$1048576, \"=\" &A397,Series!$C$2:$C$1048576)","v":0},0]
[null,null,null,null,null,null,null,null,{"$f":"SUMIF('Bienes fideicomitidos'!$A$2:$A$1048576, \"=\" &A398,'Bienes fideicomitidos'!$C$2:$C$1048576)","v":0},null,null,null,null,{"$f":"SUMIF(Series!$A$2:$A$1048576, \"=\" &A398,Series!$C$2:$C$1048576)","v":0},{"$f":"IFERROR((I398/N398)*100,0)","v":0}]
[null,null,null,null,null,null,null,null,{"$f":"SUMIF('Bienes fideicomitidos'!$A$2:$A$1048576, \"=\" &A399,'Bienes fideicomitidos'!$C$2:$C$1048576)","v":0},null,null,null,null,{"$f":"SUMIF(Series!$A$2:$A$1048576, \"=\" &A399,Series!$C$2:$C$1048576)","v":0},0]
[null,null,null,null,null,null,null,null,{"$f":"SUMIF('Bienes fideicomitidos'!$A$2:$A$1048576, \"=\" &A400,'Bienes fideicomitidos'!$C$2:$C$1048576)","v":0},null,null,null,null,{"$f":"SUMIF(Series!$A$2:$A$1048576, \"=\" &A400,Series!$C$2:$C$1048576)","v":0},0]
[null,null,null,null,null,null,null,null,{"$f":"SUMIF('Bienes fideicomitidos'!$A$2:$A$1048576, \"=\" &A401,'Bienes fideicomitidos'!$C$2:$C$1048576)","v":0},null,null,null,null,{"$f":"SUMIF(Series!$A$2:$A$1048576, \"=\" &A401,Series!$C$2:$C$1048576)","v":0},0]
[null,null,null,null,null,null,null,null,{"$f":"SUMIF('Bienes fideicomitidos'!$A$2:$A$1048576, \"=\" &A402,'Bienes fideicomitidos'!$C$2:$C$1048576)","v":0},null,null,null,null,{"$f":"SUMIF(Series!$A$2:$A$1048576, \"=\" &A402,Series!$C$2:$C$1048576)","v":0},0]
[null,null,null,null,null,null,null,null,{"$f":"SUMIF('Bienes fideicomitidos'!$A$2:$A$1048576, \"=\" &A403,'Bienes fideicomitidos'!$C$2:$C$1048576)","v":0},null,null,null,null,{"$f":"SUMIF(Series!$A$2:$A$1048576, \"=\" &A403,Series!$C$2:$C$1048576)","v":0},0]
[null,null,null,null,null,null,null,null,{"$f":"SUMIF('Bienes fideicomitidos'!$A$2:$A$1048576, \"=\" &A404,'Bienes fideicomitidos'!$C$2:$C$1048576)","v":0},null,null,null,null,{"$f":"SUMIF(Series!$A$2:$A$1048576, \"=\" &A404,Series!$C$2:$C$1048576)","v":0},0]
[null,null,null,null,null,null,null,null,{"$f":"SUMIF('Bienes fideicomitidos'!$A$2:$A$1048576, \"=\" &A405,'Bienes fideicomitidos'!$C$2:$C$1048576)","v":0},null,null,null,null,{"$f":"SUMIF(Series!$A$2:$A$1048576, \"=\" &A405,Series!$C$2:$C$1048576)","v":0},0]
[null,null,null,null,null,null,null,null,{"$f":"SUMIF('Bienes fideicomitidos'!$A$2:$A$1048576, \"=\" &A406,'Bienes fideicomitidos'!$C$2:$C$1048576)","v":0},null,null,null,null,{"$f":"SUMIF(Series!$A$2:$A$1048576, \"=\" &A406,Series!$C$2:$C$1048576)","v":0},0]
[null,null,null,null,null,null,null,null,{"$f":"SUMIF('Bienes fideicomitidos'!$A$2:$A$1048576, \"=\" &A407,'Bienes fideicomitidos'!$C$2:$C$1048576)","v":0},null,null,null,null,{"$f":"SUMIF(Series!$A$2:$A$1048576, \"=\" &A407,Series!$C$2:$C$1048576)","v":0},0]
[null,null,null,null,null,null,null,null,{"$f":"SUMIF('Bienes fideicomitidos'!$A$2:$A$1048576, \"=\" &A408,'Bienes fideicomitidos'!$C$2:$C$1048576)","v":0},null,null,null,null,{"$f":"SUMIF(Series!$A$2:$A$1048576, \"=\" &A408,Series!$C$2:$C$1048576)","v":0},0]
[null,null,null,null,null,null,null,null,{"$f":"SUMIF('Bienes fideicomitidos'!$A$2:$A$1048576, \"=\" &A409,'Bienes fideicomitidos'!$C$2:$C$1048576)","v":0},null,null,null,null,{"$f":"SUMIF(Series!$A$2:$A$1048576, \"=\" &A409,Series!$C$2:$C$1048576)","v":0},0]
[null,null,null,null,null,null,null,null,{"$f":"SUMIF('Bienes fideicomitidos'!$A$2:$A$1048576, \"=\" &A410,'Bienes fideicomitidos'!$C$2:$C$1048576)","v":0},null,null,null,null,{"$f":"SUMIF(Series!$A$2:$A$1048576, \"=\" &A410,Series!$C$2:$C$1048576)","v":0},0]
[null,null,null,null,null,null,null,null,{"$f":"SUMIF('Bienes fideicomitidos'!$A$2:$A$1048576, \"=\" &A411,'Bienes fideicomitidos'!$C$2:$C$1048576)","v":0},null,null,null,null,{"$f":"SUMIF(Series!$A$2:$A$1048576, \"=\" &A411,Series!$C$2:$C$1048576)","v":0},0]
[null,null,null,null,null,null,null,null,{"$f":"SUMIF('Bienes fideicomitidos'!$A$2:$A$1048576, \"=\" &A412,'Bienes fideicomitidos'!$C$2:$C$1048576)","v":0},null,null,null,null,{"$f":"SUMIF(Series!$A$2:$A$1048576, \"=\" &A412,Series!$C$2:$C$1048576)","v":0},0]
[null,null,null,null,null,null,null,null,{"$f":"SUMIF('Bienes fideicomitidos'!$A$2:$A$1048576, \"=\" &A413,'Bienes fideicomitidos'!$C$2:$C$1048576)","v":0},null,null,null,null,{"$f":"SUMIF(Series!$A$2:$A$1048576, \"=\" &A413,Series!$C$2:$C$1048576)","v":0},0]
[null,null,null,null,null,null,null,null,{"$f":"SUMIF('Bienes fideicomitidos'!$A$2:$A$1048576, \"=\" &A414,'Bienes fideicomitidos'!$C$2:$C$1048576)","v":0},null,null,null,null,{"$f":"SUMIF(Series!$A$2:$A$1048576, \"=\" &A414,Series!$C$2:$C$1048576)","v":0},0]
[null,null,null,null,null,null,null,null,{"$f":"SUMIF('Bienes fideicomitidos'!$A$2:$A$1048576, \"=\" &A415,'Bienes fideicomitidos'!$C$2:$C$1048576)","v":0},null,null,null,null,{"$f":"SUMIF(Series!$A$2:$A$1048576, \"=\" &A415,Series!$C$2:$C$1048576)","v":0},0]
[null,null,null,null,null,null,null,null,{"$f":"SUMIF('Bienes fideicomitidos'!$A$2:$A$1048576, \"=\" &A416,'Bienes fideicomitidos'!$C$2:$C$1048576)","v":0},null,null,null,null,{"$f":"SUMIF(Series!$A$2:$A$1048576, \"=\" &A416,Series!$C$2:$C$1048576)","v":0},0]
[null,null,null,null,null,null,null,null,{"$f":"SUMIF('Bienes fideicomitidos'!$A$2:$A$1048576, \"=\" &A417,'Bienes fideicomitidos'!$C$2:$C$1048576)","v":0},null,null,null,null,{"$f":"SUMIF(Series!$A$2:$A$1048576, \"=\" &A417,Series!$C$2:$C$1048576)","v":0},0]
[null,null,null,null,null,null,null,null,{"$f":"SUMIF('Bienes fideicomitidos'!$A$2:$A$1048576, \"=\" &A418,'Bienes fideicomitidos'!$C$2:$C$1048576)","v":0},null,null,null,null,{"$f":"SUMIF(Series!$A$2:$A$1048576, \"=\" &A418,Series!$C$2:$C$1048576)","v":0},0]
[null,null,null,null,null,null,null,null,{"$f":"SUMIF('Bienes fideicomitidos'!$A$2:$A$1048576, \"=\" &A419,'Bienes fideicomitidos'!$C$2:$C$1048576)","v":0},null,null,null,null,{"$f":"SUMIF(Series!$A$2:$A$1048576, \"=\" &A419,Series!$C$2:$C$1048576)","v":0},0]
[null,null,null,null,null,null,null,null,{"$f":"SUMIF('Bienes fideicomitidos'!$A$2:$A$1048576, \"=\" &A420,'Bienes fideicomitidos'!$C$2:$C$1048576)","v":0},null,null,null,null,{"$f":"SUMIF(Series!$A$2:$A$1048576, \"=\" &A420,Series!$C$2:$C$1048576)","v":0},0]
[null,null,null,null,null,null,null,null,{"$f":"SUMIF('Bienes fideicomitidos'!$A$2:$A$1048576, \"=\" &A421,'Bienes fideicomitidos'!$C$2:$C$1048576)","v":0},null,null,null,null,{"$f":"SUMIF(Series!$A$2:$A$1048576, \"=\" &A421,Series!$C$2:$C$1048576)","v":0},0]
[null,null,null,null,null,null,null,null,{"$f":"SUMIF('Bienes fideicomitidos'!$A$2:$A$1048576, \"=\" &A422,'Bienes fideicomitidos'!$C$2:$C$1048576)","v":0},null,null,null,null,{"$f":"SUMIF(Series!$A$2:$A$1048576, \"=\" &A422,Series!$C$2:$C$1048576)","v":0},0]
[null,null,null,null,null,null,null,null,{"$f":"SUMIF('Bienes fideicomitidos'!$A$2:$A$1048576, \"=\" &A423,'Bienes fideicomitidos'!$C$2:$C$1048576)","v":0},null,null,null,null,{"$f":"SUMIF(Series!$A$2:$A$1048576, \"=\" &A423,Series!$C$2:$C$1048576)","v":0},0]
[null,null,null,null,null,null,null,null,{"$f":"SUMIF('Bienes fideicomitidos'!$A$2:$A$1048576, \"=\" &A424,'Bienes fideicomitidos'!$C$2:$C$1048576)","v":0},null,null,null,null,{"$f":"SUMIF(Series!$A$2:$A$1048576, \"=\" &A424,Series!$C$2:$C$1048576)","v":0},0]
[null,null,null,null,null,null,null,null,{"$f":"SUMIF('Bienes fideicomitidos'!$A$2:$A$1048576, \"=\" &A425,'Bienes fideicomitidos'!$C$2:$C$1048576)","v":0},null,null,null,null,{"$f":"SUMIF(Series!$A$2:$A$1048576, \"=\" &A425,Series!$C$2:$C$1048576)","v":0},0]
[null,null,null,null,null,null,null,null,{"$f":"SUMIF('Bienes fideicomitidos'!$A$2:$A$1048576, \"=\" &A426,'Bienes fideicomitidos'!$C$2:$C$1048576)","v":0},null,null,null,null,{"$f":"SUMIF(Series!$A$2:$A$1048576, \"=\" &A426,Series!$C$2:$C$1048576)","v":0},0]
[null,null,null,null,null,null,null,null,{"$f":"SUMIF('Bienes fideicomitidos'!$A$2:$A$1048576, \"=\" &A427,'Bienes fideicomitidos'!$C$2:$C$1048576)","v":0},null,null,null,null,{"$f":"SUMIF(Series!$A$2:$A$1048576, \"=\" &A427,Series!$C$2:$C$1048576)","v":0},0]
[null,null,null,null,null,null,null,null,{"$f":"SUMIF('Bienes fideicomitidos'!$A$2:$A$1048576, \"=\" &A428,'Bienes fideicomitidos'!$C$2:$C$1048576)","v":0},null,null,null,null,{"$f":"SUMIF(Series!$A$2:$A$1048576, \"=\" &A428,Series!$C$2:$C$1048576)","v":0},0]
[null,null,null,null,null,null,null,null,{"$f":"SUMIF('Bienes fideicomitidos'!$A$2:$A$1048576, \"=\" &A429,'Bienes fideicomitidos'!$C$2:$C$1048576)","v":0},null,null,null,null,{"$f":"SUMIF(Series!$A$2:$A$1048576, \"=\" &A429,Series!$C$2:$C$1048576)","v":0},0]
[null,null,null,null,null,null,null,null,{"$f":"SUMIF('Bienes fideicomitidos'!$A$2:$A$1048576, \"=\" &A430,'Bienes fideicomitidos'!$C$2:$C$1048576)","v":0},null,null,null,null,{"$f":"SUMIF(Series!$A$2:$A$1048576, \"=\" &A430,Series!$C$2:$C$1048576)","v":0},0]
[null,null,null,null,null,null,null,null,{"$f":"SUMIF('Bienes fideicomitidos'!$A$2:$A$1048576, \"=\" &A431,'Bienes fideicomitidos'!$C$2:$C$1048576)","v":0},null,null,null,null,{"$f":"SUMIF(Series!$A$2:$A$1048576, \"=\" &A431,Series!$C$2:$C$1048576)","v":0},0]
[null,null,null,null,null,null,null,null,{"$f":"SUMIF('Bienes fideicomitidos'!$A$2:$A$1048576, \"=\" &A432,'Bienes fideicomitidos'!$C$2:$C$1048576)","v":0},null,null,null,null,{"$f":"SUMIF(Series!$A$2:$A$1048576, \"=\" &A432,Series!$C$2:$C$1048576)","v":0},0]
[null,null,null,null,null,null,null,null,{"$f":"SUMIF('Bienes fideicomitidos'!$A$2:$A$1048576, \"=\" &A433,'Bienes fideicomitidos'!$C$2:$C$1048576)","v":0},null,null,null,null,{"$f":"SUMIF(Series!$A$2:$A$1048576, \"=\" &A433,Series!$C$2:$C$1048576)","v":0},0]
[null,null,null,null,null,null,null,null,{"$f":"SUMIF('Bienes fideicomitidos'!$A$2:$A$1048576, \"=\" &A434,'Bienes fideicomitidos'!$C$2:$C$1048576)","v":0},null,null,null,null,{"$f":"SUMIF(Series!$A$2:$A$1048576, \"=\" &A434,Series!$C$2:$C$1048576)","v":0},0]
[null,null,null,null,null,null,null,null,{"$f":"SUMIF('Bienes fideicomitidos'!$A$2:$A$1048576, \"=\" &A435,'Bienes fideicomitidos'!$C$2:$C$1048576)","v":0},null,null,null,null,{"$f":"SUMIF(Series!$A$2:$A$1048576, \"=\" &A435,Series!$C$2:$C$1048576)","v":0},0]
[null,null,null,null,null,null,null,null,{"$f":"SUMIF('Bienes fideicomitidos'!$A$2:$A$1048576, \"=\" &A436,'Bienes fideicomitidos'!$C$2:$C$1048576)","v":0},null,null,null,null,{"$f":"SUMIF(Series!$A$2:$A$1048576, \"=\" &A436,Series!$C$2:$C$1048576)","v":0},0]
[null,null,null,null,null,null,null,null,{"$f":"SUMIF('Bienes fideicomitidos'!$A$2:$A$1048576, \"=\" &A437,'Bienes fideicomitidos'!$C$2:$C$1048576)","v":0},null,null,null,null,{"$f":"SUMIF(Series!$A$2:$A$1048576, \"=\" &A437,Series!$C$2:$C$1048576)","v":0},0]
[null,null,null,null,null,null,null,null,{"$f":"SUMIF('Bienes fideicomitidos'!$A$2:$A$1048576, \"=\" &A438,'Bienes fideicomitidos'!$C$2:$C$1048576)","v":0},null,null,null,null,{"$f":"SUMIF(Series!$A$2:$A$1048576, \"=\" &A438,Series!$C$2:$C$1048576)","v":0},0]
[null,null,null,null,null,null,null,null,{"$f":"SUMIF('Bienes fideicomitidos'!$A$2:$A$1048576, \"=\" &A439,'Bienes fideicomitidos'!$C$2:$C$1048576)","v":0},null,null,null,null,{"$f":"SUMIF(Series!$A$2:$A$1048576, \"=\" &A439,Series!$C$2:$C$1048576)","v":0},0]
[null,null,null,null,null,null,null,null,{"$f":"SUMIF('Bienes fideicomitidos'!$A$2:$A$1048576, \"=\" &A440,'Bienes fideicomitidos'!$C$2:$C$1048576)","v":0},null,null,null,null,{"$f":"SUMIF(Series!$A$2:$A$1048576, \"=\" &A440,Series!$C$2:$C$1048576)","v":0},0]
[null,null,null,null,null,null,null,null,{"$f":"SUMIF('Bienes fideicomitidos'!$A$2:$A$1048576, \"=\" &A441,'Bienes fideicomitidos'!$C$2:$C$1048576)","v":0},null,null,null,null,{"$f":"SUMIF(Series!$A$2:$A$1048576, \"=\" &A441,Series!$C$2:$C$1048576)","v":0},0]
[null,null,null,null,null,null,null,null,{"$f":"SUMIF('Bienes fideicomitidos'!$A$2:$A$1048576, \"=\" &A442,'Bienes fideicomitidos'!$C$2:$C$1048576)","v":0},null,null,null,null,{"$f":"SUMIF(Series!$A$2:$A$1048576, \"=\" &A442,Series!$C$2:$C$1048576)","v":0},0]
[null,null,null,null,null,null,null,null,{"$f":"SUMIF('Bienes fideicomitidos'!$A$2:$A$1048576, \"=\" &A443,'Bienes fideicomitidos'!$C$2:$C$1048576)","v":0},null,null,null,null,{"$f":"SUMIF(Series!$A$2:$A$1048576, \"=\" &A443,Series!$C$2:$C$1048576)","v":0},0]
[null,null,null,null,null,null,null,null,{"$f":"SUMIF('Bienes fideicomitidos'!$A$2:$A$1048576, \"=\" &A444,'Bienes fideicomitidos'!$C$2:$C$1048576)","v":0},null,null,null,null,{"$f":"SUMIF(Series!$A$2:$A$1048576, \"=\" &A444,Series!$C$2:$C$1048576)","v":0},0]
[null,null,null,null,null,null,null,null,{"$f":"SUMIF('Bienes fideicomitidos'!$A$2:$A$1048576, \"=\" &A445,'Bienes fideicomitidos'!$C$2:$C$1048576)","v":0},null,null,null,null,{"$f":"SUMIF(Series!$A$2:$A$1048576, \"=\" &A445,Series!$C$2:$C$1048576)","v":0},0]
[null,null,null,null,null,null,null,null,{"$f":"SUMIF('Bienes fideicomitidos'!$A$2:$A$1048576, \"=\" &A446,'Bienes fideicomitidos'!$C$2:$C$1048576)","v":0},null,null,null,null,{"$f":"SUMIF(Series!$A$2:$A$1048576, \"=\" &A446,Series!$C$2:$C$1048576)","v":0},0]
[null,null,null,null,null,null,null,null,{"$f":"SUMIF('Bienes fideicomitidos'!$A$2:$A$1048576, \"=\" &A447,'Bienes fideicomitidos'!$C$2:$C$1048576)","v":0},null,null,null,null,{"$f":"SUMIF(Series!$A$2:$A$1048576, \"=\" &A447,Series!$C$2:$C$1048576)","v":0},0]
[null,null,null,null,null,null,null,null,{"$f":"SUMIF('Bienes fideicomitidos'!$A$2:$A$1048576, \"=\" &A448,'Bienes fideicomitidos'!$C$2:$C$1048576)","v":0},null,null,null,null,{"$f":"SUMIF(Series!$A$2:$A$1048576, \"=\" &A448,Series!$C$2:$C$1048576)","v":0},0]
[null,null,null,null,null,null,null,null,{"$f":"SUMIF('Bienes fideicomitidos'!$A$2:$A$1048576, \"=\" &A449,'Bienes fideicomitidos'!$C$2:$C$1048576)","v":0},null,null,null,null,{"$f":"SUMIF(Series!$A$2:$A$1048576, \"=\" &A449,Series!$C$2:$C$1048576)","v":0},0]
[null,null,null,null,null,null,null,null,{"$f":"SUMIF('Bienes fideicomitidos'!$A$2:$A$1048576, \"=\" &A450,'Bienes fideicomitidos'!$C$2:$C$1048576)","v":0},null,null,null,null,{"$f":"SUMIF(Series!$A$2:$A$1048576, \"=\" &A450,Series!$C$2:$C$1048576)","v":0},0]
[null,null,null,null,null,null,null,null,{"$f":"SUMIF('Bienes fideicomitidos'!$A$2:$A$1048576, \"=\" &A451,'Bienes fideicomitidos'!$C$2:$C$1048576)","v":0},null,null,null,null,{"$f":"SUMIF(Series!$A$2:$A$1048576, \"=\" &A451,Series!$C$2:$C$1048576)","v":0},0]
[null,null,null,null,null,null,null,null,{"$f":"SUMIF('Bienes fideicomitidos'!$A$2:$A$1048576, \"=\" &A452,'Bienes fideicomitidos'!$C$2:$C$1048576)","v":0},null,null,null,null,{"$f":"SUMIF(Series!$A$2:$A$1048576, \"=\" &A452,Series!$C$2:$C$1048576)","v":0},0]
[null,null,null,null,null,null,null,null,{"$f":"SUMIF('Bienes fideicomitidos'!$A$2:$A$1048576, \"=\" &A453,'Bienes fideicomitidos'!$C$2:$C$1048576)","v":0},null,null,null,null,{"$f":"SUMIF(Series!$A$2:$A$1048576, \"=\" &A453,Series!$C$2:$C$1048576)","v":0},0]
[null,null,null,null,null,null,null,null,{"$f":"SUMIF('Bienes fideicomitidos'!$A$2:$A$1048576, \"=\" &A454,'Bienes fideicomitidos'!$C$2:$C$1048576)","v":0},null,null,null,null,{"$f":"SUMIF(Series!$A$2:$A$1048576, \"=\" &A454,Series!$C$2:$C$1048576)","v":0},0]
[null,null,null,null,null,null,null,null,{"$f":"SUMIF('Bienes fideicomitidos'!$A$2:$A$1048576, \"=\" &A455,'Bienes fideicomitidos'!$C$2:$C$1048576)","v":0},null,null,null,null,{"$f":"SUMIF(Series!$A$2:$A$1048576, \"=\" &A455,Series!$C$2:$C$1048576)","v":0},0]
[null,null,null,null,null,null,null,null,{"$f":"SUMIF('Bienes fideicomitidos'!$A$2:$A$1048576, \"=\" &A456,'Bienes fideicomitidos'!$C$2:$C$1048576)","v":0},null,null,null,null,{"$f":"SUMIF(Series!$A$2:$A$1048576, \"=\" &A456,Series!$C$2:$C$1048576)","v":0},0]
[null,null,null,null,null,null,null,null,{"$f":"SUMIF('Bienes fideicomitidos'!$A$2:$A$1048576, \"=\" &A457,'Bienes fideicomitidos'!$C$2:$C$1048576)","v":0},null,null,null,null,{"$f":"SUMIF(Series!$A$2:$A$1048576, \"=\" &A457,Series!$C$2:$C$1048576)","v":0},0]
[null,null,null,null,null,null,null,null,{"$f":"SUMIF('Bienes fideicomitidos'!$A$2:$A$1048576, \"=\" &A458,'Bienes fideicomitidos'!$C$2:$C$1048576)","v":0},null,null,null,null,{"$f":"SUMIF(Series!$A$2:$A$1048576, \"=\" &A458,Series!$C$2:$C$1048576)","v":0},0]
[null,null,null,null,null,null,null,null,{"$f":"SUMIF('Bienes fideicomitidos'!$A$2:$A$1048576, \"=\" &A459,'Bienes fideicomitidos'!$C$2:$C$1048576)","v":0},null,null,null,null,{"$f":"SUMIF(Series!$A$2:$A$1048576, \"=\" &A459,Series!$C$2:$C$1048576)","v":0},0]
[null,null,null,null,null,null,null,null,{"$f":"SUMIF('Bienes fideicomitidos'!$A$2:$A$1048576, \"=\" &A460,'Bienes fideicomitidos'!$C$2:$C$1048576)","v":0},null,null,null,null,{"$f":"SUMIF(Series!$A$2:$A$1048576, \"=\" &A460,Series!$C$2:$C$1048576)","v":0},0]
[null,null,null,null,null,null,null,null,{"$f":"SUMIF('Bienes fideicomitidos'!$A$2:$A$1048576, \"=\" &A461,'Bienes fideicomitidos'!$C$2:$C$1048576)","v":0},null,null,null,null,{"$f":"SUMIF(Series!$A$2:$A$1048576, \"=\" &A461,Series!$C$2:$C$1048576)","v":0},0]
[null,null,null,null,null,null,null,null,{"$f":"SUMIF('Bienes fideicomitidos'!$A$2:$A$1048576, \"=\" &A462,'Bienes fideicomitidos'!$C$2:$C$1048576)","v":0},null,null,null,null,{"$f":"SUMIF(Series!$A$2:$A$1048576, \"=\" &A462,Series!$C$2:$C$1048576)","v":0},{"$f":"IFERROR((I462/N462)*100,0)","v":0}]
[null,null,null,null,null,null,null,null,{"$f":"SUMIF('Bienes fideicomitidos'!$A$2:$A$1048576, \"=\" &A463,'Bienes fideicomitidos'!$C$2:$C$1048576)","v":0},null,null,null,null,{"$f":"SUMIF(Series!$A$2:$A$1048576, \"=\" &A463,Series!$C$2:$C$1048576)","v":0},0]
[null,null,null,null,null,null,null,null,{"$f":"SUMIF('Bienes fideicomitidos'!$A$2:$A$1048576, \"=\" &A464,'Bienes fideicomitidos'!$C$2:$C$1048576)","v":0},null,null,null,null,{"$f":"SUMIF(Series!$A$2:$A$1048576, \"=\" &A464,Series!$C$2:$C$1048576)","v":0},0]
[null,null,null,null,null,null,null,null,{"$f":"SUMIF('Bienes fideicomitidos'!$A$2:$A$1048576, \"=\" &A465,'Bienes fideicomitidos'!$C$2:$C$1048576)","v":0},null,null,null,null,{"$f":"SUMIF(Series!$A$2:$A$1048576, \"=\" &A465,Series!$C$2:$C$1048576)","v":0},0]
[null,null,null,null,null,null,null,null,{"$f":"SUMIF('Bienes fideicomitidos'!$A$2:$A$1048576, \"=\" &A466,'Bienes fideicomitidos'!$C$2:$C$1048576)","v":0},null,null,null,null,{"$f":"SUMIF(Series!$A$2:$A$1048576, \"=\" &A466,Series!$C$2:$C$1048576)","v":0},0]
[null,null,null,null,null,null,null,null,{"$f":"SUMIF('Bienes fideicomitidos'!$A$2:$A$1048576, \"=\" &A467,'Bienes fideicomitidos'!$C$2:$C$1048576)","v":0},null,null,null,null,{"$f":"SUMIF(Series!$A$2:$A$1048576, \"=\" &A467,Series!$C$2:$C$1048576)","v":0},0]
[null,null,null,null,null,null,null,null,{"$f":"SUMIF('Bienes fideicomitidos'!$A$2:$A$1048576, \"=\" &A468,'Bienes fideicomitidos'!$C$2:$C$1048576)","v":0},null,null,null,null,{"$f":"SUMIF(Series!$A$2:$A$1048576, \"=\" &A468,Series!$C$2:$C$1048576)","v":0},0]
[null,null,null,null,null,null,null,null,{"$f":"SUMIF('Bienes fideicomitidos'!$A$2:$A$1048576, \"=\" &A469,'Bienes fideicomitidos'!$C$2:$C$1048576)","v":0},null,null,null,null,{"$f":"SUMIF(Series!$A$2:$A$1048576, \"=\" &A469,Series!$C$2:$C$1048576)","v":0},0]
[null,null,null,null,null,null,null,null,{"$f":"SUMIF('Bienes fideicomitidos'!$A$2:$A$1048576, \"=\" &A470,'Bienes fideicomitidos'!$C$2:$C$1048576)","v":0},null,null,null,null,{"$f":"SUMIF(Series!$A$2:$A$1048576, \"=\" &A470,Series!$C$2:$C$1048576)","v":0},0]
[null,null,null,null,null,null,null,null,{"$f":"SUMIF('Bienes fideicomitidos'!$A$2:$A$1048576, \"=\" &A471,'Bienes fideicomitidos'!$C$2:$C$1048576)","v":0},null,null,null,null,{"$f":"SUMIF(Series!$A$2:$A$1048576, \"=\" &A471,Series!$C$2:$C$1048576)","v":0},0]
[null,null,null,null,null,null,null,null,{"$f":"SUMIF('Bienes fideicomitidos'!$A$2:$A$1048576, \"=\" &A472,'Bienes fideicomitidos'!$C$2:$C$1048576)","v":0},null,null,null,null,{"$f":"SUMIF(Series!$A$2:$A$1048576, \"=\" &A472,Series!$C$2:$C$1048576)","v":0},0]
[null,null,null,null,null,null,null,null,{"$f":"SUMIF('Bienes fideicomitidos'!$A$2:$A$1048576, \"=\" &A473,'Bienes fideicomitidos'!$C$2:$C$1048576)","v":0},null,null,null,null,{"$f":"SUMIF(Series!$A$2:$A$1048576, \"=\" &A473,Series!$C$2:$C$1048576)","v":0},0]
[null,null,null,null,null,null,null,null,{"$f":"SUMIF('Bienes fideicomitidos'!$A$2:$A$1048576, \"=\" &A474,'Bienes fideicomitidos'!$C$2:$C$1048576)","v":0},null,null,null,null,{"$f":"SUMIF(Series!$A$2:$A$1048576, \"=\" &A474,Series!$C$2:$C$1048576)","v":0},0]
[null,null,null,null,null,null,null,null,{"$f":"SUMIF('Bienes fideicomitidos'!$A$2:$A$1048576, \"=\" &A475,'Bienes fideicomitidos'!$C$2:$C$1048576)","v":0},null,null,null,null,{"$f":"SUMIF(Series!$A$2:$A$1048576, \"=\" &A475,Series!$C$2:$C$1048576)","v":0},0]
[null,null,null,null,null,null,null,null,{"$f":"SUMIF('Bienes fideicomitidos'!$A$2:$A$1048576, \"=\" &A476,'Bienes fideicomitidos'!$C$2:$C$1048576)","v":0},null,null,null,null,{"$f":"SUMIF(Series!$A$2:$A$1048576, \"=\" &A476,Series!$C$2:$C$1048576)","v":0},0]
[null,null,null,null,null,null,null,null,{"$f":"SUMIF('Bienes fideicomitidos'!$A$2:$A$1048576, \"=\" &A477,'Bienes fideicomitidos'!$C$2:$C$1048576)","v":0},null,null,null,null,{"$f":"SUMIF(Series!$A$2:$A$1048576, \"=\" &A477,Series!$C$2:$C$1048576)","v":0},0]
[null,null,null,null,null,null,null,null,{"$f":"SUMIF('Bienes fideicomitidos'!$A$2:$A$1048576, \"=\" &A478,'Bienes fideicomitidos'!$C$2:$C$1048576)","v":0},null,null,null,null,{"$f":"SUMIF(Series!$A$2:$A$1048576, \"=\" &A478,Series!$C$2:$C$1048576)","v":0},0]
[null,null,null,null,null,null,null,null,{"$f":"SUMIF('Bienes fideicomitidos'!$A$2:$A$1048576, \"=\" &A479,'Bienes fideicomitidos'!$C$2:$C$1048576)","v":0},null,null,null,null,{"$f":"SUMIF(Series!$A$2:$A$1048576, \"=\" &A479,Series!$C$2:$C$1048576)","v":0},0]
[null,null,null,null,null,null,null,null,{"$f":"SUMIF('Bienes fideicomitidos'!$A$2:$A$1048576, \"=\" &A480,'Bienes fideicomitidos'!$C$2:$C$1048576)","v":0},null,null,null,null,{"$f":"SUMIF(Series!$A$2:$A$1048576, \"=\" &A480,Series!$C$2:$C$1048576)","v":0},0]
[null,null,null,null,null,null,null,null,{"$f":"SUMIF('Bienes fideicomitidos'!$A$2:$A$1048576, \"=\" &A481,'Bienes fideicomitidos'!$C$2:$C$1048576)","v":0},null,null,null,null,{"$f":"SUMIF(Series!$A$2:$A$1048576, \"=\" &A481,Series!$C$2:$C$1048576)","v":0},0]
[null,null,null,null,null,null,null,null,{"$f":"SUMIF('Bienes fideicomitidos'!$A$2:$A$1048576, \"=\" &A482,'Bienes fideicomitidos'!$C$2:$C$1048576)","v":0},null,null,null,null,{"$f":"SUMIF(Series!$A$2:$A$1048576, \"=\" &A482,Series!$C$2:$C$1048576)","v":0},0]
[null,null,null,null,null,null,null,null,{"$f":"SUMIF('Bienes fideicomitidos'!$A$2:$A$1048576, \"=\" &A483,'Bienes fideicomitidos'!$C$2:$C$1048576)","v":0},null,null,null,null,{"$f":"SUMIF(Series!$A$2:$A$1048576, \"=\" &A483,Series!$C$2:$C$1048576)","v":0},0]
[null,null,null,null,null,null,null,null,{"$f":"SUMIF('Bienes fideicomitidos'!$A$2:$A$1048576, \"=\" &A484,'Bienes fideicomitidos'!$C$2:$C$1048576)","v":0},null,null,null,null,{"$f":"SUMIF(Series!$A$2:$A$1048576, \"=\" &A484,Series!$C$2:$C$1048576)","v":0},0]
[null,null,null,null,null,null,null,null,{"$f":"SUMIF('Bienes fideicomitidos'!$A$2:$A$1048576, \"=\" &A485,'Bienes fideicomitidos'!$C$2:$C$1048576)","v":0},null,null,null,null,{"$f":"SUMIF(Series!$A$2:$A$1048576, \"=\" &A485,Series!$C$2:$C$1048576)","v":0},0]
[null,null,null,null,null,null,null,null,{"$f":"SUMIF('Bienes fideicomitidos'!$A$2:$A$1048576, \"=\" &A486,'Bienes fideicomitidos'!$C$2:$C$1048576)","v":0},null,null,null,null,{"$f":"SUMIF(Series!$A$2:$A$1048576, \"=\" &A486,Series!$C$2:$C$1048576)","v":0},0]
[null,null,null,null,null,null,null,null,{"$f":"SUMIF('Bienes fideicomitidos'!$A$2:$A$1048576, \"=\" &A487,'Bienes fideicomitidos'!$C$2:$C$1048576)","v":0},null,null,null,null,{"$f":"SUMIF(Series!$A$2:$A$1048576, \"=\" &A487,Series!$C$2:$C$1048576)","v":0},0]
[null,null,null,null,null,null,null,null,{"$f":"SUMIF('Bienes fideicomitidos'!$A$2:$A$1048576, \"=\" &A488,'Bienes fideicomitidos'!$C$2:$C$1048576)","v":0},null,null,null,null,{"$f":"SUMIF(Series!$A$2:$A$1048576, \"=\" &A488,Series!$C$2:$C$1048576)","v":0},0]
[null,null,null,null,null,null,null,null,{"$f":"SUMIF('Bienes fideicomitidos'!$A$2:$A$1048576, \"=\" &A489,'Bienes fideicomitidos'!$C$2:$C$1048576)","v":0},null,null,null,null,{"$f":"SUMIF(Series!$A$2:$A$1048576, \"=\" &A489,Series!$C$2:$C$1048576)","v":0},0]
[null,null,null,null,null,null,null,null,{"$f":"SUMIF('Bienes fideicomitidos'!$A$2:$A$1048576, \"=\" &A490,'Bienes fideicomitidos'!$C$2:$C$1048576)","v":0},null,null,null,null,{"$f":"SUMIF(Series!$A$2:$A$1048576, \"=\" &A490,Series!$C$2:$C$1048576)","v":0},0]
[null,null,null,null,null,null,null,null,{"$f":"SUMIF('Bienes fideicomitidos'!$A$2:$A$1048576, \"=\" &A491,'Bienes fideicomitidos'!$C$2:$C$1048576)","v":0},null,null,null,null,{"$f":"SUMIF(Series!$A$2:$A$1048576, \"=\" &A491,Series!$C$2:$C$1048576)","v":0},0]
[null,null,null,null,null,null,null,null,{"$f":"SUMIF('Bienes fideicomitidos'!$A$2:$A$1048576, \"=\" &A492,'Bienes fideicomitidos'!$C$2:$C$1048576)","v":0},null,null,null,null,{"$f":"SUMIF(Series!$A$2:$A$1048576, \"=\" &A492,Series!$C$2:$C$1048576)","v":0},0]
[null,null,null,null,null,null,null,null,{"$f":"SUMIF('Bienes fideicomitidos'!$A$2:$A$1048576, \"=\" &A493,'Bienes fideicomitidos'!$C$2:$C$1048576)","v":0},null,null,null,null,{"$f":"SUMIF(Series!$A$2:$A$1048576, \"=\" &A493,Series!$C$2:$C$1048576)","v":0},0]
[null,null,null,null,null,null,null,null,{"$f":"SUMIF('Bienes fideicomitidos'!$A$2:$A$1048576, \"=\" &A494,'Bienes fideicomitidos'!$C$2:$C$1048576)","v":0},null,null,null,null,{"$f":"SUMIF(Series!$A$2:$A$1048576, \"=\" &A494,Series!$C$2:$C$1048576)","v":0},0]
[null,null,null,null,null,null,null,null,{"$f":"SUMIF('Bienes fideicomitidos'!$A$2:$A$1048576, \"=\" &A495,'Bienes fideicomitidos'!$C$2:$C$1048576)","v":0},null,null,null,null,{"$f":"SUMIF(Series!$A$2:$A$1048576, \"=\" &A495,Series!$C$2:$C$1048576)","v":0},0]
[null,null,null,null,null,null,null,null,{"$f":"SUMIF('Bienes fideicomitidos'!$A$2:$A$1048576, \"=\" &A496,'Bienes fideicomitidos'!$C$2:$C$1048576)","v":0},null,null,null,null,{"$f":"SUMIF(Series!$A$2:$A$1048576, \"=\" &A496,Series!$C$2:$C$1048576)","v":0},0]
[null,null,null,null,null,null,null,null,{"$f":"SUMIF('Bienes fideicomitidos'!$A$2:$A$1048576, \"=\" &A497,'Bienes fideicomitidos'!$C$2:$C$1048576)","v":0},null,null,null,null,{"$f":"SUMIF(Series!$A$2:$A$1048576, \"=\" &A497,Series!$C$2:$C$1048576)","v":0},0]
[null,null,null,null,null,null,null,null,{"$f":"SUMIF('Bienes fideicomitidos'!$A$2:$A$1048576, \"=\" &A498,'Bienes fideicomitidos'!$C$2:$C$1048576)","v":0},null,null,null,null,{"$f":"SUMIF(Series!$A$2:$A$1048576, \"=\" &A498,Series!$C$2:$C$1048576)","v":0},0]
[null,null,null,null,null,null,null,null,{"$f":"SUMIF('Bienes fideicomitidos'!$A$2:$A$1048576, \"=\" &A499,'Bienes fideicomitidos'!$C$2:$C$1048576)","v":0},null,null,null,null,{"$f":"SUMIF(Series!$A$2:$A$1048576, \"=\" &A499,Series!$C$2:$C$1048576)","v":0},0]
[null,null,null,null,null,null,null,null,{"$f":"SUMIF('Bienes fideicomitidos'!$A$2:$A$1048576, \"=\" &A500,'Bienes fideicomitidos'!$C$2:$C$1048576)","v":0},null,null,null,null,{"$f":"SUMIF(Series!$A$2:$A$1048576, \"=\" &A500,Series!$C$2:$C$1048576)","v":0},0]
[null,null,null,null,null,null,null,null,{"$f":"SUMIF('Bienes fideicomitidos'!$A$2:$A$1048576, \"=\" &A501,'Bienes fideicomitidos'!$C$2:$C$1048576)","v":0},null,null,null,null,{"$f":"SUMIF(Series!$A$2:$A$1048576, \"=\" &A501,Series!$C$2:$C$1048576)","v":0},0]
[null,null,null,null,null,null,null,null,{"$f":"SUMIF('Bienes fideicomitidos'!$A$2:$A$1048576, \"=\" &A502,'Bienes fideicomitidos'!$C$2:$C$1048576)","v":0},null,null,null,null,{"$f":"SUMIF(Series!$A$2:$A$1048576, \"=\" &A502,Series!$C$2:$C$1048576)","v":0},0]
[null,null,null,null,null,null,null,null,{"$f":"SUMIF('Bienes fideicomitidos'!$A$2:$A$1048576, \"=\" &A503,'Bienes fideicomitidos'!$C$2:$C$1048576)","v":0},null,null,null,null,{"$f":"SUMIF(Series!$A$2:$A$1048576, \"=\" &A503,Series!$C$2:$C$1048576)","v":0},0]
[null,null,null,null,null,null,null,null,{"$f":"SUMIF('Bienes fideicomitidos'!$A$2:$A$1048576, \"=\" &A504,'Bienes fideicomitidos'!$C$2:$C$1048576)","v":0},null,null,null,null,{"$f":"SUMIF(Series!$A$2:$A$1048576, \"=\" &A504,Series!$C$2:$C$1048576)","v":0},0]
[null,null,null,null,null,null,null,null,{"$f":"SUMIF('Bienes fideicomitidos'!$A$2:$A$1048576, \"=\" &A505,'Bienes fideicomitidos'!$C$2:$C$1048576)","v":0},null,null,null,null,{"$f":"SUMIF(Series!$A$2:$A$1048576, \"=\" &A505,Series!$C$2:$C$1048576)","v":0},0]
[null,null,null,null,null,null,null,null,{"$f":"SUMIF('Bienes fideicomitidos'!$A$2:$A$1048576, \"=\" &A506,'Bienes fideicomitidos'!$C$2:$C$1048576)","v":0},null,null,null,null,{"$f":"SUMIF(Series!$A$2:$A$1048576, \"=\" &A506,Series!$C$2:$C$1048576)","v":0},0]
[null,null,null,null,null,null,null,null,{"$f":"SUMIF('Bienes fideicomitidos'!$A$2:$A$1048576, \"=\" &A507,'Bienes fideicomitidos'!$C$2:$C$1048576)","v":0},null,null,null,null,{"$f":"SUMIF(Series!$A$2:$A$1048576, \"=\" &A507,Series!$C$2:$C$1048576)","v":0},0]
[null,null,null,null,null,null,null,null,{"$f":"SUMIF('Bienes fideicomitidos'!$A$2:$A$1048576, \"=\" &A508,'Bienes fideicomitidos'!$C$2:$C$1048576)","v":0},null,null,null,null,{"$f":"SUMIF(Series!$A$2:$A$1048576, \"=\" &A508,Series!$C$2:$C$1048576)","v":0},0]
[null,null,null,null,null,null,null,null,{"$f":"SUMIF('Bienes fideicomitidos'!$A$2:$A$1048576, \"=\" &A509,'Bienes fideicomitidos'!$C$2:$C$1048576)","v":0},null,null,null,null,{"$f":"SUMIF(Series!$A$2:$A$1048576, \"=\" &A509,Series!$C$2:$C$1048576)","v":0},0]
[null,null,null,null,null,null,null,null,{"$f":"SUMIF('Bienes fideicomitidos'!$A$2:$A$1048576, \"=\" &A510,'Bienes fideicomitidos'!$C$2:$C$1048576)","v":0},null,null,null,null,{"$f":"SUMIF(Series!$A$2:$A$1048576, \"=\" &A510,Series!$C$2:$C$1048576)","v":0},0]
[null,null,null,null,null,null,null,null,{"$f":"SUMIF('Bienes fideicomitidos'!$A$2:$A$1048576, \"=\" &A511,'Bienes fideicomitidos'!$C$2:$C$1048576)","v":0},null,null,null,null,{"$f":"SUMIF(Series!$A$2:$A$1048576, \"=\" &A511,Series!$C$2:$C$1048576)","v":0},0]
[null,null,null,null,null,null,null,null,{"$f":"SUMIF('Bienes fideicomitidos'!$A$2:$A$1048576, \"=\" &A512,'Bienes fideicomitidos'!$C$2:$C$1048576)","v":0},null,null,null,null,{"$f":"SUMIF(Series!$A$2:$A$1048576, \"=\" &A512,Series!$C$2:$C$1048576)","v":0},0]
[null,null,null,null,null,null,null,null,{"$f":"SUMIF('Bienes fideicomitidos'!$A$2:$A$1048576, \"=\" &A513,'Bienes fideicomitidos'!$C$2:$C$1048576)","v":0},null,null,null,null,{"$f":"SUMIF(Series!$A$2:$A$1048576, \"=\" &A513,Series!$C$2:$C$1048576)","v":0},0]
[null,null,null,null,null,null,null,null,{"$f":"SUMIF('Bienes fideicomitidos'!$A$2:$A$1048576, \"=\" &A514,'Bienes fideicomitidos'!$C$2:$C$1048576)","v":0},null,null,null,null,{"$f":"SUMIF(Series!$A$2:$A$1048576, \"=\" &A514,Series!$C$2:$C$1048576)","v":0},0]
[null,null,null,null,null,null,null,null,{"$f":"SUMIF('Bienes fideicomitidos'!$A$2:$A$1048576, \"=\" &A515,'Bienes fideicomitidos'!$C$2:$C$1048576)","v":0},null,null,null,null,{"$f":"SUMIF(Series!$A$2:$A$1048576, \"=\" &A515,Series!$C$2:$C$1048576)","v":0},0]
[null,null,null,null,null,null,null,null,{"$f":"SUMIF('Bienes fideicomitidos'!$A$2:$A$1048576, \"=\" &A516,'Bienes fideicomitidos'!$C$2:$C$1048576)","v":0},null,null,null,null,{"$f":"SUMIF(Series!$A$2:$A$1048576, \"=\" &A516,Series!$C$2:$C$1048576)","v":0},0]
[null,null,null,null,null,null,null,null,{"$f":"SUMIF('Bienes fideicomitidos'!$A$2:$A$1048576, \"=\" &A517,'Bienes fideicomitidos'!$C$2:$C$1048576)","v":0},null,null,null,null,{"$f":"SUMIF(Series!$A$2:$A$1048576, \"=\" &A517,Series!$C$2:$C$1048576)","v":0},0]
[null,null,null,null,null,null,null,null,{"$f":"SUMIF('Bienes fideicomitidos'!$A$2:$A$1048576, \"=\" &A518,'Bienes fideicomitidos'!$C$2:$C$1048576)","v":0},null,null,null,null,{"$f":"SUMIF(Series!$A$2:$A$1048576, \"=\" &A518,Series!$C$2:$C$1048576)","v":0},0]
[null,null,null,null,null,null,null,null,{"$f":"SUMIF('Bienes fideicomitidos'!$A$2:$A$1048576, \"=\" &A519,'Bienes fideicomitidos'!$C$2:$C$1048576)","v":0},null,null,null,null,{"$f":"SUMIF(Series!$A$2:$A$1048576, \"=\" &A519,Series!$C$2:$C$1048576)","v":0},0]
[null,null,null,null,null,null,null,null,{"$f":"SUMIF('Bienes fideicomitidos'!$A$2:$A$1048576, \"=\" &A520,'Bienes fideicomitidos'!$C$2:$C$1048576)","v":0},null,null,null,null,{"$f":"SUMIF(Series!$A$2:$A$1048576, \"=\" &A520,Series!$C$2:$C$1048576)","v":0},0]
[null,null,null,null,null,null,null,null,{"$f":"SUMIF('Bienes fideicomitidos'!$A$2:$A$1048576, \"=\" &A521,'Bienes fideicomitidos'!$C$2:$C$1048576)","v":0},null,null,null,null,{"$f":"SUMIF(Series!$A$2:$A$1048576, \"=\" &A521,Series!$C$2:$C$1048576)","v":0},0]
[null,null,null,null,null,null,null,null,{"$f":"SUMIF('Bienes fideicomitidos'!$A$2:$A$1048576, \"=\" &A522,'Bienes fideicomitidos'!$C$2:$C$1048576)","v":0},null,null,null,null,{"$f":"SUMIF(Series!$A$2:$A$1048576, \"=\" &A522,Series!$C$2:$C$1048576)","v":0},0]
[null,null,null,null,null,null,null,null,{"$f":"SUMIF('Bienes fideicomitidos'!$A$2:$A$1048576, \"=\" &A523,'Bienes fideicomitidos'!$C$2:$C$1048576)","v":0},null,null,null,null,{"$f":"SUMIF(Series!$A$2:$A$1048576, \"=\" &A523,Series!$C$2:$C$1048576)","v":0},0]
[null,null,null,null,null,null,null,null,{"$f":"SUMIF('Bienes fideicomitidos'!$A$2:$A$1048576, \"=\" &A524,'Bienes fideicomitidos'!$C$2:$C$1048576)","v":0},null,null,null,null,{"$f":"SUMIF(Series!$A$2:$A$1048576, \"=\" &A524,Series!$C$2:$C$1048576)","v":0},0]
[null,null,null,null,null,null,null,null,{"$f":"SUMIF('Bienes fideicomitidos'!$A$2:$A$1048576, \"=\" &A525,'Bienes fideicomitidos'!$C$2:$C$1048576)","v":0},null,null,null,null,{"$f":"SUMIF(Series!$A$2:$A$1048576, \"=\" &A525,Series!$C$2:$C$1048576)","v":0},0]
[null,null,null,null,null,null,null,null,{"$f":"SUMIF('Bienes fideicomitidos'!$A$2:$A$1048576, \"=\" &A526,'Bienes fideicomitidos'!$C$2:$C$1048576)","v":0},null,null,null,null,{"$f":"SUMIF(Series!$A$2:$A$1048576, \"=\" &A526,Series!$C$2:$C$1048576)","v":0},{"$f":"IFERROR((I526/N526)*100,0)","v":0}]
[null,null,null,null,null,null,null,null,{"$f":"SUMIF('Bienes fideicomitidos'!$A$2:$A$1048576, \"=\" &A527,'Bienes fideicomitidos'!$C$2:$C$1048576)","v":0},null,null,null,null,{"$f":"SUMIF(Series!$A$2:$A$1048576, \"=\" &A527,Series!$C$2:$C$1048576)","v":0},0]
[null,null,null,null,null,null,null,null,{"$f":"SUMIF('Bienes fideicomitidos'!$A$2:$A$1048576, \"=\" &A528,'Bienes fideicomitidos'!$C$2:$C$1048576)","v":0},null,null,null,null,{"$f":"SUMIF(Series!$A$2:$A$1048576, \"=\" &A528,Series!$C$2:$C$1048576)","v":0},0]
[null,null,null,null,null,null,null,null,{"$f":"SUMIF('Bienes fideicomitidos'!$A$2:$A$1048576, \"=\" &A529,'Bienes fideicomitidos'!$C$2:$C$1048576)","v":0},null,null,null,null,{"$f":"SUMIF(Series!$A$2:$A$1048576, \"=\" &A529,Series!$C$2:$C$1048576)","v":0},0]
[null,null,null,null,null,null,null,null,{"$f":"SUMIF('Bienes fideicomitidos'!$A$2:$A$1048576, \"=\" &A530,'Bienes fideicomitidos'!$C$2:$C$1048576)","v":0},null,null,null,null,{"$f":"SUMIF(Series!$A$2:$A$1048576, \"=\" &A530,Series!$C$2:$C$1048576)","v":0},0]
[null,null,null,null,null,null,null,null,{"$f":"SUMIF('Bienes fideicomitidos'!$A$2:$A$1048576, \"=\" &A531,'Bienes fideicomitidos'!$C$2:$C$1048576)","v":0},null,null,null,null,{"$f":"SUMIF(Series!$A$2:$A$1048576, \"=\" &A531,Series!$C$2:$C$1048576)","v":0},0]
[null,null,null,null,null,null,null,null,{"$f":"SUMIF('Bienes fideicomitidos'!$A$2:$A$1048576, \"=\" &A532,'Bienes fideicomitidos'!$C$2:$C$1048576)","v":0},null,null,null,null,{"$f":"SUMIF(Series!$A$2:$A$1048576, \"=\" &A532,Series!$C$2:$C$1048576)","v":0},0]
[null,null,null,null,null,null,null,null,{"$f":"SUMIF('Bienes fideicomitidos'!$A$2:$A$1048576, \"=\" &A533,'Bienes fideicomitidos'!$C$2:$C$1048576)","v":0},null,null,null,null,{"$f":"SUMIF(Series!$A$2:$A$1048576, \"=\" &A533,Series!$C$2:$C$1048576)","v":0},0]
[null,null,null,null,null,null,null,null,{"$f":"SUMIF('Bienes fideicomitidos'!$A$2:$A$1048576, \"=\" &A534,'Bienes fideicomitidos'!$C$2:$C$1048576)","v":0},null,null,null,null,{"$f":"SUMIF(Series!$A$2:$A$1048576, \"=\" &A534,Series!$C$2:$C$1048576)","v":0},0]
[null,null,null,null,null,null,null,null,{"$f":"SUMIF('Bienes fideicomitidos'!$A$2:$A$1048576, \"=\" &A535,'Bienes fideicomitidos'!$C$2:$C$1048576)","v":0},null,null,null,null,{"$f":"SUMIF(Series!$A$2:$A$1048576, \"=\" &A535,Series!$C$2:$C$1048576)","v":0},0]
[null,null,null,null,null,null,null,null,{"$f":"SUMIF('Bienes fideicomitidos'!$A$2:$A$1048576, \"=\" &A536,'Bienes fideicomitidos'!$C$2:$C$1048576)","v":0},null,null,null,null,{"$f":"SUMIF(Series!$A$2:$A$1048576, \"=\" &A536,Series!$C$2:$C$1048576)","v":0},0]
[null,null,null,null,null,null,null,null,{"$f":"SUMIF('Bienes fideicomitidos'!$A$2:$A$1048576, \"=\" &A537,'Bienes fideicomitidos'!$C$2:$C$1048576)","v":0},null,null,null,null,{"$f":"SUMIF(Series!$A$2:$A$1048576, \"=\" &A537,Series!$C$2:$C$1048576)","v":0},0]
[null,null,null,null,null,null,null,null,{"$f":"SUMIF('Bienes fideicomitidos'!$A$2:$A$1048576, \"=\" &A538,'Bienes fideicomitidos'!$C$2:$C$1048576)","v":0},null,null,null,null,{"$f":"SUMIF(Series!$A$2:$A$1048576, \"=\" &A538,Series!$C$2:$C$1048576)","v":0},0]
[null,null,null,null,null,null,null,null,{"$f":"SUMIF('Bienes fideicomitidos'!$A$2:$A$1048576, \"=\" &A539,'Bienes fideicomitidos'!$C$2:$C$1048576)","v":0},null,null,null,null,{"$f":"SUMIF(Series!$A$2:$A$1048576, \"=\" &A539,Series!$C$2:$C$1048576)","v":0},0]
[null,null,null,null,null,null,null,null,{"$f":"SUMIF('Bienes fideicomitidos'!$A$2:$A$1048576, \"=\" &A540,'Bienes fideicomitidos'!$C$2:$C$1048576)","v":0},null,null,null,null,{"$f":"SUMIF(Series!$A$2:$A$1048576, \"=\" &A540,Series!$C$2:$C$1048576)","v":0},0]
[null,null,null,null,null,null,null,null,{"$f":"SUMIF('Bienes fideicomitidos'!$A$2:$A$1048576, \"=\" &A541,'Bienes fideicomitidos'!$C$2:$C$1048576)","v":0},null,null,null,null,{"$f":"SUMIF(Series!$A$2:$A$1048576, \"=\" &A541,Series!$C$2:$C$1048576)","v":0},0]
[null,null,null,null,null,null,null,null,{"$f":"SUMIF('Bienes fideicomitidos'!$A$2:$A$1048576, \"=\" &A542,'Bienes fideicomitidos'!$C$2:$C$1048576)","v":0},null,null,null,null,{"$f":"SUMIF(Series!$A$2:$A$1048576, \"=\" &A542,Series!$C$2:$C$1048576)","v":0},0]
[null,null,null,null,null,null,null,null,{"$f":"SUMIF('Bienes fideicomitidos'!$A$2:$A$1048576, \"=\" &A543,'Bienes fideicomitidos'!$C$2:$C$1048576)","v":0},null,null,null,null,{"$f":"SUMIF(Series!$A$2:$A$1048576, \"=\" &A543,Series!$C$2:$C$1048576)","v":0},0]
[null,null,null,null,null,null,null,null,{"$f":"SUMIF('Bienes fideicomitidos'!$A$2:$A$1048576, \"=\" &A544,'Bienes fideicomitidos'!$C$2:$C$1048576)","v":0},null,null,null,null,{"$f":"SUMIF(Series!$A$2:$A$1048576, \"=\" &A544,Series!$C$2:$C$1048576)","v":0},0]
[null,null,null,null,null,null,null,null,{"$f":"SUMIF('Bienes fideicomitidos'!$A$2:$A$1048576, \"=\" &A545,'Bienes fideicomitidos'!$C$2:$C$1048576)","v":0},null,null,null,null,{"$f":"SUMIF(Series!$A$2:$A$1048576, \"=\" &A545,Series!$C$2:$C$1048576)","v":0},0]
[null,null,null,null,null,null,null,null,{"$f":"SUMIF('Bienes fideicomitidos'!$A$2:$A$1048576, \"=\" &A546,'Bienes fideicomitidos'!$C$2:$C$1048576)","v":0},null,null,null,null,{"$f":"SUMIF(Series!$A$2:$A$1048576, \"=\" &A546,Series!$C$2:$C$1048576)","v":0},0]
[null,null,null,null,null,null,null,null,{"$f":"SUMIF('Bienes fideicomitidos'!$A$2:$A$1048576, \"=\" &A547,'Bienes fideicomitidos'!$C$2:$C$1048576)","v":0},null,null,null,null,{"$f":"SUMIF(Series!$A$2:$A$1048576, \"=\" &A547,Series!$C$2:$C$1048576)","v":0},0]
[null,null,null,null,null,null,null,null,{"$f":"SUMIF('Bienes fideicomitidos'!$A$2:$A$1048576, \"=\" &A548,'Bienes fideicomitidos'!$C$2:$C$1048576)","v":0},null,null,null,null,{"$f":"SUMIF(Series!$A$2:$A$1048576, \"=\" &A548,Series!$C$2:$C$1048576)","v":0},0]
[null,null,null,null,null,null,null,null,{"$f":"SUMIF('Bienes fideicomitidos'!$A$2:$A$1048576, \"=\" &A549,'Bienes fideicomitidos'!$C$2:$C$1048576)","v":0},null,null,null,null,{"$f":"SUMIF(Series!$A$2:$A$1048576, \"=\" &A549,Series!$C$2:$C$1048576)","v":0},0]
[null,null,null,null,null,null,null,null,{"$f":"SUMIF('Bienes fideicomitidos'!$A$2:$A$1048576, \"=\" &A550,'Bienes fideicomitidos'!$C$2:$C$1048576)","v":0},null,null,null,null,{"$f":"SUMIF(Series!$A$2:$A$1048576, \"=\" &A550,Series!$C$2:$C$1048576)","v":0},0]
[null,null,null,null,null,null,null,null,{"$f":"SUMIF('Bienes fideicomitidos'!$A$2:$A$1048576, \"=\" &A551,'Bienes fideicomitidos'!$C$2:$C$1048576)","v":0},null,null,null,null,{"$f":"SUMIF(Series!$A$2:$A$1048576, \"=\" &A551,Series!$C$2:$C$1048576)","v":0},0]
[null,null,null,null,null,null,null,null,{"$f":"SUMIF('Bienes fideicomitidos'!$A$2:$A$1048576, \"=\" &A552,'Bienes fideicomitidos'!$C$2:$C$1048576)","v":0},null,null,null,null,{"$f":"SUMIF(Series!$A$2:$A$1048576, \"=\" &A552,Series!$C$2:$C$1048576)","v":0},0]
[null,null,null,null,null,null,null,null,{"$f":"SUMIF('Bienes fideicomitidos'!$A$2:$A$1048576, \"=\" &A553,'Bienes fideicomitidos'!$C$2:$C$1048576)","v":0},null,null,null,null,{"$f":"SUMIF(Series!$A$2:$A$1048576, \"=\" &A553,Series!$C$2:$C$1048576)","v":0},0]
[null,null,null,null,null,null,null,null,{"$f":"SUMIF('Bienes fideicomitidos'!$A$2:$A$1048576, \"=\" &A554,'Bienes fideicomitidos'!$C$2:$C$1048576)","v":0},null,null,null,null,{"$f":"SUMIF(Series!$A$2:$A$1048576, \"=\" &A554,Series!$C$2:$C$1048576)","v":0},0]
[null,null,null,null,null,null,null,null,{"$f":"SUMIF('Bienes fideicomitidos'!$A$2:$A$1048576, \"=\" &A555,'Bienes fideicomitidos'!$C$2:$C$1048576)","v":0},null,null,null,null,{"$f":"SUMIF(Series!$A$2:$A$1048576, \"=\" &A555,Series!$C$2:$C$1048576)","v":0},0]
[null,null,null,null,null,null,null,null,{"$f":"SUMIF('Bienes fideicomitidos'!$A$2:$A$1048576, \"=\" &A556,'Bienes fideicomitidos'!$C$2:$C$1048576)","v":0},null,null,null,null,{"$f":"SUMIF(Series!$A$2:$A$1048576, \"=\" &A556,Series!$C$2:$C$1048576)","v":0},0]
[null,null,null,null,null,null,null,null,{"$f":"SUMIF('Bienes fideicomitidos'!$A$2:$A$1048576, \"=\" &A557,'Bienes fideicomitidos'!$C$2:$C$1048576)","v":0},null,null,null,null,{"$f":"SUMIF(Series!$A$2:$A$1048576, \"=\" &A557,Series!$C$2:$C$1048576)","v":0},0]
[null,null,null,null,null,null,null,null,{"$f":"SUMIF('Bienes fideicomitidos'!$A$2:$A$1048576, \"=\" &A558,'Bienes fideicomitidos'!$C$2:$C$1048576)","v":0},null,null,null,null,{"$f":"SUMIF(Series!$A$2:$A$1048576, \"=\" &A558,Series!$C$2:$C$1048576)","v":0},0]
[null,null,null,null,null,null,null,null,{"$f":"SUMIF('Bienes fideicomitidos'!$A$2:$A$1048576, \"=\" &A559,'Bienes fideicomitidos'!$C$2:$C$1048576)","v":0},null,null,null,null,{"$f":"SUMIF(Series!$A$2:$A$1048576, \"=\" &A559,Series!$C$2:$C$1048576)","v":0},0]
[null,null,null,null,null,null,null,null,{"$f":"SUMIF('Bienes fideicomitidos'!$A$2:$A$1048576, \"=\" &A560,'Bienes fideicomitidos'!$C$2:$C$1048576)","v":0},null,null,null,null,{"$f":"SUMIF(Series!$A$2:$A$1048576, \"=\" &A560,Series!$C$2:$C$1048576)","v":0},0]
[null,null,null,null,null,null,null,null,{"$f":"SUMIF('Bienes fideicomitidos'!$A$2:$A$1048576, \"=\" &A561,'Bienes fideicomitidos'!$C$2:$C$1048576)","v":0},null,null,null,null,{"$f":"SUMIF(Series!$A$2:$A$1048576, \"=\" &A561,Series!$C$2:$C$1048576)","v":0},0]
[null,null,null,null,null,null,null,null,{"$f":"SUMIF('Bienes fideicomitidos'!$A$2:$A$1048576, \"=\" &A562,'Bienes fideicomitidos'!$C$2:$C$1048576)","v":0},null,null,null,null,{"$f":"SUMIF(Series!$A$2:$A$1048576, \"=\" &A562,Series!$C$2:$C$1048576)","v":0},0]
[null,null,null,null,null,null,null,null,{"$f":"SUMIF('Bienes fideicomitidos'!$A$2:$A$1048576, \"=\" &A563,'Bienes fideicomitidos'!$C$2:$C$1048576)","v":0},null,null,null,null,{"$f":"SUMIF(Series!$A$2:$A$1048576, \"=\" &A563,Series!$C$2:$C$1048576)","v":0},0]
[null,null,null,null,null,null,null,null,{"$f":"SUMIF('Bienes fideicomitidos'!$A$2:$A$1048576, \"=\" &A564,'Bienes fideicomitidos'!$C$2:$C$1048576)","v":0},null,null,null,null,{"$f":"SUMIF(Series!$A$2:$A$1048576, \"=\" &A564,Series!$C$2:$C$1048576)","v":0},0]
[null,null,null,null,null,null,null,null,{"$f":"SUMIF('Bienes fideicomitidos'!$A$2:$A$1048576, \"=\" &A565,'Bienes fideicomitidos'!$C$2:$C$1048576)","v":0},null,null,null,null,{"$f":"SUMIF(Series!$A$2:$A$1048576, \"=\" &A565,Series!$C$2:$C$1048576)","v":0},0]
[null,null,null,null,null,null,null,null,{"$f":"SUMIF('Bienes fideicomitidos'!$A$2:$A$1048576, \"=\" &A566,'Bienes fideicomitidos'!$C$2:$C$1048576)","v":0},null,null,null,null,{"$f":"SUMIF(Series!$A$2:$A$1048576, \"=\" &A566,Series!$C$2:$C$1048576)","v":0},0]
[null,null,null,null,null,null,null,null,{"$f":"SUMIF('Bienes fideicomitidos'!$A$2:$A$1048576, \"=\" &A567,'Bienes fideicomitidos'!$C$2:$C$1048576)","v":0},null,null,null,null,{"$f":"SUMIF(Series!$A$2:$A$1048576, \"=\" &A567,Series!$C$2:$C$1048576)","v":0},0]
[null,null,null,null,null,null,null,null,{"$f":"SUMIF('Bienes fideicomitidos'!$A$2:$A$1048576, \"=\" &A568,'Bienes fideicomitidos'!$C$2:$C$1048576)","v":0},null,null,null,null,{"$f":"SUMIF(Series!$A$2:$A$1048576, \"=\" &A568,Series!$C$2:$C$1048576)","v":0},0]
[null,null,null,null,null,null,null,null,{"$f":"SUMIF('Bienes fideicomitidos'!$A$2:$A$1048576, \"=\" &A569,'Bienes fideicomitidos'!$C$2:$C$1048576)","v":0},null,null,null,null,{"$f":"SUMIF(Series!$A$2:$A$1048576, \"=\" &A569,Series!$C$2:$C$1048576)","v":0},0]
[null,null,null,null,null,null,null,null,{"$f":"SUMIF('Bienes fideicomitidos'!$A$2:$A$1048576, \"=\" &A570,'Bienes fideicomitidos'!$C$2:$C$1048576)","v":0},null,null,null,null,{"$f":"SUMIF(Series!$A$2:$A$1048576, \"=\" &A570,Series!$C$2:$C$1048576)","v":0},0]
[null,null,null,null,null,null,null,null,{"$f":"SUMIF('Bienes fideicomitidos'!$A$2:$A$1048576, \"=\" &A571,'Bienes fideicomitidos'!$C$2:$C$1048576)","v":0},null,null,null,null,{"$f":"SUMIF(Series!$A$2:$A$1048576, \"=\" &A571,Series!$C$2:$C$1048576)","v":0},0]
[null,null,null,null,null,null,null,null,{"$f":"SUMIF('Bienes fideicomitidos'!$A$2:$A$1048576, \"=\" &A572,'Bienes fideicomitidos'!$C$2:$C$1048576)","v":0},null,null,null,null,{"$f":"SUMIF(Series!$A$2:$A$1048576, \"=\" &A572,Series!$C$2:$C$1048576)","v":0},0]
[null,null,null,null,null,null,null,null,{"$f":"SUMIF('Bienes fideicomitidos'!$A$2:$A$1048576, \"=\" &A573,'Bienes fideicomitidos'!$C$2:$C$1048576)","v":0},null,null,null,null,{"$f":"SUMIF(Series!$A$2:$A$1048576, \"=\" &A573,Series!$C$2:$C$1048576)","v":0},0]
[null,null,null,null,null,null,null,null,{"$f":"SUMIF('Bienes fideicomitidos'!$A$2:$A$1048576, \"=\" &A574,'Bienes fideicomitidos'!$C$2:$C$1048576)","v":0},null,null,null,null,{"$f":"SUMIF(Series!$A$2:$A$1048576, \"=\" &A574,Series!$C$2:$C$1048576)","v":0},0]
[null,null,null,null,null,null,null,null,{"$f":"SUMIF('Bienes fideicomitidos'!$A$2:$A$1048576, \"=\" &A575,'Bienes fideicomitidos'!$C$2:$C$1048576)","v":0},null,null,null,null,{"$f":"SUMIF(Series!$A$2:$A$1048576, \"=\" &A575,Series!$C$2:$C$1048576)","v":0},0]
[null,null,null,null,null,null,null,null,{"$f":"SUMIF('Bienes fideicomitidos'!$A$2:$A$1048576, \"=\" &A576,'Bienes fideicomitidos'!$C$2:$C$1048576)","v":0},null,null,null,null,{"$f":"SUMIF(Series!$A$2:$A$1048576, \"=\" &A576,Series!$C$2:$C$1048576)","v":0},0]
[null,null,null,null,null,null,null,null,{"$f":"SUMIF('Bienes fideicomitidos'!$A$2:$A$1048576, \"=\" &A577,'Bienes fideicomitidos'!$C$2:$C$1048576)","v":0},null,null,null,null,{"$f":"SUMIF(Series!$A$2:$A$1048576, \"=\" &A577,Series!$C$2:$C$1048576)","v":0},0]
[null,null,null,null,null,null,null,null,{"$f":"SUMIF('Bienes fideicomitidos'!$A$2:$A$1048576, \"=\" &A578,'Bienes fideicomitidos'!$C$2:$C$1048576)","v":0},null,null,null,null,{"$f":"SUMIF(Series!$A$2:$A$1048576, \"=\" &A578,Series!$C$2:$C$1048576)","v":0},0]
[null,null,null,null,null,null,null,null,{"$f":"SUMIF('Bienes fideicomitidos'!$A$2:$A$1048576, \"=\" &A579,'Bienes fideicomitidos'!$C$2:$C$1048576)","v":0},null,null,null,null,{"$f":"SUMIF(Series!$A$2:$A$1048576, \"=\" &A579,Series!$C$2:$C$1048576)","v":0},0]
[null,null,null,null,null,null,null,null,{"$f":"SUMIF('Bienes fideicomitidos'!$A$2:$A$1048576, \"=\" &A580,'Bienes fideicomitidos'!$C$2:$C$1048576)","v":0},null,null,null,null,{"$f":"SUMIF(Series!$A$2:$A$1048576, \"=\" &A580,Series!$C$2:$C$1048576)","v":0},0]
[null,null,null,null,null,null,null,null,{"$f":"SUMIF('Bienes fideicomitidos'!$A$2:$A$1048576, \"=\" &A581,'Bienes fideicomitidos'!$C$2:$C$1048576)","v":0},null,null,null,null,{"$f":"SUMIF(Series!$A$2:$A$1048576, \"=\" &A581,Series!$C$2:$C$1048576)","v":0},0]
[null,null,null,null,null,null,null,null,{"$f":"SUMIF('Bienes fideicomitidos'!$A$2:$A$1048576, \"=\" &A582,'Bienes fideicomitidos'!$C$2:$C$1048576)","v":0},null,null,null,null,{"$f":"SUMIF(Series!$A$2:$A$1048576, \"=\" &A582,Series!$C$2:$C$1048576)","v":0},0]
[null,null,null,null,null,null,null,null,{"$f":"SUMIF('Bienes fideicomitidos'!$A$2:$A$1048576, \"=\" &A583,'Bienes fideicomitidos'!$C$2:$C$1048576)","v":0},null,null,null,null,{"$f":"SUMIF(Series!$A$2:$A$1048576, \"=\" &A583,Series!$C$2:$C$1048576)","v":0},0]
[null,null,null,null,null,null,null,null,{"$f":"SUMIF('Bienes fideicomitidos'!$A$2:$A$1048576, \"=\" &A584,'Bienes fideicomitidos'!$C$2:$C$1048576)","v":0},null,null,null,null,{"$f":"SUMIF(Series!$A$2:$A$1048576, \"=\" &A584,Series!$C$2:$C$1048576)","v":0},0]
[null,null,null,null,null,null,null,null,{"$f":"SUMIF('Bienes fideicomitidos'!$A$2:$A$1048576, \"=\" &A585,'Bienes fideicomitidos'!$C$2:$C$1048576)","v":0},null,null,null,null,{"$f":"SUMIF(Series!$A$2:$A$1048576, \"=\" &A585,Series!$C$2:$C$1048576)","v":0},0]
[null,null,null,null,null,null,null,null,{"$f":"SUMIF('Bienes fideicomitidos'!$A$2:$A$1048576, \"=\" &A586,'Bienes fideicomitidos'!$C$2:$C$1048576)","v":0},null,null,null,null,{"$f":"SUMIF(Series!$A$2:$A$1048576, \"=\" &A586,Series!$C$2:$C$1048576)","v":0},0]
[null,null,null,null,null,null,null,null,{"$f":"SUMIF('Bienes fideicomitidos'!$A$2:$A$1048576, \"=\" &A587,'Bienes fideicomitidos'!$C$2:$C$1048576)","v":0},null,null,null,null,{"$f":"SUMIF(Series!$A$2:$A$1048576, \"=\" &A587,Series!$C$2:$C$1048576)","v":0},0]
[null,null,null,null,null,null,null,null,{"$f":"SUMIF('Bienes fideicomitidos'!$A$2:$A$1048576, \"=\" &A588,'Bienes fideicomitidos'!$C$2:$C$1048576)","v":0},null,null,null,null,{"$f":"SUMIF(Series!$A$2:$A$1048576, \"=\" &A588,Series!$C$2:$C$1048576)","v":0},0]
[null,null,null,null,null,null,null,null,{"$f":"SUMIF('Bienes fideicomitidos'!$A$2:$A$1048576, \"=\" &A589,'Bienes fideicomitidos'!$C$2:$C$1048576)","v":0},null,null,null,null,{"$f":"SUMIF(Series!$A$2:$A$1048576, \"=\" &A589,Series!$C$2:$C$1048576)","v":0},0]
[null,null,null,null,null,null,null,null,{"$f":"SUMIF('Bienes fideicomitidos'!$A$2:$A$1048576, \"=\" &A590,'Bienes fideicomitidos'!$C$2:$C$1048576)","v":0},null,null,null,null,{"$f":"SUMIF(Series!$A$2:$A$1048576, \"=\" &A590,Series!$C$2:$C$1048576)","v":0},{"$f":"IFERROR((I590/N590)*100,0)","v":0}]
[null,null,null,null,null,null,null,null,{"$f":"SUMIF('Bienes fideicomitidos'!$A$2:$A$1048576, \"=\" &A591,'Bienes fideicomitidos'!$C$2:$C$1048576)","v":0},null,null,null,null,{"$f":"SUMIF(Series!$A$2:$A$1048576, \"=\" &A591,Series!$C$2:$C$1048576)","v":0},0]
[null,null,null,null,null,null,null,null,{"$f":"SUMIF('Bienes fideicomitidos'!$A$2:$A$1048576, \"=\" &A592,'Bienes fideicomitidos'!$C$2:$C$1048576)","v":0},null,null,null,null,{"$f":"SUMIF(Series!$A$2:$A$1048576, \"=\" &A592,Series!$C$2:$C$1048576)","v":0},0]
[null,null,null,null,null,null,null,null,{"$f":"SUMIF('Bienes fideicomitidos'!$A$2:$A$1048576, \"=\" &A593,'Bienes fideicomitidos'!$C$2:$C$1048576)","v":0},null,null,null,null,{"$f":"SUMIF(Series!$A$2:$A$1048576, \"=\" &A593,Series!$C$2:$C$1048576)","v":0},0]
[null,null,null,null,null,null,null,null,{"$f":"SUMIF('Bienes fideicomitidos'!$A$2:$A$1048576, \"=\" &A594,'Bienes fideicomitidos'!$C$2:$C$1048576)","v":0},null,null,null,null,{"$f":"SUMIF(Series!$A$2:$A$1048576, \"=\" &A594,Series!$C$2:$C$1048576)","v":0},0]
[null,null,null,null,null,null,null,null,{"$f":"SUMIF('Bienes fideicomitidos'!$A$2:$A$1048576, \"=\" &A595,'Bienes fideicomitidos'!$C$2:$C$1048576)","v":0},null,null,null,null,{"$f":"SUMIF(Series!$A$2:$A$1048576, \"=\" &A595,Series!$C$2:$C$1048576)","v":0},0]
[null,null,null,null,null,null,null,null,{"$f":"SUMIF('Bienes fideicomitidos'!$A$2:$A$1048576, \"=\" &A596,'Bienes fideicomitidos'!$C$2:$C$1048576)","v":0},null,null,null,null,{"$f":"SUMIF(Series!$A$2:$A$1048576, \"=\" &A596,Series!$C$2:$C$1048576)","v":0},0]
[null,null,null,null,null,null,null,null,{"$f":"SUMIF('Bienes fideicomitidos'!$A$2:$A$1048576, \"=\" &A597,'Bienes fideicomitidos'!$C$2:$C$1048576)","v":0},null,null,null,null,{"$f":"SUMIF(Series!$A$2:$A$1048576, \"=\" &A597,Series!$C$2:$C$1048576)","v":0},0]
[null,null,null,null,null,null,null,null,{"$f":"SUMIF('Bienes fideicomitidos'!$A$2:$A$1048576, \"=\" &A598,'Bienes fideicomitidos'!$C$2:$C$1048576)","v":0},null,null,null,null,{"$f":"SUMIF(Series!$A$2:$A$1048576, \"=\" &A598,Series!$C$2:$C$1048576)","v":0},0]
[null,null,null,null,null,null,null,null,{"$f":"SUMIF('Bienes fideicomitidos'!$A$2:$A$1048576, \"=\" &A599,'Bienes fideicomitidos'!$C$2:$C$1048576)","v":0},null,null,null,null,{"$f":"SUMIF(Series!$A$2:$A$1048576, \"=\" &A599,Series!$C$2:$C$1048576)","v":0},0]
[null,null,null,null,null,null,null,null,{"$f":"SUMIF('Bienes fideicomitidos'!$A$2:$A$1048576, \"=\" &A600,'Bienes fideicomitidos'!$C$2:$C$1048576)","v":0},null,null,null,null,{"$f":"SUMIF(Series!$A$2:$A$1048576, \"=\" &A600,Series!$C$2:$C$1048576)","v":0},0]
[null,null,null,null,null,null,null,null,{"$f":"SUMIF('Bienes fideicomitidos'!$A$2:$A$1048576, \"=\" &A601,'Bienes fideicomitidos'!$C$2:$C$1048576)","v":0},null,null,null,null,{"$f":"SUMIF(Series!$A$2:$A$1048576, \"=\" &A601,Series!$C$2:$C$1048576)","v":0},0]
[null,null,null,null,null,null,null,null,{"$f":"SUMIF('Bienes fideicomitidos'!$A$2:$A$1048576, \"=\" &A602,'Bienes fideicomitidos'!$C$2:$C$1048576)","v":0},null,null,null,null,{"$f":"SUMIF(Series!$A$2:$A$1048576, \"=\" &A602,Series!$C$2:$C$1048576)","v":0},0]
[null,null,null,null,null,null,null,null,{"$f":"SUMIF('Bienes fideicomitidos'!$A$2:$A$1048576, \"=\" &A603,'Bienes fideicomitidos'!$C$2:$C$1048576)","v":0},null,null,null,null,{"$f":"SUMIF(Series!$A$2:$A$1048576, \"=\" &A603,Series!$C$2:$C$1048576)","v":0},0]
[null,null,null,null,null,null,null,null,{"$f":"SUMIF('Bienes fideicomitidos'!$A$2:$A$1048576, \"=\" &A604,'Bienes fideicomitidos'!$C$2:$C$1048576)","v":0},null,null,null,null,{"$f":"SUMIF(Series!$A$2:$A$1048576, \"=\" &A604,Series!$C$2:$C$1048576)","v":0},0]
[null,null,null,null,null,null,null,null,{"$f":"SUMIF('Bienes fideicomitidos'!$A$2:$A$1048576, \"=\" &A605,'Bienes fideicomitidos'!$C$2:$C$1048576)","v":0},null,null,null,null,{"$f":"SUMIF(Series!$A$2:$A$1048576, \"=\" &A605,Series!$C$2:$C$1048576)","v":0},0]
[null,null,null,null,null,null,null,null,{"$f":"SUMIF('Bienes fideicomitidos'!$A$2:$A$1048576, \"=\" &A606,'Bienes fideicomitidos'!$C$2:$C$1048576)","v":0},null,null,null,null,{"$f":"SUMIF(Series!$A$2:$A$1048576, \"=\" &A606,Series!$C$2:$C$1048576)","v":0},0]
[null,null,null,null,null,null,null,null,{"$f":"SUMIF('Bienes fideicomitidos'!$A$2:$A$1048576, \"=\" &A607,'Bienes fideicomitidos'!$C$2:$C$1048576)","v":0},null,null,null,null,{"$f":"SUMIF(Series!$A$2:$A$1048576, \"=\" &A607,Series!$C$2:$C$1048576)","v":0},0]
[null,null,null,null,null,null,null,null,{"$f":"SUMIF('Bienes fideicomitidos'!$A$2:$A$1048576, \"=\" &A608,'Bienes fideicomitidos'!$C$2:$C$1048576)","v":0},null,null,null,null,{"$f":"SUMIF(Series!$A$2:$A$1048576, \"=\" &A608,Series!$C$2:$C$1048576)","v":0},0]
[null,null,null,null,null,null,null,null,{"$f":"SUMIF('Bienes fideicomitidos'!$A$2:$A$1048576, \"=\" &A609,'Bienes fideicomitidos'!$C$2:$C$1048576)","v":0},null,null,null,null,{"$f":"SUMIF(Series!$A$2:$A$1048576, \"=\" &A609,Series!$C$2:$C$1048576)","v":0},0]
[null,null,null,null,null,null,null,null,{"$f":"SUMIF('Bienes fideicomitidos'!$A$2:$A$1048576, \"=\" &A610,'Bienes fideicomitidos'!$C$2:$C$1048576)","v":0},null,null,null,null,{"$f":"SUMIF(Series!$A$2:$A$1048576, \"=\" &A610,Series!$C$2:$C$1048576)","v":0},0]
[null,null,null,null,null,null,null,null,{"$f":"SUMIF('Bienes fideicomitidos'!$A$2:$A$1048576, \"=\" &A611,'Bienes fideicomitidos'!$C$2:$C$1048576)","v":0},null,null,null,null,{"$f":"SUMIF(Series!$A$2:$A$1048576, \"=\" &A611,Series!$C$2:$C$1048576)","v":0},0]
[null,null,null,null,null,null,null,null,{"$f":"SUMIF('Bienes fideicomitidos'!$A$2:$A$1048576, \"=\" &A612,'Bienes fideicomitidos'!$C$2:$C$1048576)","v":0},null,null,null,null,{"$f":"SUMIF(Series!$A$2:$A$1048576, \"=\" &A612,Series!$C$2:$C$1048576)","v":0},0]
[null,null,null,null,null,null,null,null,{"$f":"SUMIF('Bienes fideicomitidos'!$A$2:$A$1048576, \"=\" &A613,'Bienes fideicomitidos'!$C$2:$C$1048576)","v":0},null,null,null,null,{"$f":"SUMIF(Series!$A$2:$A$1048576, \"=\" &A613,Series!$C$2:$C$1048576)","v":0},0]
[null,null,null,null,null,null,null,null,{"$f":"SUMIF('Bienes fideicomitidos'!$A$2:$A$1048576, \"=\" &A614,'Bienes fideicomitidos'!$C$2:$C$1048576)","v":0},null,null,null,null,{"$f":"SUMIF(Series!$A$2:$A$1048576, \"=\" &A614,Series!$C$2:$C$1048576)","v":0},0]
[null,null,null,null,null,null,null,null,{"$f":"SUMIF('Bienes fideicomitidos'!$A$2:$A$1048576, \"=\" &A615,'Bienes fideicomitidos'!$C$2:$C$1048576)","v":0},null,null,null,null,{"$f":"SUMIF(Series!$A$2:$A$1048576, \"=\" &A615,Series!$C$2:$C$1048576)","v":0},0]
[null,null,null,null,null,null,null,null,{"$f":"SUMIF('Bienes fideicomitidos'!$A$2:$A$1048576, \"=\" &A616,'Bienes fideicomitidos'!$C$2:$C$1048576)","v":0},null,null,null,null,{"$f":"SUMIF(Series!$A$2:$A$1048576, \"=\" &A616,Series!$C$2:$C$1048576)","v":0},0]
[null,null,null,null,null,null,null,null,{"$f":"SUMIF('Bienes fideicomitidos'!$A$2:$A$1048576, \"=\" &A617,'Bienes fideicomitidos'!$C$2:$C$1048576)","v":0},null,null,null,null,{"$f":"SUMIF(Series!$A$2:$A$1048576, \"=\" &A617,Series!$C$2:$C$1048576)","v":0},0]
[null,null,null,null,null,null,null,null,{"$f":"SUMIF('Bienes fideicomitidos'!$A$2:$A$1048576, \"=\" &A618,'Bienes fideicomitidos'!$C$2:$C$1048576)","v":0},null,null,null,null,{"$f":"SUMIF(Series!$A$2:$A$1048576, \"=\" &A618,Series!$C$2:$C$1048576)","v":0},0]
[null,null,null,null,null,null,null,null,{"$f":"SUMIF('Bienes fideicomitidos'!$A$2:$A$1048576, \"=\" &A619,'Bienes fideicomitidos'!$C$2:$C$1048576)","v":0},null,null,null,null,{"$f":"SUMIF(Series!$A$2:$A$1048576, \"=\" &A619,Series!$C$2:$C$1048576)","v":0},0]
[null,null,null,null,null,null,null,null,{"$f":"SUMIF('Bienes fideicomitidos'!$A$2:$A$1048576, \"=\" &A620,'Bienes fideicomitidos'!$C$2:$C$1048576)","v":0},null,null,null,null,{"$f":"SUMIF(Series!$A$2:$A$1048576, \"=\" &A620,Series!$C$2:$C$1048576)","v":0},0]
[null,null,null,null,null,null,null,null,{"$f":"SUMIF('Bienes fideicomitidos'!$A$2:$A$1048576, \"=\" &A621,'Bienes fideicomitidos'!$C$2:$C$1048576)","v":0},null,null,null,null,{"$f":"SUMIF(Series!$A$2:$A$1048576, \"=\" &A621,Series!$C$2:$C$1048576)","v":0},0]
[null,null,null,null,null,null,null,null,{"$f":"SUMIF('Bienes fideicomitidos'!$A$2:$A$1048576, \"=\" &A622,'Bienes fideicomitidos'!$C$2:$C$1048576)","v":0},null,null,null,null,{"$f":"SUMIF(Series!$A$2:$A$1048576, \"=\" &A622,Series!$C$2:$C$1048576)","v":0},0]
[null,null,null,null,null,null,null,null,{"$f":"SUMIF('Bienes fideicomitidos'!$A$2:$A$1048576, \"=\" &A623,'Bienes fideicomitidos'!$C$2:$C$1048576)","v":0},null,null,null,null,{"$f":"SUMIF(Series!$A$2:$A$1048576, \"=\" &A623,Series!$C$2:$C$1048576)","v":0},0]
[null,null,null,null,null,null,null,null,{"$f":"SUMIF('Bienes fideicomitidos'!$A$2:$A$1048576, \"=\" &A624,'Bienes fideicomitidos'!$C$2:$C$1048576)","v":0},null,null,null,null,{"$f":"SUMIF(Series!$A$2:$A$1048576, \"=\" &A624,Series!$C$2:$C$1048576)","v":0},0]
[null,null,null,null,null,null,null,null,{"$f":"SUMIF('Bienes fideicomitidos'!$A$2:$A$1048576, \"=\" &A625,'Bienes fideicomitidos'!$C$2:$C$1048576)","v":0},null,null,null,null,{"$f":"SUMIF(Series!$A$2:$A$1048576, \"=\" &A625,Series!$C$2:$C$1048576)","v":0},0]
[null,null,null,null,null,null,null,null,{"$f":"SUMIF('Bienes fideicomitidos'!$A$2:$A$1048576, \"=\" &A626,'Bienes fideicomitidos'!$C$2:$C$1048576)","v":0},null,null,null,null,{"$f":"SUMIF(Series!$A$2:$A$1048576, \"=\" &A626,Series!$C$2:$C$1048576)","v":0},0]
[null,null,null,null,null,null,null,null,{"$f":"SUMIF('Bienes fideicomitidos'!$A$2:$A$1048576, \"=\" &A627,'Bienes fideicomitidos'!$C$2:$C$1048576)","v":0},null,null,null,null,{"$f":"SUMIF(Series!$A$2:$A$1048576, \"=\" &A627,Series!$C$2:$C$1048576)","v":0},0]
[null,null,null,null,null,null,null,null,{"$f":"SUMIF('Bienes fideicomitidos'!$A$2:$A$1048576, \"=\" &A628,'Bienes fideicomitidos'!$C$2:$C$1048576)","v":0},null,null,null,null,{"$f":"SUMIF(Series!$A$2:$A$1048576, \"=\" &A628,Series!$C$2:$C$1048576)","v":0},0]
[null,null,null,null,null,null,null,null,{"$f":"SUMIF('Bienes fideicomitidos'!$A$2:$A$1048576, \"=\" &A629,'Bienes fideicomitidos'!$C$2:$C$1048576)","v":0},null,null,null,null,{"$f":"SUMIF(Series!$A$2:$A$1048576, \"=\" &A629,Series!$C$2:$C$1048576)","v":0},0]
[null,null,null,null,null,null,null,null,{"$f":"SUMIF('Bienes fideicomitidos'!$A$2:$A$1048576, \"=\" &A630,'Bienes fideicomitidos'!$C$2:$C$1048576)","v":0},null,null,null,null,{"$f":"SUMIF(Series!$A$2:$A$1048576, \"=\" &A630,Series!$C$2:$C$1048576)","v":0},0]
[null,null,null,null,null,null,null,null,{"$f":"SUMIF('Bienes fideicomitidos'!$A$2:$A$1048576, \"=\" &A631,'Bienes fideicomitidos'!$C$2:$C$1048576)","v":0},null,null,null,null,{"$f":"SUMIF(Series!$A$2:$A$1048576, \"=\" &A631,Series!$C$2:$C$1048576)","v":0},0]
[null,null,null,null,null,null,null,null,{"$f":"SUMIF('Bienes fideicomitidos'!$A$2:$A$1048576, \"=\" &A632,'Bienes fideicomitidos'!$C$2:$C$1048576)","v":0},null,null,null,null,{"$f":"SUMIF(Series!$A$2:$A$1048576, \"=\" &A632,Series!$C$2:$C$1048576)","v":0},0]
[null,null,null,null,null,null,null,null,{"$f":"SUMIF('Bienes fideicomitidos'!$A$2:$A$1048576, \"=\" &A633,'Bienes fideicomitidos'!$C$2:$C$1048576)","v":0},null,null,null,null,{"$f":"SUMIF(Series!$A$2:$A$1048576, \"=\" &A633,Series!$C$2:$C$1048576)","v":0},0]
[null,null,null,null,null,null,null,null,{"$f":"SUMIF('Bienes fideicomitidos'!$A$2:$A$1048576, \"=\" &A634,'Bienes fideicomitidos'!$C$2:$C$1048576)","v":0},null,null,null,null,{"$f":"SUMIF(Series!$A$2:$A$1048576, \"=\" &A634,Series!$C$2:$C$1048576)","v":0},0]
[null,null,null,null,null,null,null,null,{"$f":"SUMIF('Bienes fideicomitidos'!$A$2:$A$1048576, \"=\" &A635,'Bienes fideicomitidos'!$C$2:$C$1048576)","v":0},null,null,null,null,{"$f":"SUMIF(Series!$A$2:$A$1048576, \"=\" &A635,Series!$C$2:$C$1048576)","v":0},0]
[null,null,null,null,null,null,null,null,{"$f":"SUMIF('Bienes fideicomitidos'!$A$2:$A$1048576, \"=\" &A636,'Bienes fideicomitidos'!$C$2:$C$1048576)","v":0},null,null,null,null,{"$f":"SUMIF(Series!$A$2:$A$1048576, \"=\" &A636,Series!$C$2:$C$1048576)","v":0},0]
[null,null,null,null,null,null,null,null,{"$f":"SUMIF('Bienes fideicomitidos'!$A$2:$A$1048576, \"=\" &A637,'Bienes fideicomitidos'!$C$2:$C$1048576)","v":0},null,null,null,null,{"$f":"SUMIF(Series!$A$2:$A$1048576, \"=\" &A637,Series!$C$2:$C$1048576)","v":0},0]
[null,null,null,null,null,null,null,null,{"$f":"SUMIF('Bienes fideicomitidos'!$A$2:$A$1048576, \"=\" &A638,'Bienes fideicomitidos'!$C$2:$C$1048576)","v":0},null,null,null,null,{"$f":"SUMIF(Series!$A$2:$A$1048576, \"=\" &A638,Series!$C$2:$C$1048576)","v":0},0]
[null,null,null,null,null,null,null,null,{"$f":"SUMIF('Bienes fideicomitidos'!$A$2:$A$1048576, \"=\" &A639,'Bienes fideicomitidos'!$C$2:$C$1048576)","v":0},null,null,null,null,{"$f":"SUMIF(Series!$A$2:$A$1048576, \"=\" &A639,Series!$C$2:$C$1048576)","v":0},0]
[null,null,null,null,null,null,null,null,{"$f":"SUMIF('Bienes fideicomitidos'!$A$2:$A$1048576, \"=\" &A640,'Bienes fideicomitidos'!$C$2:$C$1048576)","v":0},null,null,null,null,{"$f":"SUMIF(Series!$A$2:$A$1048576, \"=\" &A640,Series!$C$2:$C$1048576)","v":0},0]
[null,null,null,null,null,null,null,null,{"$f":"SUMIF('Bienes fideicomitidos'!$A$2:$A$1048576, \"=\" &A641,'Bienes fideicomitidos'!$C$2:$C$1048576)","v":0},null,null,null,null,{"$f":"SUMIF(Series!$A$2:$A$1048576, \"=\" &A641,Series!$C$2:$C$1048576)","v":0},0]
[null,null,null,null,null,null,null,null,{"$f":"SUMIF('Bienes fideicomitidos'!$A$2:$A$1048576, \"=\" &A642,'Bienes fideicomitidos'!$C$2:$C$1048576)","v":0},null,null,null,null,{"$f":"SUMIF(Series!$A$2:$A$1048576, \"=\" &A642,Series!$C$2:$C$1048576)","v":0},0]
[null,null,null,null,null,null,null,null,{"$f":"SUMIF('Bienes fideicomitidos'!$A$2:$A$1048576, \"=\" &A643,'Bienes fideicomitidos'!$C$2:$C$1048576)","v":0},null,null,null,null,{"$f":"SUMIF(Series!$A$2:$A$1048576, \"=\" &A643,Series!$C$2:$C$1048576)","v":0},0]
[null,null,null,null,null,null,null,null,{"$f":"SUMIF('Bienes fideicomitidos'!$A$2:$A$1048576, \"=\" &A644,'Bienes fideicomitidos'!$C$2:$C$1048576)","v":0},null,null,null,null,{"$f":"SUMIF(Series!$A$2:$A$1048576, \"=\" &A644,Series!$C$2:$C$1048576)","v":0},0]
[null,null,null,null,null,null,null,null,{"$f":"SUMIF('Bienes fideicomitidos'!$A$2:$A$1048576, \"=\" &A645,'Bienes fideicomitidos'!$C$2:$C$1048576)","v":0},null,null,null,null,{"$f":"SUMIF(Series!$A$2:$A$1048576, \"=\" &A645,Series!$C$2:$C$1048576)","v":0},0]
[null,null,null,null,null,null,null,null,{"$f":"SUMIF('Bienes fideicomitidos'!$A$2:$A$1048576, \"=\" &A646,'Bienes fideicomitidos'!$C$2:$C$1048576)","v":0},null,null,null,null,{"$f":"SUMIF(Series!$A$2:$A$1048576, \"=\" &A646,Series!$C$2:$C$1048576)","v":0},0]
[null,null,null,null,null,null,null,null,{"$f":"SUMIF('Bienes fideicomitidos'!$A$2:$A$1048576, \"=\" &A647,'Bienes fideicomitidos'!$C$2:$C$1048576)","v":0},null,null,null,null,{"$f":"SUMIF(Series!$A$2:$A$1048576, \"=\" &A647,Series!$C$2:$C$1048576)","v":0},0]
[null,null,null,null,null,null,null,null,{"$f":"SUMIF('Bienes fideicomitidos'!$A$2:$A$1048576, \"=\" &A648,'Bienes fideicomitidos'!$C$2:$C$1048576)","v":0},null,null,null,null,{"$f":"SUMIF(Series!$A$2:$A$1048576, \"=\" &A648,Series!$C$2:$C$1048576)","v":0},0]
[null,null,null,null,null,null,null,null,{"$f":"SUMIF('Bienes fideicomitidos'!$A$2:$A$1048576, \"=\" &A649,'Bienes fideicomitidos'!$C$2:$C$1048576)","v":0},null,null,null,null,{"$f":"SUMIF(Series!$A$2:$A$1048576, \"=\" &A649,Series!$C$2:$C$1048576)","v":0},0]
[null,null,null,null,null,null,null,null,{"$f":"SUMIF('Bienes fideicomitidos'!$A$2:$A$1048576, \"=\" &A650,'Bienes fideicomitidos'!$C$2:$C$1048576)","v":0},null,null,null,null,{"$f":"SUMIF(Series!$A$2:$A$1048576, \"=\" &A650,Series!$C$2:$C$1048576)","v":0},0]
[null,null,null,null,null,null,null,null,{"$f":"SUMIF('Bienes fideicomitidos'!$A$2:$A$1048576, \"=\" &A651,'Bienes fideicomitidos'!$C$2:$C$1048576)","v":0},null,null,null,null,{"$f":"SUMIF(Series!$A$2:$A$1048576, \"=\" &A651,Series!$C$2:$C$1048576)","v":0},0]
[null,null,null,null,null,null,null,null,{"$f":"SUMIF('Bienes fideicomitidos'!$A$2:$A$1048576, \"=\" &A652,'Bienes fideicomitidos'!$C$2:$C$1048576)","v":0},null,null,null,null,{"$f":"SUMIF(Series!$A$2:$A$1048576, \"=\" &A652,Series!$C$2:$C$1048576)","v":0},0]
[null,null,null,null,null,null,null,null,{"$f":"SUMIF('Bienes fideicomitidos'!$A$2:$A$1048576, \"=\" &A653,'Bienes fideicomitidos'!$C$2:$C$1048576)","v":0},null,null,null,null,{"$f":"SUMIF(Series!$A$2:$A$1048576, \"=\" &A653,Series!$C$2:$C$1048576)","v":0},0]
[null,null,null,null,null,null,null,null,{"$f":"SUMIF('Bienes fideicomitidos'!$A$2:$A$1048576, \"=\" &A654,'Bienes fideicomitidos'!$C$2:$C$1048576)","v":0},null,null,null,null,{"$f":"SUMIF(Series!$A$2:$A$1048576, \"=\" &A654,Series!$C$2:$C$1048576)","v":0},{"$f":"IFERROR((I654/N654)*100,0)","v":0}]
[null,null,null,null,null,null,null,null,{"$f":"SUMIF('Bienes fideicomitidos'!$A$2:$A$1048576, \"=\" &A655,'Bienes fideicomitidos'!$C$2:$C$1048576)","v":0},null,null,null,null,{"$f":"SUMIF(Series!$A$2:$A$1048576, \"=\" &A655,Series!$C$2:$C$1048576)","v":0},0]
[null,null,null,null,null,null,null,null,{"$f":"SUMIF('Bienes fideicomitidos'!$A$2:$A$1048576, \"=\" &A656,'Bienes fideicomitidos'!$C$2:$C$1048576)","v":0},null,null,null,null,{"$f":"SUMIF(Series!$A$2:$A$1048576, \"=\" &A656,Series!$C$2:$C$1048576)","v":0},0]
[null,null,null,null,null,null,null,null,{"$f":"SUMIF('Bienes fideicomitidos'!$A$2:$A$1048576, \"=\" &A657,'Bienes fideicomitidos'!$C$2:$C$1048576)","v":0},null,null,null,null,{"$f":"SUMIF(Series!$A$2:$A$1048576, \"=\" &A657,Series!$C$2:$C$1048576)","v":0},0]
[null,null,null,null,null,null,null,null,{"$f":"SUMIF('Bienes fideicomitidos'!$A$2:$A$1048576, \"=\" &A658,'Bienes fideicomitidos'!$C$2:$C$1048576)","v":0},null,null,null,null,{"$f":"SUMIF(Series!$A$2:$A$1048576, \"=\" &A658,Series!$C$2:$C$1048576)","v":0},0]
[null,null,null,null,null,null,null,null,{"$f":"SUMIF('Bienes fideicomitidos'!$A$2:$A$1048576, \"=\" &A659,'Bienes fideicomitidos'!$C$2:$C$1048576)","v":0},null,null,null,null,{"$f":"SUMIF(Series!$A$2:$A$1048576, \"=\" &A659,Series!$C$2:$C$1048576)","v":0},0]
[null,null,null,null,null,null,null,null,{"$f":"SUMIF('Bienes fideicomitidos'!$A$2:$A$1048576, \"=\" &A660,'Bienes fideicomitidos'!$C$2:$C$1048576)","v":0},null,null,null,null,{"$f":"SUMIF(Series!$A$2:$A$1048576, \"=\" &A660,Series!$C$2:$C$1048576)","v":0},0]
[null,null,null,null,null,null,null,null,{"$f":"SUMIF('Bienes fideicomitidos'!$A$2:$A$1048576, \"=\" &A661,'Bienes fideicomitidos'!$C$2:$C$1048576)","v":0},null,null,null,null,{"$f":"SUMIF(Series!$A$2:$A$1048576, \"=\" &A661,Series!$C$2:$C$1048576)","v":0},0]
[null,null,null,null,null,null,null,null,{"$f":"SUMIF('Bienes fideicomitidos'!$A$2:$A$1048576, \"=\" &A662,'Bienes fideicomitidos'!$C$2:$C$1048576)","v":0},null,null,null,null,{"$f":"SUMIF(Series!$A$2:$A$1048576, \"=\" &A662,Series!$C$2:$C$1048576)","v":0},0]
[null,null,null,null,null,null,null,null,{"$f":"SUMIF('Bienes fideicomitidos'!$A$2:$A$1048576, \"=\" &A663,'Bienes fideicomitidos'!$C$2:$C$1048576)","v":0},null,null,null,null,{"$f":"SUMIF(Series!$A$2:$A$1048576, \"=\" &A663,Series!$C$2:$C$1048576)","v":0},0]
[null,null,null,null,null,null,null,null,{"$f":"SUMIF('Bienes fideicomitidos'!$A$2:$A$1048576, \"=\" &A664,'Bienes fideicomitidos'!$C$2:$C$1048576)","v":0},null,null,null,null,{"$f":"SUMIF(Series!$A$2:$A$1048576, \"=\" &A664,Series!$C$2:$C$1048576)","v":0},0]
[null,null,null,null,null,null,null,null,{"$f":"SUMIF('Bienes fideicomitidos'!$A$2:$A$1048576, \"=\" &A665,'Bienes fideicomitidos'!$C$2:$C$1048576)","v":0},null,null,null,null,{"$f":"SUMIF(Series!$A$2:$A$1048576, \"=\" &A665,Series!$C$2:$C$1048576)","v":0},0]
[null,null,null,null,null,null,null,null,{"$f":"SUMIF('Bienes fideicomitidos'!$A$2:$A$1048576, \"=\" &A666,'Bienes fideicomitidos'!$C$2:$C$1048576)","v":0},null,null,null,null,{"$f":"SUMIF(Series!$A$2:$A$1048576, \"=\" &A666,Series!$C$2:$C$1048576)","v":0},0]
[null,null,null,null,null,null,null,null,{"$f":"SUMIF('Bienes fideicomitidos'!$A$2:$A$1048576, \"=\" &A667,'Bienes fideicomitidos'!$C$2:$C$1048576)","v":0},null,null,null,null,{"$f":"SUMIF(Series!$A$2:$A$1048576, \"=\" &A667,Series!$C$2:$C$1048576)","v":0},0]
[null,null,null,null,null,null,null,null,{"$f":"SUMIF('Bienes fideicomitidos'!$A$2:$A$1048576, \"=\" &A668,'Bienes fideicomitidos'!$C$2:$C$1048576)","v":0},null,null,null,null,{"$f":"SUMIF(Series!$A$2:$A$1048576, \"=\" &A668,Series!$C$2:$C$1048576)","v":0},0]
[null,null,null,null,null,null,null,null,{"$f":"SUMIF('Bienes fideicomitidos'!$A$2:$A$1048576, \"=\" &A669,'Bienes fideicomitidos'!$C$2:$C$1048576)","v":0},null,null,null,null,{"$f":"SUMIF(Series!$A$2:$A$1048576, \"=\" &A669,Series!$C$2:$C$1048576)","v":0},0]
[null,null,null,null,null,null,null,null,{"$f":"SUMIF('Bienes fideicomitidos'!$A$2:$A$1048576, \"=\" &A670,'Bienes fideicomitidos'!$C$2:$C$1048576)","v":0},null,null,null,null,{"$f":"SUMIF(Series!$A$2:$A$1048576, \"=\" &A670,Series!$C$2:$C$1048576)","v":0},0]
[null,null,null,null,null,null,null,null,{"$f":"SUMIF('Bienes fideicomitidos'!$A$2:$A$1048576, \"=\" &A671,'Bienes fideicomitidos'!$C$2:$C$1048576)","v":0},null,null,null,null,{"$f":"SUMIF(Series!$A$2:$A$1048576, \"=\" &A671,Series!$C$2:$C$1048576)","v":0},0]
[null,null,null,null,null,null,null,null,{"$f":"SUMIF('Bienes fideicomitidos'!$A$2:$A$1048576, \"=\" &A672,'Bienes fideicomitidos'!$C$2:$C$1048576)","v":0},null,null,null,null,{"$f":"SUMIF(Series!$A$2:$A$1048576, \"=\" &A672,Series!$C$2:$C$1048576)","v":0},0]
[null,null,null,null,null,null,null,null,{"$f":"SUMIF('Bienes fideicomitidos'!$A$2:$A$1048576, \"=\" &A673,'Bienes fideicomitidos'!$C$2:$C$1048576)","v":0},null,null,null,null,{"$f":"SUMIF(Series!$A$2:$A$1048576, \"=\" &A673,Series!$C$2:$C$1048576)","v":0},0]
[null,null,null,null,null,null,null,null,{"$f":"SUMIF('Bienes fideicomitidos'!$A$2:$A$1048576, \"=\" &A674,'Bienes fideicomitidos'!$C$2:$C$1048576)","v":0},null,null,null,null,{"$f":"SUMIF(Series!$A$2:$A$1048576, \"=\" &A674,Series!$C$2:$C$1048576)","v":0},0]
[null,null,null,null,null,null,null,null,{"$f":"SUMIF('Bienes fideicomitidos'!$A$2:$A$1048576, \"=\" &A675,'Bienes fideicomitidos'!$C$2:$C$1048576)","v":0},null,null,null,null,{"$f":"SUMIF(Series!$A$2:$A$1048576, \"=\" &A675,Series!$C$2:$C$1048576)","v":0},0]
[null,null,null,null,null,null,null,null,{"$f":"SUMIF('Bienes fideicomitidos'!$A$2:$A$1048576, \"=\" &A676,'Bienes fideicomitidos'!$C$2:$C$1048576)","v":0},null,null,null,null,{"$f":"SUMIF(Series!$A$2:$A$1048576, \"=\" &A676,Series!$C$2:$C$1048576)","v":0},0]
[null,null,null,null,null,null,null,null,{"$f":"SUMIF('Bienes fideicomitidos'!$A$2:$A$1048576, \"=\" &A677,'Bienes fideicomitidos'!$C$2:$C$1048576)","v":0},null,null,null,null,{"$f":"SUMIF(Series!$A$2:$A$1048576, \"=\" &A677,Series!$C$2:$C$1048576)","v":0},0]
[null,null,null,null,null,null,null,null,{"$f":"SUMIF('Bienes fideicomitidos'!$A$2:$A$1048576, \"=\" &A678,'Bienes fideicomitidos'!$C$2:$C$1048576)","v":0},null,null,null,null,{"$f":"SUMIF(Series!$A$2:$A$1048576, \"=\" &A678,Series!$C$2:$C$1048576)","v":0},0]
[null,null,null,null,null,null,null,null,{"$f":"SUMIF('Bienes fideicomitidos'!$A$2:$A$1048576, \"=\" &A679,'Bienes fideicomitidos'!$C$2:$C$1048576)","v":0},null,null,null,null,{"$f":"SUMIF(Series!$A$2:$A$1048576, \"=\" &A679,Series!$C$2:$C$1048576)","v":0},0]
[null,null,null,null,null,null,null,null,{"$f":"SUMIF('Bienes fideicomitidos'!$A$2:$A$1048576, \"=\" &A680,'Bienes fideicomitidos'!$C$2:$C$1048576)","v":0},null,null,null,null,{"$f":"SUMIF(Series!$A$2:$A$1048576, \"=\" &A680,Series!$C$2:$C$1048576)","v":0},0]
[null,null,null,null,null,null,null,null,{"$f":"SUMIF('Bienes fideicomitidos'!$A$2:$A$1048576, \"=\" &A681,'Bienes fideicomitidos'!$C$2:$C$1048576)","v":0},null,null,null,null,{"$f":"SUMIF(Series!$A$2:$A$1048576, \"=\" &A681,Series!$C$2:$C$1048576)","v":0},0]
[null,null,null,null,null,null,null,null,{"$f":"SUMIF('Bienes fideicomitidos'!$A$2:$A$1048576, \"=\" &A682,'Bienes fideicomitidos'!$C$2:$C$1048576)","v":0},null,null,null,null,{"$f":"SUMIF(Series!$A$2:$A$1048576, \"=\" &A682,Series!$C$2:$C$1048576)","v":0},0]
[null,null,null,null,null,null,null,null,{"$f":"SUMIF('Bienes fideicomitidos'!$A$2:$A$1048576, \"=\" &A683,'Bienes fideicomitidos'!$C$2:$C$1048576)","v":0},null,null,null,null,{"$f":"SUMIF(Series!$A$2:$A$1048576, \"=\" &A683,Series!$C$2:$C$1048576)","v":0},0]
[null,null,null,null,null,null,null,null,{"$f":"SUMIF('Bienes fideicomitidos'!$A$2:$A$1048576, \"=\" &A684,'Bienes fideicomitidos'!$C$2:$C$1048576)","v":0},null,null,null,null,{"$f":"SUMIF(Series!$A$2:$A$1048576, \"=\" &A684,Series!$C$2:$C$1048576)","v":0},0]
[null,null,null,null,null,null,null,null,{"$f":"SUMIF('Bienes fideicomitidos'!$A$2:$A$1048576, \"=\" &A685,'Bienes fideicomitidos'!$C$2:$C$1048576)","v":0},null,null,null,null,{"$f":"SUMIF(Series!$A$2:$A$1048576, \"=\" &A685,Series!$C$2:$C$1048576)","v":0},0]
[null,null,null,null,null,null,null,null,{"$f":"SUMIF('Bienes fideicomitidos'!$A$2:$A$1048576, \"=\" &A686,'Bienes fideicomitidos'!$C$2:$C$1048576)","v":0},null,null,null,null,{"$f":"SUMIF(Series!$A$2:$A$1048576, \"=\" &A686,Series!$C$2:$C$1048576)","v":0},0]
[null,null,null,null,null,null,null,null,{"$f":"SUMIF('Bienes fideicomitidos'!$A$2:$A$1048576, \"=\" &A687,'Bienes fideicomitidos'!$C$2:$C$1048576)","v":0},null,null,null,null,{"$f":"SUMIF(Series!$A$2:$A$1048576, \"=\" &A687,Series!$C$2:$C$1048576)","v":0},0]
[null,null,null,null,null,null,null,null,{"$f":"SUMIF('Bienes fideicomitidos'!$A$2:$A$1048576, \"=\" &A688,'Bienes fideicomitidos'!$C$2:$C$1048576)","v":0},null,null,null,null,{"$f":"SUMIF(Series!$A$2:$A$1048576, \"=\" &A688,Series!$C$2:$C$1048576)","v":0},0]
[null,null,null,null,null,null,null,null,{"$f":"SUMIF('Bienes fideicomitidos'!$A$2:$A$1048576, \"=\" &A689,'Bienes fideicomitidos'!$C$2:$C$1048576)","v":0},null,null,null,null,{"$f":"SUMIF(Series!$A$2:$A$1048576, \"=\" &A689,Series!$C$2:$C$1048576)","v":0},0]
[null,null,null,null,null,null,null,null,{"$f":"SUMIF('Bienes fideicomitidos'!$A$2:$A$1048576, \"=\" &A690,'Bienes fideicomitidos'!$C$2:$C$1048576)","v":0},null,null,null,null,{"$f":"SUMIF(Series!$A$2:$A$1048576, \"=\" &A690,Series!$C$2:$C$1048576)","v":0},0]
[null,null,null,null,null,null,null,null,{"$f":"SUMIF('Bienes fideicomitidos'!$A$2:$A$1048576, \"=\" &A691,'Bienes fideicomitidos'!$C$2:$C$1048576)","v":0},null,null,null,null,{"$f":"SUMIF(Series!$A$2:$A$1048576, \"=\" &A691,Series!$C$2:$C$1048576)","v":0},0]
[null,null,null,null,null,null,null,null,{"$f":"SUMIF('Bienes fideicomitidos'!$A$2:$A$1048576, \"=\" &A692,'Bienes fideicomitidos'!$C$2:$C$1048576)","v":0},null,null,null,null,{"$f":"SUMIF(Series!$A$2:$A$1048576, \"=\" &A692,Series!$C$2:$C$1048576)","v":0},0]
[null,null,null,null,null,null,null,null,{"$f":"SUMIF('Bienes fideicomitidos'!$A$2:$A$1048576, \"=\" &A693,'Bienes fideicomitidos'!$C$2:$C$1048576)","v":0},null,null,null,null,{"$f":"SUMIF(Series!$A$2:$A$1048576, \"=\" &A693,Series!$C$2:$C$1048576)","v":0},0]
[null,null,null,null,null,null,null,null,{"$f":"SUMIF('Bienes fideicomitidos'!$A$2:$A$1048576, \"=\" &A694,'Bienes fideicomitidos'!$C$2:$C$1048576)","v":0},null,null,null,null,{"$f":"SUMIF(Series!$A$2:$A$1048576, \"=\" &A694,Series!$C$2:$C$1048576)","v":0},0]
[null,null,null,null,null,null,null,null,{"$f":"SUMIF('Bienes fideicomitidos'!$A$2:$A$1048576, \"=\" &A695,'Bienes fideicomitidos'!$C$2:$C$1048576)","v":0},null,null,null,null,{"$f":"SUMIF(Series!$A$2:$A$1048576, \"=\" &A695,Series!$C$2:$C$1048576)","v":0},0]
[null,null,null,null,null,null,null,null,{"$f":"SUMIF('Bienes fideicomitidos'!$A$2:$A$1048576, \"=\" &A696,'Bienes fideicomitidos'!$C$2:$C$1048576)","v":0},null,null,null,null,{"$f":"SUMIF(Series!$A$2:$A$1048576, \"=\" &A696,Series!$C$2:$C$1048576)","v":0},0]
[null,null,null,null,null,null,null,null,{"$f":"SUMIF('Bienes fideicomitidos'!$A$2:$A$1048576, \"=\" &A697,'Bienes fideicomitidos'!$C$2:$C$1048576)","v":0},null,null,null,null,{"$f":"SUMIF(Series!$A$2:$A$1048576, \"=\" &A697,Series!$C$2:$C$1048576)","v":0},0]
[null,null,null,null,null,null,null,null,{"$f":"SUMIF('Bienes fideicomitidos'!$A$2:$A$1048576, \"=\" &A698,'Bienes fideicomitidos'!$C$2:$C$1048576)","v":0},null,null,null,null,{"$f":"SUMIF(Series!$A$2:$A$1048576, \"=\" &A698,Series!$C$2:$C$1048576)","v":0},0]
[null,null,null,null,null,null,null,null,{"$f":"SUMIF('Bienes fideicomitidos'!$A$2:$A$1048576, \"=\" &A699,'Bienes fideicomitidos'!$C$2:$C$1048576)","v":0},null,null,null,null,{"$f":"SUMIF(Series!$A$2:$A$1048576, \"=\" &A699,Series!$C$2:$C$1048576)","v":0},0]
[null,null,null,null,null,null,null,null,{"$f":"SUMIF('Bienes fideicomitidos'!$A$2:$A$1048576, \"=\" &A700,'Bienes fideicomitidos'!$C$2:$C$1048576)","v":0},null,null,null,null,{"$f":"SUMIF(Series!$A$2:$A$1048576, \"=\" &A700,Series!$C$2:$C$1048576)","v":0},0]
[null,null,null,null,null,null,null,null,{"$f":"SUMIF('Bienes fideicomitidos'!$A$2:$A$1048576, \"=\" &A701,'Bienes fideicomitidos'!$C$2:$C$1048576)","v":0},null,null,null,null,{"$f":"SUMIF(Series!$A$2:$A$1048576, \"=\" &A701,Series!$C$2:$C$1048576)","v":0},0]
[null,null,null,null,null,null,null,null,{"$f":"SUMIF('Bienes fideicomitidos'!$A$2:$A$1048576, \"=\" &A702,'Bienes fideicomitidos'!$C$2:$C$1048576)","v":0},null,null,null,null,{"$f":"SUMIF(Series!$A$2:$A$1048576, \"=\" &A702,Series!$C$2:$C$1048576)","v":0},0]
[null,null,null,null,null,null,null,null,{"$f":"SUMIF('Bienes fideicomitidos'!$A$2:$A$1048576, \"=\" &A703,'Bienes fideicomitidos'!$C$2:$C$1048576)","v":0},null,null,null,null,{"$f":"SUMIF(Series!$A$2:$A$1048576, \"=\" &A703,Series!$C$2:$C$1048576)","v":0},0]
[null,null,null,null,null,null,null,null,{"$f":"SUMIF('Bienes fideicomitidos'!$A$2:$A$1048576, \"=\" &A704,'Bienes fideicomitidos'!$C$2:$C$1048576)","v":0},null,null,null,null,{"$f":"SUMIF(Series!$A$2:$A$1048576, \"=\" &A704,Series!$C$2:$C$1048576)","v":0},0]
[null,null,null,null,null,null,null,null,{"$f":"SUMIF('Bienes fideicomitidos'!$A$2:$A$1048576, \"=\" &A705,'Bienes fideicomitidos'!$C$2:$C$1048576)","v":0},null,null,null,null,{"$f":"SUMIF(Series!$A$2:$A$1048576, \"=\" &A705,Series!$C$2:$C$1048576)","v":0},0]
[null,null,null,null,null,null,null,null,{"$f":"SUMIF('Bienes fideicomitidos'!$A$2:$A$1048576, \"=\" &A706,'Bienes fideicomitidos'!$C$2:$C$1048576)","v":0},null,null,null,null,{"$f":"SUMIF(Series!$A$2:$A$1048576, \"=\" &A706,Series!$C$2:$C$1048576)","v":0},0]
[null,null,null,null,null,null,null,null,{"$f":"SUMIF('Bienes fideicomitidos'!$A$2:$A$1048576, \"=\" &A707,'Bienes fideicomitidos'!$C$2:$C$1048576)","v":0},null,null,null,null,{"$f":"SUMIF(Series!$A$2:$A$1048576, \"=\" &A707,Series!$C$2:$C$1048576)","v":0},0]
[null,null,null,null,null,null,null,null,{"$f":"SUMIF('Bienes fideicomitidos'!$A$2:$A$1048576, \"=\" &A708,'Bienes fideicomitidos'!$C$2:$C$1048576)","v":0},null,null,null,null,{"$f":"SUMIF(Series!$A$2:$A$1048576, \"=\" &A708,Series!$C$2:$C$1048576)","v":0},0]
[null,null,null,null,null,null,null,null,{"$f":"SUMIF('Bienes fideicomitidos'!$A$2:$A$1048576, \"=\" &A709,'Bienes fideicomitidos'!$C$2:$C$1048576)","v":0},null,null,null,null,{"$f":"SUMIF(Series!$A$2:$A$1048576, \"=\" &A709,Series!$C$2:$C$1048576)","v":0},0]
[null,null,null,null,null,null,null,null,{"$f":"SUMIF('Bienes fideicomitidos'!$A$2:$A$1048576, \"=\" &A710,'Bienes fideicomitidos'!$C$2:$C$1048576)","v":0},null,null,null,null,{"$f":"SUMIF(Series!$A$2:$A$1048576, \"=\" &A710,Series!$C$2:$C$1048576)","v":0},0]
[null,null,null,null,null,null,null,null,{"$f":"SUMIF('Bienes fideicomitidos'!$A$2:$A$1048576, \"=\" &A711,'Bienes fideicomitidos'!$C$2:$C$1048576)","v":0},null,null,null,null,{"$f":"SUMIF(Series!$A$2:$A$1048576, \"=\" &A711,Series!$C$2:$C$1048576)","v":0},0]
[null,null,null,null,null,null,null,null,{"$f":"SUMIF('Bienes fideicomitidos'!$A$2:$A$1048576, \"=\" &A712,'Bienes fideicomitidos'!$C$2:$C$1048576)","v":0},null,null,null,null,{"$f":"SUMIF(Series!$A$2:$A$1048576, \"=\" &A712,Series!$C$2:$C$1048576)","v":0},0]
[null,null,null,null,null,null,null,null,{"$f":"SUMIF('Bienes fideicomitidos'!$A$2:$A$1048576, \"=\" &A713,'Bienes fideicomitidos'!$C$2:$C$1048576)","v":0},null,null,null,null,{"$f":"SUMIF(Series!$A$2:$A$1048576, \"=\" &A713,Series!$C$2:$C$1048576)","v":0},0]
[null,null,null,null,null,null,null,null,{"$f":"SUMIF('Bienes fideicomitidos'!$A$2:$A$1048576, \"=\" &A714,'Bienes fideicomitidos'!$C$2:$C$1048576)","v":0},null,null,null,null,{"$f":"SUMIF(Series!$A$2:$A$1048576, \"=\" &A714,Series!$C$2:$C$1048576)","v":0},0]
[null,null,null,null,null,null,null,null,{"$f":"SUMIF('Bienes fideicomitidos'!$A$2:$A$1048576, \"=\" &A715,'Bienes fideicomitidos'!$C$2:$C$1048576)","v":0},null,null,null,null,{"$f":"SUMIF(Series!$A$2:$A$1048576, \"=\" &A715,Series!$C$2:$C$1048576)","v":0},0]
[null,null,null,null,null,null,null,null,{"$f":"SUMIF('Bienes fideicomitidos'!$A$2:$A$1048576, \"=\" &A716,'Bienes fideicomitidos'!$C$2:$C$1048576)","v":0},null,null,null,null,{"$f":"SUMIF(Series!$A$2:$A$1048576, \"=\" &A716,Series!$C$2:$C$1048576)","v":0},0]
[null,null,null,null,null,null,null,null,{"$f":"SUMIF('Bienes fideicomitidos'!$A$2:$A$1048576, \"=\" &A717,'Bienes fideicomitidos'!$C$2:$C$1048576)","v":0},null,null,null,null,{"$f":"SUMIF(Series!$A$2:$A$1048576, \"=\" &A717,Series!$C$2:$C$1048576)","v":0},0]
[null,null,null,null,null,null,null,null,{"$f":"SUMIF('Bienes fideicomitidos'!$A$2:$A$1048576, \"=\" &A718,'Bienes fideicomitidos'!$C$2:$C$1048576)","v":0},null,null,null,null,{"$f":"SUMIF(Series!$A$2:$A$1048576, \"=\" &A718,Series!$C$2:$C$1048576)","v":0},{"$f":"IFERROR((I718/N718)*100,0)","v":0}]
[null,null,null,null,null,null,null,null,{"$f":"SUMIF('Bienes fideicomitidos'!$A$2:$A$1048576, \"=\" &A719,'Bienes fideicomitidos'!$C$2:$C$1048576)","v":0},null,null,null,null,{"$f":"SUMIF(Series!$A$2:$A$1048576, \"=\" &A719,Series!$C$2:$C$1048576)","v":0},0]
[null,null,null,null,null,null,null,null,{"$f":"SUMIF('Bienes fideicomitidos'!$A$2:$A$1048576, \"=\" &A720,'Bienes fideicomitidos'!$C$2:$C$1048576)","v":0},null,null,null,null,{"$f":"SUMIF(Series!$A$2:$A$1048576, \"=\" &A720,Series!$C$2:$C$1048576)","v":0},0]
[null,null,null,null,null,null,null,null,{"$f":"SUMIF('Bienes fideicomitidos'!$A$2:$A$1048576, \"=\" &A721,'Bienes fideicomitidos'!$C$2:$C$1048576)","v":0},null,null,null,null,{"$f":"SUMIF(Series!$A$2:$A$1048576, \"=\" &A721,Series!$C$2:$C$1048576)","v":0},0]
[null,null,null,null,null,null,null,null,{"$f":"SUMIF('Bienes fideicomitidos'!$A$2:$A$1048576, \"=\" &A722,'Bienes fideicomitidos'!$C$2:$C$1048576)","v":0},null,null,null,null,{"$f":"SUMIF(Series!$A$2:$A$1048576, \"=\" &A722,Series!$C$2:$C$1048576)","v":0},0]
[null,null,null,null,null,null,null,null,{"$f":"SUMIF('Bienes fideicomitidos'!$A$2:$A$1048576, \"=\" &A723,'Bienes fideicomitidos'!$C$2:$C$1048576)","v":0},null,null,null,null,{"$f":"SUMIF(Series!$A$2:$A$1048576, \"=\" &A723,Series!$C$2:$C$1048576)","v":0},0]
[null,null,null,null,null,null,null,null,{"$f":"SUMIF('Bienes fideicomitidos'!$A$2:$A$1048576, \"=\" &A724,'Bienes fideicomitidos'!$C$2:$C$1048576)","v":0},null,null,null,null,{"$f":"SUMIF(Series!$A$2:$A$1048576, \"=\" &A724,Series!$C$2:$C$1048576)","v":0},0]
[null,null,null,null,null,null,null,null,{"$f":"SUMIF('Bienes fideicomitidos'!$A$2:$A$1048576, \"=\" &A725,'Bienes fideicomitidos'!$C$2:$C$1048576)","v":0},null,null,null,null,{"$f":"SUMIF(Series!$A$2:$A$1048576, \"=\" &A725,Series!$C$2:$C$1048576)","v":0},0]
[null,null,null,null,null,null,null,null,{"$f":"SUMIF('Bienes fideicomitidos'!$A$2:$A$1048576, \"=\" &A726,'Bienes fideicomitidos'!$C$2:$C$1048576)","v":0},null,null,null,null,{"$f":"SUMIF(Series!$A$2:$A$1048576, \"=\" &A726,Series!$C$2:$C$1048576)","v":0},0]
[null,null,null,null,null,null,null,null,{"$f":"SUMIF('Bienes fideicomitidos'!$A$2:$A$1048576, \"=\" &A727,'Bienes fideicomitidos'!$C$2:$C$1048576)","v":0},null,null,null,null,{"$f":"SUMIF(Series!$A$2:$A$1048576, \"=\" &A727,Series!$C$2:$C$1048576)","v":0},0]
[null,null,null,null,null,null,null,null,{"$f":"SUMIF('Bienes fideicomitidos'!$A$2:$A$1048576, \"=\" &A728,'Bienes fideicomitidos'!$C$2:$C$1048576)","v":0},null,null,null,null,{"$f":"SUMIF(Series!$A$2:$A$1048576, \"=\" &A728,Series!$C$2:$C$1048576)","v":0},0]
[null,null,null,null,null,null,null,null,{"$f":"SUMIF('Bienes fideicomitidos'!$A$2:$A$1048576, \"=\" &A729,'Bienes fideicomitidos'!$C$2:$C$1048576)","v":0},null,null,null,null,{"$f":"SUMIF(Series!$A$2:$A$1048576, \"=\" &A729,Series!$C$2:$C$1048576)","v":0},0]
[null,null,null,null,null,null,null,null,{"$f":"SUMIF('Bienes fideicomitidos'!$A$2:$A$1048576, \"=\" &A730,'Bienes fideicomitidos'!$C$2:$C$1048576)","v":0},null,null,null,null,{"$f":"SUMIF(Series!$A$2:$A$1048576, \"=\" &A730,Series!$C$2:$C$1048576)","v":0},0]
[null,null,null,null,null,null,null,null,{"$f":"SUMIF('Bienes fideicomitidos'!$A$2:$A$1048576, \"=\" &A731,'Bienes fideicomitidos'!$C$2:$C$1048576)","v":0},null,null,null,null,{"$f":"SUMIF(Series!$A$2:$A$1048576, \"=\" &A731,Series!$C$2:$C$1048576)","v":0},0]
[null,null,null,null,null,null,null,null,{"$f":"SUMIF('Bienes fideicomitidos'!$A$2:$A$1048576, \"=\" &A732,'Bienes fideicomitidos'!$C$2:$C$1048576)","v":0},null,null,null,null,{"$f":"SUMIF(Series!$A$2:$A$1048576, \"=\" &A732,Series!$C$2:$C$1048576)","v":0},0]
[null,null,null,null,null,null,null,null,{"$f":"SUMIF('Bienes fideicomitidos'!$A$2:$A$1048576, \"=\" &A733,'Bienes fideicomitidos'!$C$2:$C$1048576)","v":0},null,null,null,null,{"$f":"SUMIF(Series!$A$2:$A$1048576, \"=\" &A733,Series!$C$2:$C$1048576)","v":0},0]
[null,null,null,null,null,null,null,null,{"$f":"SUMIF('Bienes fideicomitidos'!$A$2:$A$1048576, \"=\" &A734,'Bienes fideicomitidos'!$C$2:$C$1048576)","v":0},null,null,null,null,{"$f":"SUMIF(Series!$A$2:$A$1048576, \"=\" &A734,Series!$C$2:$C$1048576)","v":0},0]
[null,null,null,null,null,null,null,null,{"$f":"SUMIF('Bienes fideicomitidos'!$A$2:$A$1048576, \"=\" &A735,'Bienes fideicomitidos'!$C$2:$C$1048576)","v":0},null,null,null,null,{"$f":"SUMIF(Series!$A$2:$A$1048576, \"=\" &A735,Series!$C$2:$C$1048576)","v":0},0]
[null,null,null,null,null,null,null,null,{"$f":"SUMIF('Bienes fideicomitidos'!$A$2:$A$1048576, \"=\" &A736,'Bienes fideicomitidos'!$C$2:$C$1048576)","v":0},null,null,null,null,{"$f":"SUMIF(Series!$A$2:$A$1048576, \"=\" &A736,Series!$C$2:$C$1048576)","v":0},0]
[null,null,null,null,null,null,null,null,{"$f":"SUMIF('Bienes fideicomitidos'!$A$2:$A$1048576, \"=\" &A737,'Bienes fideicomitidos'!$C$2:$C$1048576)","v":0},null,null,null,null,{"$f":"SUMIF(Series!$A$2:$A$1048576, \"=\" &A737,Series!$C$2:$C$1048576)","v":0},0]
[null,null,null,null,null,null,null,null,{"$f":"SUMIF('Bienes fideicomitidos'!$A$2:$A$1048576, \"=\" &A738,'Bienes fideicomitidos'!$C$2:$C$1048576)","v":0},null,null,null,null,{"$f":"SUMIF(Series!$A$2:$A$1048576, \"=\" &A738,Series!$C$2:$C$1048576)","v":0},0]
[null,null,null,null,null,null,null,null,{"$f":"SUMIF('Bienes fideicomitidos'!$A$2:$A$1048576, \"=\" &A739,'Bienes fideicomitidos'!$C$2:$C$1048576)","v":0},null,null,null,null,{"$f":"SUMIF(Series!$A$2:$A$1048576, \"=\" &A739,Series!$C$2:$C$1048576)","v":0},0]
[null,null,null,null,null,null,null,null,{"$f":"SUMIF('Bienes fideicomitidos'!$A$2:$A$1048576, \"=\" &A740,'Bienes fideicomitidos'!$C$2:$C$1048576)","v":0},null,null,null,null,{"$f":"SUMIF(Series!$A$2:$A$1048576, \"=\" &A740,Series!$C$2:$C$1048576)","v":0},0]
[null,null,null,null,null,null,null,null,{"$f":"SUMIF('Bienes fideicomitidos'!$A$2:$A$1048576, \"=\" &A741,'Bienes fideicomitidos'!$C$2:$C$1048576)","v":0},null,null,null,null,{"$f":"SUMIF(Series!$A$2:$A$1048576, \"=\" &A741,Series!$C$2:$C$1048576)","v":0},0]
[null,null,null,null,null,null,null,null,{"$f":"SUMIF('Bienes fideicomitidos'!$A$2:$A$1048576, \"=\" &A742,'Bienes fideicomitidos'!$C$2:$C$1048576)","v":0},null,null,null,null,{"$f":"SUMIF(Series!$A$2:$A$1048576, \"=\" &A742,Series!$C$2:$C$1048576)","v":0},0]
[null,null,null,null,null,null,null,null,{"$f":"SUMIF('Bienes fideicomitidos'!$A$2:$A$1048576, \"=\" &A743,'Bienes fideicomitidos'!$C$2:$C$1048576)","v":0},null,null,null,null,{"$f":"SUMIF(Series!$A$2:$A$1048576, \"=\" &A743,Series!$C$2:$C$1048576)","v":0},0]
[null,null,null,null,null,null,null,null,{"$f":"SUMIF('Bienes fideicomitidos'!$A$2:$A$1048576, \"=\" &A744,'Bienes fideicomitidos'!$C$2:$C$1048576)","v":0},null,null,null,null,{"$f":"SUMIF(Series!$A$2:$A$1048576, \"=\" &A744,Series!$C$2:$C$1048576)","v":0},0]
[null,null,null,null,null,null,null,null,{"$f":"SUMIF('Bienes fideicomitidos'!$A$2:$A$1048576, \"=\" &A745,'Bienes fideicomitidos'!$C$2:$C$1048576)","v":0},null,null,null,null,{"$f":"SUMIF(Series!$A$2:$A$1048576, \"=\" &A745,Series!$C$2:$C$1048576)","v":0},0]
[null,null,null,null,null,null,null,null,{"$f":"SUMIF('Bienes fideicomitidos'!$A$2:$A$1048576, \"=\" &A746,'Bienes fideicomitidos'!$C$2:$C$1048576)","v":0},null,null,null,null,{"$f":"SUMIF(Series!$A$2:$A$1048576, \"=\" &A746,Series!$C$2:$C$1048576)","v":0},0]
[null,null,null,null,null,null,null,null,{"$f":"SUMIF('Bienes fideicomitidos'!$A$2:$A$1048576, \"=\" &A747,'Bienes fideicomitidos'!$C$2:$C$1048576)","v":0},null,null,null,null,{"$f":"SUMIF(Series!$A$2:$A$1048576, \"=\" &A747,Series!$C$2:$C$1048576)","v":0},0]
[null,null,null,null,null,null,null,null,{"$f":"SUMIF('Bienes fideicomitidos'!$A$2:$A$1048576, \"=\" &A748,'Bienes fideicomitidos'!$C$2:$C$1048576)","v":0},null,null,null,null,{"$f":"SUMIF(Series!$A$2:$A$1048576, \"=\" &A748,Series!$C$2:$C$1048576)","v":0},0]
[null,null,null,null,null,null,null,null,{"$f":"SUMIF('Bienes fideicomitidos'!$A$2:$A$1048576, \"=\" &A749,'Bienes fideicomitidos'!$C$2:$C$1048576)","v":0},null,null,null,null,{"$f":"SUMIF(Series!$A$2:$A$1048576, \"=\" &A749,Series!$C$2:$C$1048576)","v":0},0]
[null,null,null,null,null,null,null,null,{"$f":"SUMIF('Bienes fideicomitidos'!$A$2:$A$1048576, \"=\" &A750,'Bienes fideicomitidos'!$C$2:$C$1048576)","v":0},null,null,null,null,{"$f":"SUMIF(Series!$A$2:$A$1048576, \"=\" &A750,Series!$C$2:$C$1048576)","v":0},0]
[null,null,null,null,null,null,null,null,{"$f":"SUMIF('Bienes fideicomitidos'!$A$2:$A$1048576, \"=\" &A751,'Bienes fideicomitidos'!$C$2:$C$1048576)","v":0},null,null,null,null,{"$f":"SUMIF(Series!$A$2:$A$1048576, \"=\" &A751,Series!$C$2:$C$1048576)","v":0},0]
[null,null,null,null,null,null,null,null,{"$f":"SUMIF('Bienes fideicomitidos'!$A$2:$A$1048576, \"=\" &A752,'Bienes fideicomitidos'!$C$2:$C$1048576)","v":0},null,null,null,null,{"$f":"SUMIF(Series!$A$2:$A$1048576, \"=\" &A752,Series!$C$2:$C$1048576)","v":0},0]
[null,null,null,null,null,null,null,null,{"$f":"SUMIF('Bienes fideicomitidos'!$A$2:$A$1048576, \"=\" &A753,'Bienes fideicomitidos'!$C$2:$C$1048576)","v":0},null,null,null,null,{"$f":"SUMIF(Series!$A$2:$A$1048576, \"=\" &A753,Series!$C$2:$C$1048576)","v":0},0]
[null,null,null,null,null,null,null,null,{"$f":"SUMIF('Bienes fideicomitidos'!$A$2:$A$1048576, \"=\" &A754,'Bienes fideicomitidos'!$C$2:$C$1048576)","v":0},null,null,null,null,{"$f":"SUMIF(Series!$A$2:$A$1048576, \"=\" &A754,Series!$C$2:$C$1048576)","v":0},0]
[null,null,null,null,null,null,null,null,{"$f":"SUMIF('Bienes fideicomitidos'!$A$2:$A$1048576, \"=\" &A755,'Bienes fideicomitidos'!$C$2:$C$1048576)","v":0},null,null,null,null,{"$f":"SUMIF(Series!$A$2:$A$1048576, \"=\" &A755,Series!$C$2:$C$1048576)","v":0},0]
[null,null,null,null,null,null,null,null,{"$f":"SUMIF('Bienes fideicomitidos'!$A$2:$A$1048576, \"=\" &A756,'Bienes fideicomitidos'!$C$2:$C$1048576)","v":0},null,null,null,null,{"$f":"SUMIF(Series!$A$2:$A$1048576, \"=\" &A756,Series!$C$2:$C$1048576)","v":0},0]
[null,null,null,null,null,null,null,null,{"$f":"SUMIF('Bienes fideicomitidos'!$A$2:$A$1048576, \"=\" &A757,'Bienes fideicomitidos'!$C$2:$C$1048576)","v":0},null,null,null,null,{"$f":"SUMIF(Series!$A$2:$A$1048576, \"=\" &A757,Series!$C$2:$C$1048576)","v":0},0]
[null,null,null,null,null,null,null,null,{"$f":"SUMIF('Bienes fideicomitidos'!$A$2:$A$1048576, \"=\" &A758,'Bienes fideicomitidos'!$C$2:$C$1048576)","v":0},null,null,null,null,{"$f":"SUMIF(Series!$A$2:$A$1048576, \"=\" &A758,Series!$C$2:$C$1048576)","v":0},0]
[null,null,null,null,null,null,null,null,{"$f":"SUMIF('Bienes fideicomitidos'!$A$2:$A$1048576, \"=\" &A759,'Bienes fideicomitidos'!$C$2:$C$1048576)","v":0},null,null,null,null,{"$f":"SUMIF(Series!$A$2:$A$1048576, \"=\" &A759,Series!$C$2:$C$1048576)","v":0},0]
[null,null,null,null,null,null,null,null,{"$f":"SUMIF('Bienes fideicomitidos'!$A$2:$A$1048576, \"=\" &A760,'Bienes fideicomitidos'!$C$2:$C$1048576)","v":0},null,null,null,null,{"$f":"SUMIF(Series!$A$2:$A$1048576, \"=\" &A760,Series!$C$2:$C$1048576)","v":0},0]
[null,null,null,null,null,null,null,null,{"$f":"SUMIF('Bienes fideicomitidos'!$A$2:$A$1048576, \"=\" &A761,'Bienes fideicomitidos'!$C$2:$C$1048576)","v":0},null,null,null,null,{"$f":"SUMIF(Series!$A$2:$A$1048576, \"=\" &A761,Series!$C$2:$C$1048576)","v":0},0]
[null,null,null,null,null,null,null,null,{"$f":"SUMIF('Bienes fideicomitidos'!$A$2:$A$1048576, \"=\" &A762,'Bienes fideicomitidos'!$C$2:$C$1048576)","v":0},null,null,null,null,{"$f":"SUMIF(Series!$A$2:$A$1048576, \"=\" &A762,Series!$C$2:$C$1048576)","v":0},0]
[null,null,null,null,null,null,null,null,{"$f":"SUMIF('Bienes fideicomitidos'!$A$2:$A$1048576, \"=\" &A763,'Bienes fideicomitidos'!$C$2:$C$1048576)","v":0},null,null,null,null,{"$f":"SUMIF(Series!$A$2:$A$1048576, \"=\" &A763,Series!$C$2:$C$1048576)","v":0},0]
[null,null,null,null,null,null,null,null,{"$f":"SUMIF('Bienes fideicomitidos'!$A$2:$A$1048576, \"=\" &A764,'Bienes fideicomitidos'!$C$2:$C$1048576)","v":0},null,null,null,null,{"$f":"SUMIF(Series!$A$2:$A$1048576, \"=\" &A764,Series!$C$2:$C$1048576)","v":0},0]
[null,null,null,null,null,null,null,null,{"$f":"SUMIF('Bienes fideicomitidos'!$A$2:$A$1048576, \"=\" &A765,'Bienes fideicomitidos'!$C$2:$C$1048576)","v":0},null,null,null,null,{"$f":"SUMIF(Series!$A$2:$A$1048576, \"=\" &A765,Series!$C$2:$C$1048576)","v":0},0]
[null,null,null,null,null,null,null,null,{"$f":"SUMIF('Bienes fideicomitidos'!$A$2:$A$1048576, \"=\" &A766,'Bienes fideicomitidos'!$C$2:$C$1048576)","v":0},null,null,null,null,{"$f":"SUMIF(Series!$A$2:$A$1048576, \"=\" &A766,Series!$C$2:$C$1048576)","v":0},0]
[null,null,null,null,null,null,null,null,{"$f":"SUMIF('Bienes fideicomitidos'!$A$2:$A$1048576, \"=\" &A767,'Bienes fideicomitidos'!$C$2:$C$1048576)","v":0},null,null,null,null,{"$f":"SUMIF(Series!$A$2:$A$1048576, \"=\" &A767,Series!$C$2:$C$1048576)","v":0},0]
[null,null,null,null,null,null,null,null,{"$f":"SUMIF('Bienes fideicomitidos'!$A$2:$A$1048576, \"=\" &A768,'Bienes fideicomitidos'!$C$2:$C$1048576)","v":0},null,null,null,null,{"$f":"SUMIF(Series!$A$2:$A$1048576, \"=\" &A768,Series!$C$2:$C$1048576)","v":0},0]
[null,null,null,null,null,null,null,null,{"$f":"SUMIF('Bienes fideicomitidos'!$A$2:$A$1048576, \"=\" &A769,'Bienes fideicomitidos'!$C$2:$C$1048576)","v":0},null,null,null,null,{"$f":"SUMIF(Series!$A$2:$A$1048576, \"=\" &A769,Series!$C$2:$C$1048576)","v":0},0]
[null,null,null,null,null,null,null,null,{"$f":"SUMIF('Bienes fideicomitidos'!$A$2:$A$1048576, \"=\" &A770,'Bienes fideicomitidos'!$C$2:$C$1048576)","v":0},null,null,null,null,{"$f":"SUMIF(Series!$A$2:$A$1048576, \"=\" &A770,Series!$C$2:$C$1048576)","v":0},0]
[null,null,null,null,null,null,null,null,{"$f":"SUMIF('Bienes fideicomitidos'!$A$2:$A$1048576, \"=\" &A771,'Bienes fideicomitidos'!$C$2:$C$1048576)","v":0},null,null,null,null,{"$f":"SUMIF(Series!$A$2:$A$1048576, \"=\" &A771,Series!$C$2:$C$1048576)","v":0},0]
[null,null,null,null,null,null,null,null,{"$f":"SUMIF('Bienes fideicomitidos'!$A$2:$A$1048576, \"=\" &A772,'Bienes fideicomitidos'!$C$2:$C$1048576)","v":0},null,null,null,null,{"$f":"SUMIF(Series!$A$2:$A$1048576, \"=\" &A772,Series!$C$2:$C$1048576)","v":0},0]
[null,null,null,null,null,null,null,null,{"$f":"SUMIF('Bienes fideicomitidos'!$A$2:$A$1048576, \"=\" &A773,'Bienes fideicomitidos'!$C$2:$C$1048576)","v":0},null,null,null,null,{"$f":"SUMIF(Series!$A$2:$A$1048576, \"=\" &A773,Series!$C$2:$C$1048576)","v":0},0]
[null,null,null,null,null,null,null,null,{"$f":"SUMIF('Bienes fideicomitidos'!$A$2:$A$1048576, \"=\" &A774,'Bienes fideicomitidos'!$C$2:$C$1048576)","v":0},null,null,null,null,{"$f":"SUMIF(Series!$A$2:$A$1048576, \"=\" &A774,Series!$C$2:$C$1048576)","v":0},0]
[null,null,null,null,null,null,null,null,{"$f":"SUMIF('Bienes fideicomitidos'!$A$2:$A$1048576, \"=\" &A775,'Bienes fideicomitidos'!$C$2:$C$1048576)","v":0},null,null,null,null,{"$f":"SUMIF(Series!$A$2:$A$1048576, \"=\" &A775,Series!$C$2:$C$1048576)","v":0},0]
[null,null,null,null,null,null,null,null,{"$f":"SUMIF('Bienes fideicomitidos'!$A$2:$A$1048576, \"=\" &A776,'Bienes fideicomitidos'!$C$2:$C$1048576)","v":0},null,null,null,null,{"$f":"SUMIF(Series!$A$2:$A$1048576, \"=\" &A776,Series!$C$2:$C$1048576)","v":0},0]
[null,null,null,null,null,null,null,null,{"$f":"SUMIF('Bienes fideicomitidos'!$A$2:$A$1048576, \"=\" &A777,'Bienes fideicomitidos'!$C$2:$C$1048576)","v":0},null,null,null,null,{"$f":"SUMIF(Series!$A$2:$A$1048576, \"=\" &A777,Series!$C$2:$C$1048576)","v":0},0]
[null,null,null,null,null,null,null,null,{"$f":"SUMIF('Bienes fideicomitidos'!$A$2:$A$1048576, \"=\" &A778,'Bienes fideicomitidos'!$C$2:$C$1048576)","v":0},null,null,null,null,{"$f":"SUMIF(Series!$A$2:$A$1048576, \"=\" &A778,Series!$C$2:$C$1048576)","v":0},0]
[null,null,null,null,null,null,null,null,{"$f":"SUMIF('Bienes fideicomitidos'!$A$2:$A$1048576, \"=\" &A779,'Bienes fideicomitidos'!$C$2:$C$1048576)","v":0},null,null,null,null,{"$f":"SUMIF(Series!$A$2:$A$1048576, \"=\" &A779,Series!$C$2:$C$1048576)","v":0},0]
[null,null,null,null,null,null,null,null,{"$f":"SUMIF('Bienes fideicomitidos'!$A$2:$A$1048576, \"=\" &A780,'Bienes fideicomitidos'!$C$2:$C$1048576)","v":0},null,null,null,null,{"$f":"SUMIF(Series!$A$2:$A$1048576, \"=\" &A780,Series!$C$2:$C$1048576)","v":0},0]
[null,null,null,null,null,null,null,null,{"$f":"SUMIF('Bienes fideicomitidos'!$A$2:$A$1048576, \"=\" &A781,'Bienes fideicomitidos'!$C$2:$C$1048576)","v":0},null,null,null,null,{"$f":"SUMIF(Series!$A$2:$A$1048576, \"=\" &A781,Series!$C$2:$C$1048576)","v":0},0]
[null,null,null,null,null,null,null,null,{"$f":"SUMIF('Bienes fideicomitidos'!$A$2:$A$1048576, \"=\" &A782,'Bienes fideicomitidos'!$C$2:$C$1048576)","v":0},null,null,null,null,{"$f":"SUMIF(Series!$A$2:$A$1048576, \"=\" &A782,Series!$C$2:$C$1048576)","v":0},{"$f":"IFERROR((I782/N782)*100,0)","v":0}]
[null,null,null,null,null,null,null,null,{"$f":"SUMIF('Bienes fideicomitidos'!$A$2:$A$1048576, \"=\" &A783,'Bienes fideicomitidos'!$C$2:$C$1048576)","v":0},null,null,null,null,{"$f":"SUMIF(Series!$A$2:$A$1048576, \"=\" &A783,Series!$C$2:$C$1048576)","v":0},0]
[null,null,null,null,null,null,null,null,{"$f":"SUMIF('Bienes fideicomitidos'!$A$2:$A$1048576, \"=\" &A784,'Bienes fideicomitidos'!$C$2:$C$1048576)","v":0},null,null,null,null,{"$f":"SUMIF(Series!$A$2:$A$1048576, \"=\" &A784,Series!$C$2:$C$1048576)","v":0},0]
[null,null,null,null,null,null,null,null,{"$f":"SUMIF('Bienes fideicomitidos'!$A$2:$A$1048576, \"=\" &A785,'Bienes fideicomitidos'!$C$2:$C$1048576)","v":0},null,null,null,null,{"$f":"SUMIF(Series!$A$2:$A$1048576, \"=\" &A785,Series!$C$2:$C$1048576)","v":0},0]
[null,null,null,null,null,null,null,null,{"$f":"SUMIF('Bienes fideicomitidos'!$A$2:$A$1048576, \"=\" &A786,'Bienes fideicomitidos'!$C$2:$C$1048576)","v":0},null,null,null,null,{"$f":"SUMIF(Series!$A$2:$A$1048576, \"=\" &A786,Series!$C$2:$C$1048576)","v":0},0]
[null,null,null,null,null,null,null,null,{"$f":"SUMIF('Bienes fideicomitidos'!$A$2:$A$1048576, \"=\" &A787,'Bienes fideicomitidos'!$C$2:$C$1048576)","v":0},null,null,null,null,{"$f":"SUMIF(Series!$A$2:$A$1048576, \"=\" &A787,Series!$C$2:$C$1048576)","v":0},0]
[null,null,null,null,null,null,null,null,{"$f":"SUMIF('Bienes fideicomitidos'!$A$2:$A$1048576, \"=\" &A788,'Bienes fideicomitidos'!$C$2:$C$1048576)","v":0},null,null,null,null,{"$f":"SUMIF(Series!$A$2:$A$1048576, \"=\" &A788,Series!$C$2:$C$1048576)","v":0},0]
[null,null,null,null,null,null,null,null,{"$f":"SUMIF('Bienes fideicomitidos'!$A$2:$A$1048576, \"=\" &A789,'Bienes fideicomitidos'!$C$2:$C$1048576)","v":0},null,null,null,null,{"$f":"SUMIF(Series!$A$2:$A$1048576, \"=\" &A789,Series!$C$2:$C$1048576)","v":0},0]
[null,null,null,null,null,null,null,null,{"$f":"SUMIF('Bienes fideicomitidos'!$A$2:$A$1048576, \"=\" &A790,'Bienes fideicomitidos'!$C$2:$C$1048576)","v":0},null,null,null,null,{"$f":"SUMIF(Series!$A$2:$A$1048576, \"=\" &A790,Series!$C$2:$C$1048576)","v":0},0]
[null,null,null,null,null,null,null,null,{"$f":"SUMIF('Bienes fideicomitidos'!$A$2:$A$1048576, \"=\" &A791,'Bienes fideicomitidos'!$C$2:$C$1048576)","v":0},null,null,null,null,{"$f":"SUMIF(Series!$A$2:$A$1048576, \"=\" &A791,Series!$C$2:$C$1048576)","v":0},0]
[null,null,null,null,null,null,null,null,{"$f":"SUMIF('Bienes fideicomitidos'!$A$2:$A$1048576, \"=\" &A792,'Bienes fideicomitidos'!$C$2:$C$1048576)","v":0},null,null,null,null,{"$f":"SUMIF(Series!$A$2:$A$1048576, \"=\" &A792,Series!$C$2:$C$1048576)","v":0},0]
[null,null,null,null,null,null,null,null,{"$f":"SUMIF('Bienes fideicomitidos'!$A$2:$A$1048576, \"=\" &A793,'Bienes fideicomitidos'!$C$2:$C$1048576)","v":0},null,null,null,null,{"$f":"SUMIF(Series!$A$2:$A$1048576, \"=\" &A793,Series!$C$2:$C$1048576)","v":0},0]
[null,null,null,null,null,null,null,null,{"$f":"SUMIF('Bienes fideicomitidos'!$A$2:$A$1048576, \"=\" &A794,'Bienes fideicomitidos'!$C$2:$C$1048576)","v":0},null,null,null,null,{"$f":"SUMIF(Series!$A$2:$A$1048576, \"=\" &A794,Series!$C$2:$C$1048576)","v":0},0]
[null,null,null,null,null,null,null,null,{"$f":"SUMIF('Bienes fideicomitidos'!$A$2:$A$1048576, \"=\" &A795,'Bienes fideicomitidos'!$C$2:$C$1048576)","v":0},null,null,null,null,{"$f":"SUMIF(Series!$A$2:$A$1048576, \"=\" &A795,Series!$C$2:$C$1048576)","v":0},0]
[null,null,null,null,null,null,null,null,{"$f":"SUMIF('Bienes fideicomitidos'!$A$2:$A$1048576, \"=\" &A796,'Bienes fideicomitidos'!$C$2:$C$1048576)","v":0},null,null,null,null,{"$f":"SUMIF(Series!$A$2:$A$1048576, \"=\" &A796,Series!$C$2:$C$1048576)","v":0},0]
[null,null,null,null,null,null,null,null,{"$f":"SUMIF('Bienes fideicomitidos'!$A$2:$A$1048576, \"=\" &A797,'Bienes fideicomitidos'!$C$2:$C$1048576)","v":0},null,null,null,null,{"$f":"SUMIF(Series!$A$2:$A$1048576, \"=\" &A797,Series!$C$2:$C$1048576)","v":0},0]
[null,null,null,null,null,null,null,null,{"$f":"SUMIF('Bienes fideicomitidos'!$A$2:$A$1048576, \"=\" &A798,'Bienes fideicomitidos'!$C$2:$C$1048576)","v":0},null,null,null,null,{"$f":"SUMIF(Series!$A$2:$A$1048576, \"=\" &A798,Series!$C$2:$C$1048576)","v":0},0]
[null,null,null,null,null,null,null,null,{"$f":"SUMIF('Bienes fideicomitidos'!$A$2:$A$1048576, \"=\" &A799,'Bienes fideicomitidos'!$C$2:$C$1048576)","v":0},null,null,null,null,{"$f":"SUMIF(Series!$A$2:$A$1048576, \"=\" &A799,Series!$C$2:$C$1048576)","v":0},0]
[null,null,null,null,null,null,null,null,{"$f":"SUMIF('Bienes fideicomitidos'!$A$2:$A$1048576, \"=\" &A800,'Bienes fideicomitidos'!$C$2:$C$1048576)","v":0},null,null,null,null,{"$f":"SUMIF(Series!$A$2:$A$1048576, \"=\" &A800,Series!$C$2:$C$1048576)","v":0},0]
[null,null,null,null,null,null,null,null,{"$f":"SUMIF('Bienes fideicomitidos'!$A$2:$A$1048576, \"=\" &A801,'Bienes fideicomitidos'!$C$2:$C$1048576)","v":0},null,null,null,null,{"$f":"SUMIF(Series!$A$2:$A$1048576, \"=\" &A801,Series!$C$2:$C$1048576)","v":0},0]
[null,null,null,null,null,null,null,null,{"$f":"SUMIF('Bienes fideicomitidos'!$A$2:$A$1048576, \"=\" &A802,'Bienes fideicomitidos'!$C$2:$C$1048576)","v":0},null,null,null,null,{"$f":"SUMIF(Series!$A$2:$A$1048576, \"=\" &A802,Series!$C$2:$C$1048576)","v":0},0]
[null,null,null,null,null,null,null,null,{"$f":"SUMIF('Bienes fideicomitidos'!$A$2:$A$1048576, \"=\" &A803,'Bienes fideicomitidos'!$C$2:$C$1048576)","v":0},null,null,null,null,{"$f":"SUMIF(Series!$A$2:$A$1048576, \"=\" &A803,Series!$C$2:$C$1048576)","v":0},0]
[null,null,null,null,null,null,null,null,{"$f":"SUMIF('Bienes fideicomitidos'!$A$2:$A$1048576, \"=\" &A804,'Bienes fideicomitidos'!$C$2:$C$1048576)","v":0},null,null,null,null,{"$f":"SUMIF(Series!$A$2:$A$1048576, \"=\" &A804,Series!$C$2:$C$1048576)","v":0},0]
[null,null,null,null,null,null,null,null,{"$f":"SUMIF('Bienes fideicomitidos'!$A$2:$A$1048576, \"=\" &A805,'Bienes fideicomitidos'!$C$2:$C$1048576)","v":0},null,null,null,null,{"$f":"SUMIF(Series!$A$2:$A$1048576, \"=\" &A805,Series!$C$2:$C$1048576)","v":0},0]
[null,null,null,null,null,null,null,null,{"$f":"SUMIF('Bienes fideicomitidos'!$A$2:$A$1048576, \"=\" &A806,'Bienes fideicomitidos'!$C$2:$C$1048576)","v":0},null,null,null,null,{"$f":"SUMIF(Series!$A$2:$A$1048576, \"=\" &A806,Series!$C$2:$C$1048576)","v":0},0]
[null,null,null,null,null,null,null,null,{"$f":"SUMIF('Bienes fideicomitidos'!$A$2:$A$1048576, \"=\" &A807,'Bienes fideicomitidos'!$C$2:$C$1048576)","v":0},null,null,null,null,{"$f":"SUMIF(Series!$A$2:$A$1048576, \"=\" &A807,Series!$C$2:$C$1048576)","v":0},0]
[null,null,null,null,null,null,null,null,{"$f":"SUMIF('Bienes fideicomitidos'!$A$2:$A$1048576, \"=\" &A808,'Bienes fideicomitidos'!$C$2:$C$1048576)","v":0},null,null,null,null,{"$f":"SUMIF(Series!$A$2:$A$1048576, \"=\" &A808,Series!$C$2:$C$1048576)","v":0},0]
[null,null,null,null,null,null,null,null,{"$f":"SUMIF('Bienes fideicomitidos'!$A$2:$A$1048576, \"=\" &A809,'Bienes fideicomitidos'!$C$2:$C$1048576)","v":0},null,null,null,null,{"$f":"SUMIF(Series!$A$2:$A$1048576, \"=\" &A809,Series!$C$2:$C$1048576)","v":0},0]
[null,null,null,null,null,null,null,null,{"$f":"SUMIF('Bienes fideicomitidos'!$A$2:$A$1048576, \"=\" &A810,'Bienes fideicomitidos'!$C$2:$C$1048576)","v":0},null,null,null,null,{"$f":"SUMIF(Series!$A$2:$A$1048576, \"=\" &A810,Series!$C$2:$C$1048576)","v":0},0]
[null,null,null,null,null,null,null,null,{"$f":"SUMIF('Bienes fideicomitidos'!$A$2:$A$1048576, \"=\" &A811,'Bienes fideicomitidos'!$C$2:$C$1048576)","v":0},null,null,null,null,{"$f":"SUMIF(Series!$A$2:$A$1048576, \"=\" &A811,Series!$C$2:$C$1048576)","v":0},0]
[null,null,null,null,null,null,null,null,{"$f":"SUMIF('Bienes fideicomitidos'!$A$2:$A$1048576, \"=\" &A812,'Bienes fideicomitidos'!$C$2:$C$1048576)","v":0},null,null,null,null,{"$f":"SUMIF(Series!$A$2:$A$1048576, \"=\" &A812,Series!$C$2:$C$1048576)","v":0},0]
[null,null,null,null,null,null,null,null,{"$f":"SUMIF('Bienes fideicomitidos'!$A$2:$A$1048576, \"=\" &A813,'Bienes fideicomitidos'!$C$2:$C$1048576)","v":0},null,null,null,null,{"$f":"SUMIF(Series!$A$2:$A$1048576, \"=\" &A813,Series!$C$2:$C$1048576)","v":0},0]
[null,null,null,null,null,null,null,null,{"$f":"SUMIF('Bienes fideicomitidos'!$A$2:$A$1048576, \"=\" &A814,'Bienes fideicomitidos'!$C$2:$C$1048576)","v":0},null,null,null,null,{"$f":"SUMIF(Series!$A$2:$A$1048576, \"=\" &A814,Series!$C$2:$C$1048576)","v":0},0]
[null,null,null,null,null,null,null,null,{"$f":"SUMIF('Bienes fideicomitidos'!$A$2:$A$1048576, \"=\" &A815,'Bienes fideicomitidos'!$C$2:$C$1048576)","v":0},null,null,null,null,{"$f":"SUMIF(Series!$A$2:$A$1048576, \"=\" &A815,Series!$C$2:$C$1048576)","v":0},0]
[null,null,null,null,null,null,null,null,{"$f":"SUMIF('Bienes fideicomitidos'!$A$2:$A$1048576, \"=\" &A816,'Bienes fideicomitidos'!$C$2:$C$1048576)","v":0},null,null,null,null,{"$f":"SUMIF(Series!$A$2:$A$1048576, \"=\" &A816,Series!$C$2:$C$1048576)","v":0},0]
[null,null,null,null,null,null,null,null,{"$f":"SUMIF('Bienes fideicomitidos'!$A$2:$A$1048576, \"=\" &A817,'Bienes fideicomitidos'!$C$2:$C$1048576)","v":0},null,null,null,null,{"$f":"SUMIF(Series!$A$2:$A$1048576, \"=\" &A817,Series!$C$2:$C$1048576)","v":0},0]
[null,null,null,null,null,null,null,null,{"$f":"SUMIF('Bienes fideicomitidos'!$A$2:$A$1048576, \"=\" &A818,'Bienes fideicomitidos'!$C$2:$C$1048576)","v":0},null,null,null,null,{"$f":"SUMIF(Series!$A$2:$A$1048576, \"=\" &A818,Series!$C$2:$C$1048576)","v":0},0]
[null,null,null,null,null,null,null,null,{"$f":"SUMIF('Bienes fideicomitidos'!$A$2:$A$1048576, \"=\" &A819,'Bienes fideicomitidos'!$C$2:$C$1048576)","v":0},null,null,null,null,{"$f":"SUMIF(Series!$A$2:$A$1048576, \"=\" &A819,Series!$C$2:$C$1048576)","v":0},0]
[null,null,null,null,null,null,null,null,{"$f":"SUMIF('Bienes fideicomitidos'!$A$2:$A$1048576, \"=\" &A820,'Bienes fideicomitidos'!$C$2:$C$1048576)","v":0},null,null,null,null,{"$f":"SUMIF(Series!$A$2:$A$1048576, \"=\" &A820,Series!$C$2:$C$1048576)","v":0},0]
[null,null,null,null,null,null,null,null,{"$f":"SUMIF('Bienes fideicomitidos'!$A$2:$A$1048576, \"=\" &A821,'Bienes fideicomitidos'!$C$2:$C$1048576)","v":0},null,null,null,null,{"$f":"SUMIF(Series!$A$2:$A$1048576, \"=\" &A821,Series!$C$2:$C$1048576)","v":0},0]
[null,null,null,null,null,null,null,null,{"$f":"SUMIF('Bienes fideicomitidos'!$A$2:$A$1048576, \"=\" &A822,'Bienes fideicomitidos'!$C$2:$C$1048576)","v":0},null,null,null,null,{"$f":"SUMIF(Series!$A$2:$A$1048576, \"=\" &A822,Series!$C$2:$C$1048576)","v":0},0]
[null,null,null,null,null,null,null,null,{"$f":"SUMIF('Bienes fideicomitidos'!$A$2:$A$1048576, \"=\" &A823,'Bienes fideicomitidos'!$C$2:$C$1048576)","v":0},null,null,null,null,{"$f":"SUMIF(Series!$A$2:$A$1048576, \"=\" &A823,Series!$C$2:$C$1048576)","v":0},0]
[null,null,null,null,null,null,null,null,{"$f":"SUMIF('Bienes fideicomitidos'!$A$2:$A$1048576, \"=\" &A824,'Bienes fideicomitidos'!$C$2:$C$1048576)","v":0},null,null,null,null,{"$f":"SUMIF(Series!$A$2:$A$1048576, \"=\" &A824,Series!$C$2:$C$1048576)","v":0},0]
[null,null,null,null,null,null,null,null,{"$f":"SUMIF('Bienes fideicomitidos'!$A$2:$A$1048576, \"=\" &A825,'Bienes fideicomitidos'!$C$2:$C$1048576)","v":0},null,null,null,null,{"$f":"SUMIF(Series!$A$2:$A$1048576, \"=\" &A825,Series!$C$2:$C$1048576)","v":0},0]
[null,null,null,null,null,null,null,null,{"$f":"SUMIF('Bienes fideicomitidos'!$A$2:$A$1048576, \"=\" &A826,'Bienes fideicomitidos'!$C$2:$C$1048576)","v":0},null,null,null,null,{"$f":"SUMIF(Series!$A$2:$A$1048576, \"=\" &A826,Series!$C$2:$C$1048576)","v":0},0]
[null,null,null,null,null,null,null,null,{"$f":"SUMIF('Bienes fideicomitidos'!$A$2:$A$1048576, \"=\" &A827,'Bienes fideicomitidos'!$C$2:$C$1048576)","v":0},null,null,null,null,{"$f":"SUMIF(Series!$A$2:$A$1048576, \"=\" &A827,Series!$C$2:$C$1048576)","v":0},0]
[null,null,null,null,null,null,null,null,{"$f":"SUMIF('Bienes fideicomitidos'!$A$2:$A$1048576, \"=\" &A828,'Bienes fideicomitidos'!$C$2:$C$1048576)","v":0},null,null,null,null,{"$f":"SUMIF(Series!$A$2:$A$1048576, \"=\" &A828,Series!$C$2:$C$1048576)","v":0},0]
[null,null,null,null,null,null,null,null,{"$f":"SUMIF('Bienes fideicomitidos'!$A$2:$A$1048576, \"=\" &A829,'Bienes fideicomitidos'!$C$2:$C$1048576)","v":0},null,null,null,null,{"$f":"SUMIF(Series!$A$2:$A$1048576, \"=\" &A829,Series!$C$2:$C$1048576)","v":0},0]
[null,null,null,null,null,null,null,null,{"$f":"SUMIF('Bienes fideicomitidos'!$A$2:$A$1048576, \"=\" &A830,'Bienes fideicomitidos'!$C$2:$C$1048576)","v":0},null,null,null,null,{"$f":"SUMIF(Series!$A$2:$A$1048576, \"=\" &A830,Series!$C$2:$C$1048576)","v":0},0]
[null,null,null,null,null,null,null,null,{"$f":"SUMIF('Bienes fideicomitidos'!$A$2:$A$1048576, \"=\" &A831,'Bienes fideicomitidos'!$C$2:$C$1048576)","v":0},null,null,null,null,{"$f":"SUMIF(Series!$A$2:$A$1048576, \"=\" &A831,Series!$C$2:$C$1048576)","v":0},0]
[null,null,null,null,null,null,null,null,{"$f":"SUMIF('Bienes fideicomitidos'!$A$2:$A$1048576, \"=\" &A832,'Bienes fideicomitidos'!$C$2:$C$1048576)","v":0},null,null,null,null,{"$f":"SUMIF(Series!$A$2:$A$1048576, \"=\" &A832,Series!$C$2:$C$1048576)","v":0},0]
[null,null,null,null,null,null,null,null,{"$f":"SUMIF('Bienes fideicomitidos'!$A$2:$A$1048576, \"=\" &A833,'Bienes fideicomitidos'!$C$2:$C$1048576)","v":0},null,null,null,null,{"$f":"SUMIF(Series!$A$2:$A$1048576, \"=\" &A833,Series!$C$2:$C$1048576)","v":0},0]
[null,null,null,null,null,null,null,null,{"$f":"SUMIF('Bienes fideicomitidos'!$A$2:$A$1048576, \"=\" &A834,'Bienes fideicomitidos'!$C$2:$C$1048576)","v":0},null,null,null,null,{"$f":"SUMIF(Series!$A$2:$A$1048576, \"=\" &A834,Series!$C$2:$C$1048576)","v":0},0]
[null,null,null,null,null,null,null,null,{"$f":"SUMIF('Bienes fideicomitidos'!$A$2:$A$1048576, \"=\" &A835,'Bienes fideicomitidos'!$C$2:$C$1048576)","v":0},null,null,null,null,{"$f":"SUMIF(Series!$A$2:$A$1048576, \"=\" &A835,Series!$C$2:$C$1048576)","v":0},0]
[null,null,null,null,null,null,null,null,{"$f":"SUMIF('Bienes fideicomitidos'!$A$2:$A$1048576, \"=\" &A836,'Bienes fideicomitidos'!$C$2:$C$1048576)","v":0},null,null,null,null,{"$f":"SUMIF(Series!$A$2:$A$1048576, \"=\" &A836,Series!$C$2:$C$1048576)","v":0},0]
[null,null,null,null,null,null,null,null,{"$f":"SUMIF('Bienes fideicomitidos'!$A$2:$A$1048576, \"=\" &A837,'Bienes fideicomitidos'!$C$2:$C$1048576)","v":0},null,null,null,null,{"$f":"SUMIF(Series!$A$2:$A$1048576, \"=\" &A837,Series!$C$2:$C$1048576)","v":0},0]
[null,null,null,null,null,null,null,null,{"$f":"SUMIF('Bienes fideicomitidos'!$A$2:$A$1048576, \"=\" &A838,'Bienes fideicomitidos'!$C$2:$C$1048576)","v":0},null,null,null,null,{"$f":"SUMIF(Series!$A$2:$A$1048576, \"=\" &A838,Series!$C$2:$C$1048576)","v":0},0]
[null,null,null,null,null,null,null,null,{"$f":"SUMIF('Bienes fideicomitidos'!$A$2:$A$1048576, \"=\" &A839,'Bienes fideicomitidos'!$C$2:$C$1048576)","v":0},null,null,null,null,{"$f":"SUMIF(Series!$A$2:$A$1048576, \"=\" &A839,Series!$C$2:$C$1048576)","v":0},0]
[null,null,null,null,null,null,null,null,{"$f":"SUMIF('Bienes fideicomitidos'!$A$2:$A$1048576, \"=\" &A840,'Bienes fideicomitidos'!$C$2:$C$1048576)","v":0},null,null,null,null,{"$f":"SUMIF(Series!$A$2:$A$1048576, \"=\" &A840,Series!$C$2:$C$1048576)","v":0},0]
[null,null,null,null,null,null,null,null,{"$f":"SUMIF('Bienes fideicomitidos'!$A$2:$A$1048576, \"=\" &A841,'Bienes fideicomitidos'!$C$2:$C$1048576)","v":0},null,null,null,null,{"$f":"SUMIF(Series!$A$2:$A$1048576, \"=\" &A841,Series!$C$2:$C$1048576)","v":0},0]
[null,null,null,null,null,null,null,null,{"$f":"SUMIF('Bienes fideicomitidos'!$A$2:$A$1048576, \"=\" &A842,'Bienes fideicomitidos'!$C$2:$C$1048576)","v":0},null,null,null,null,{"$f":"SUMIF(Series!$A$2:$A$1048576, \"=\" &A842,Series!$C$2:$C$1048576)","v":0},0]
[null,null,null,null,null,null,null,null,{"$f":"SUMIF('Bienes fideicomitidos'!$A$2:$A$1048576, \"=\" &A843,'Bienes fideicomitidos'!$C$2:$C$1048576)","v":0},null,null,null,null,{"$f":"SUMIF(Series!$A$2:$A$1048576, \"=\" &A843,Series!$C$2:$C$1048576)","v":0},0]
[null,null,null,null,null,null,null,null,{"$f":"SUMIF('Bienes fideicomitidos'!$A$2:$A$1048576, \"=\" &A844,'Bienes fideicomitidos'!$C$2:$C$1048576)","v":0},null,null,null,null,{"$f":"SUMIF(Series!$A$2:$A$1048576, \"=\" &A844,Series!$C$2:$C$1048576)","v":0},0]
[null,null,null,null,null,null,null,null,{"$f":"SUMIF('Bienes fideicomitidos'!$A$2:$A$1048576, \"=\" &A845,'Bienes fideicomitidos'!$C$2:$C$1048576)","v":0},null,null,null,null,{"$f":"SUMIF(Series!$A$2:$A$1048576, \"=\" &A845,Series!$C$2:$C$1048576)","v":0},0]
[null,null,null,null,null,null,null,null,{"$f":"SUMIF('Bienes fideicomitidos'!$A$2:$A$1048576, \"=\" &A846,'Bienes fideicomitidos'!$C$2:$C$1048576)","v":0},null,null,null,null,{"$f":"SUMIF(Series!$A$2:$A$1048576, \"=\" &A846,Series!$C$2:$C$1048576)","v":0},{"$f":"IFERROR((I846/N846)*100,0)","v":0}]
[null,null,null,null,null,null,null,null,{"$f":"SUMIF('Bienes fideicomitidos'!$A$2:$A$1048576, \"=\" &A847,'Bienes fideicomitidos'!$C$2:$C$1048576)","v":0},null,null,null,null,{"$f":"SUMIF(Series!$A$2:$A$1048576, \"=\" &A847,Series!$C$2:$C$1048576)","v":0},0]
[null,null,null,null,null,null,null,null,{"$f":"SUMIF('Bienes fideicomitidos'!$A$2:$A$1048576, \"=\" &A848,'Bienes fideicomitidos'!$C$2:$C$1048576)","v":0},null,null,null,null,{"$f":"SUMIF(Series!$A$2:$A$1048576, \"=\" &A848,Series!$C$2:$C$1048576)","v":0},0]
[null,null,null,null,null,null,null,null,{"$f":"SUMIF('Bienes fideicomitidos'!$A$2:$A$1048576, \"=\" &A849,'Bienes fideicomitidos'!$C$2:$C$1048576)","v":0},null,null,null,null,{"$f":"SUMIF(Series!$A$2:$A$1048576, \"=\" &A849,Series!$C$2:$C$1048576)","v":0},0]
[null,null,null,null,null,null,null,null,{"$f":"SUMIF('Bienes fideicomitidos'!$A$2:$A$1048576, \"=\" &A850,'Bienes fideicomitidos'!$C$2:$C$1048576)","v":0},null,null,null,null,{"$f":"SUMIF(Series!$A$2:$A$1048576, \"=\" &A850,Series!$C$2:$C$1048576)","v":0},0]
[null,null,null,null,null,null,null,null,{"$f":"SUMIF('Bienes fideicomitidos'!$A$2:$A$1048576, \"=\" &A851,'Bienes fideicomitidos'!$C$2:$C$1048576)","v":0},null,null,null,null,{"$f":"SUMIF(Series!$A$2:$A$1048576, \"=\" &A851,Series!$C$2:$C$1048576)","v":0},0]
[null,null,null,null,null,null,null,null,{"$f":"SUMIF('Bienes fideicomitidos'!$A$2:$A$1048576, \"=\" &A852,'Bienes fideicomitidos'!$C$2:$C$1048576)","v":0},null,null,null,null,{"$f":"SUMIF(Series!$A$2:$A$1048576, \"=\" &A852,Series!$C$2:$C$1048576)","v":0},0]
[null,null,null,null,null,null,null,null,{"$f":"SUMIF('Bienes fideicomitidos'!$A$2:$A$1048576, \"=\" &A853,'Bienes fideicomitidos'!$C$2:$C$1048576)","v":0},null,null,null,null,{"$f":"SUMIF(Series!$A$2:$A$1048576, \"=\" &A853,Series!$C$2:$C$1048576)","v":0},0]
[null,null,null,null,null,null,null,null,{"$f":"SUMIF('Bienes fideicomitidos'!$A$2:$A$1048576, \"=\" &A854,'Bienes fideicomitidos'!$C$2:$C$1048576)","v":0},null,null,null,null,{"$f":"SUMIF(Series!$A$2:$A$1048576, \"=\" &A854,Series!$C$2:$C$1048576)","v":0},0]
[null,null,null,null,null,null,null,null,{"$f":"SUMIF('Bienes fideicomitidos'!$A$2:$A$1048576, \"=\" &A855,'Bienes fideicomitidos'!$C$2:$C$1048576)","v":0},null,null,null,null,{"$f":"SUMIF(Series!$A$2:$A$1048576, \"=\" &A855,Series!$C$2:$C$1048576)","v":0},0]
[null,null,null,null,null,null,null,null,{"$f":"SUMIF('Bienes fideicomitidos'!$A$2:$A$1048576, \"=\" &A856,'Bienes fideicomitidos'!$C$2:$C$1048576)","v":0},null,null,null,null,{"$f":"SUMIF(Series!$A$2:$A$1048576, \"=\" &A856,Series!$C$2:$C$1048576)","v":0},0]
[null,null,null,null,null,null,null,null,{"$f":"SUMIF('Bienes fideicomitidos'!$A$2:$A$1048576, \"=\" &A857,'Bienes fideicomitidos'!$C$2:$C$1048576)","v":0},null,null,null,null,{"$f":"SUMIF(Series!$A$2:$A$1048576, \"=\" &A857,Series!$C$2:$C$1048576)","v":0},0]
[null,null,null,null,null,null,null,null,{"$f":"SUMIF('Bienes fideicomitidos'!$A$2:$A$1048576, \"=\" &A858,'Bienes fideicomitidos'!$C$2:$C$1048576)","v":0},null,null,null,null,{"$f":"SUMIF(Series!$A$2:$A$1048576, \"=\" &A858,Series!$C$2:$C$1048576)","v":0},0]
[null,null,null,null,null,null,null,null,{"$f":"SUMIF('Bienes fideicomitidos'!$A$2:$A$1048576, \"=\" &A859,'Bienes fideicomitidos'!$C$2:$C$1048576)","v":0},null,null,null,null,{"$f":"SUMIF(Series!$A$2:$A$1048576, \"=\" &A859,Series!$C$2:$C$1048576)","v":0},0]
[null,null,null,null,null,null,null,null,{"$f":"SUMIF('Bienes fideicomitidos'!$A$2:$A$1048576, \"=\" &A860,'Bienes fideicomitidos'!$C$2:$C$1048576)","v":0},null,null,null,null,{"$f":"SUMIF(Series!$A$2:$A$1048576, \"=\" &A860,Series!$C$2:$C$1048576)","v":0},0]
[null,null,null,null,null,null,null,null,{"$f":"SUMIF('Bienes fideicomitidos'!$A$2:$A$1048576, \"=\" &A861,'Bienes fideicomitidos'!$C$2:$C$1048576)","v":0},null,null,null,null,{"$f":"SUMIF(Series!$A$2:$A$1048576, \"=\" &A861,Series!$C$2:$C$1048576)","v":0},0]
[null,null,null,null,null,null,null,null,{"$f":"SUMIF('Bienes fideicomitidos'!$A$2:$A$1048576, \"=\" &A862,'Bienes fideicomitidos'!$C$2:$C$1048576)","v":0},null,null,null,null,{"$f":"SUMIF(Series!$A$2:$A$1048576, \"=\" &A862,Series!$C$2:$C$1048576)","v":0},0]
[null,null,null,null,null,null,null,null,{"$f":"SUMIF('Bienes fideicomitidos'!$A$2:$A$1048576, \"=\" &A863,'Bienes fideicomitidos'!$C$2:$C$1048576)","v":0},null,null,null,null,{"$f":"SUMIF(Series!$A$2:$A$1048576, \"=\" &A863,Series!$C$2:$C$1048576)","v":0},0]
[null,null,null,null,null,null,null,null,{"$f":"SUMIF('Bienes fideicomitidos'!$A$2:$A$1048576, \"=\" &A864,'Bienes fideicomitidos'!$C$2:$C$1048576)","v":0},null,null,null,null,{"$f":"SUMIF(Series!$A$2:$A$1048576, \"=\" &A864,Series!$C$2:$C$1048576)","v":0},0]
[null,null,null,null,null,null,null,null,{"$f":"SUMIF('Bienes fideicomitidos'!$A$2:$A$1048576, \"=\" &A865,'Bienes fideicomitidos'!$C$2:$C$1048576)","v":0},null,null,null,null,{"$f":"SUMIF(Series!$A$2:$A$1048576, \"=\" &A865,Series!$C$2:$C$1048576)","v":0},0]
[null,null,null,null,null,null,null,null,{"$f":"SUMIF('Bienes fideicomitidos'!$A$2:$A$1048576, \"=\" &A866,'Bienes fideicomitidos'!$C$2:$C$1048576)","v":0},null,null,null,null,{"$f":"SUMIF(Series!$A$2:$A$1048576, \"=\" &A866,Series!$C$2:$C$1048576)","v":0},0]
[null,null,null,null,null,null,null,null,{"$f":"SUMIF('Bienes fideicomitidos'!$A$2:$A$1048576, \"=\" &A867,'Bienes fideicomitidos'!$C$2:$C$1048576)","v":0},null,null,null,null,{"$f":"SUMIF(Series!$A$2:$A$1048576, \"=\" &A867,Series!$C$2:$C$1048576)","v":0},0]
[null,null,null,null,null,null,null,null,{"$f":"SUMIF('Bienes fideicomitidos'!$A$2:$A$1048576, \"=\" &A868,'Bienes fideicomitidos'!$C$2:$C$1048576)","v":0},null,null,null,null,{"$f":"SUMIF(Series!$A$2:$A$1048576, \"=\" &A868,Series!$C$2:$C$1048576)","v":0},0]
[null,null,null,null,null,null,null,null,{"$f":"SUMIF('Bienes fideicomitidos'!$A$2:$A$1048576, \"=\" &A869,'Bienes fideicomitidos'!$C$2:$C$1048576)","v":0},null,null,null,null,{"$f":"SUMIF(Series!$A$2:$A$1048576, \"=\" &A869,Series!$C$2:$C$1048576)","v":0},0]
[null,null,null,null,null,null,null,null,{"$f":"SUMIF('Bienes fideicomitidos'!$A$2:$A$1048576, \"=\" &A870,'Bienes fideicomitidos'!$C$2:$C$1048576)","v":0},null,null,null,null,{"$f":"SUMIF(Series!$A$2:$A$1048576, \"=\" &A870,Series!$C$2:$C$1048576)","v":0},0]
[null,null,null,null,null,null,null,null,{"$f":"SUMIF('Bienes fideicomitidos'!$A$2:$A$1048576, \"=\" &A871,'Bienes fideicomitidos'!$C$2:$C$1048576)","v":0},null,null,null,null,{"$f":"SUMIF(Series!$A$2:$A$1048576, \"=\" &A871,Series!$C$2:$C$1048576)","v":0},0]
[null,null,null,null,null,null,null,null,{"$f":"SUMIF('Bienes fideicomitidos'!$A$2:$A$1048576, \"=\" &A872,'Bienes fideicomitidos'!$C$2:$C$1048576)","v":0},null,null,null,null,{"$f":"SUMIF(Series!$A$2:$A$1048576, \"=\" &A872,Series!$C$2:$C$1048576)","v":0},0]
[null,null,null,null,null,null,null,null,{"$f":"SUMIF('Bienes fideicomitidos'!$A$2:$A$1048576, \"=\" &A873,'Bienes fideicomitidos'!$C$2:$C$1048576)","v":0},null,null,null,null,{"$f":"SUMIF(Series!$A$2:$A$1048576, \"=\" &A873,Series!$C$2:$C$1048576)","v":0},0]
[null,null,null,null,null,null,null,null,{"$f":"SUMIF('Bienes fideicomitidos'!$A$2:$A$1048576, \"=\" &A874,'Bienes fideicomitidos'!$C$2:$C$1048576)","v":0},null,null,null,null,{"$f":"SUMIF(Series!$A$2:$A$1048576, \"=\" &A874,Series!$C$2:$C$1048576)","v":0},0]
[null,null,null,null,null,null,null,null,{"$f":"SUMIF('Bienes fideicomitidos'!$A$2:$A$1048576, \"=\" &A875,'Bienes fideicomitidos'!$C$2:$C$1048576)","v":0},null,null,null,null,{"$f":"SUMIF(Series!$A$2:$A$1048576, \"=\" &A875,Series!$C$2:$C$1048576)","v":0},0]
[null,null,null,null,null,null,null,null,{"$f":"SUMIF('Bienes fideicomitidos'!$A$2:$A$1048576, \"=\" &A876,'Bienes fideicomitidos'!$C$2:$C$1048576)","v":0},null,null,null,null,{"$f":"SUMIF(Series!$A$2:$A$1048576, \"=\" &A876,Series!$C$2:$C$1048576)","v":0},0]
[null,null,null,null,null,null,null,null,{"$f":"SUMIF('Bienes fideicomitidos'!$A$2:$A$1048576, \"=\" &A877,'Bienes fideicomitidos'!$C$2:$C$1048576)","v":0},null,null,null,null,{"$f":"SUMIF(Series!$A$2:$A$1048576, \"=\" &A877,Series!$C$2:$C$1048576)","v":0},0]
[null,null,null,null,null,null,null,null,{"$f":"SUMIF('Bienes fideicomitidos'!$A$2:$A$1048576, \"=\" &A878,'Bienes fideicomitidos'!$C$2:$C$1048576)","v":0},null,null,null,null,{"$f":"SUMIF(Series!$A$2:$A$1048576, \"=\" &A878,Series!$C$2:$C$1048576)","v":0},0]
[null,null,null,null,null,null,null,null,{"$f":"SUMIF('Bienes fideicomitidos'!$A$2:$A$1048576, \"=\" &A879,'Bienes fideicomitidos'!$C$2:$C$1048576)","v":0},null,null,null,null,{"$f":"SUMIF(Series!$A$2:$A$1048576, \"=\" &A879,Series!$C$2:$C$1048576)","v":0},0]
[null,null,null,null,null,null,null,null,{"$f":"SUMIF('Bienes fideicomitidos'!$A$2:$A$1048576, \"=\" &A880,'Bienes fideicomitidos'!$C$2:$C$1048576)","v":0},null,null,null,null,{"$f":"SUMIF(Series!$A$2:$A$1048576, \"=\" &A880,Series!$C$2:$C$1048576)","v":0},0]
[null,null,null,null,null,null,null,null,{"$f":"SUMIF('Bienes fideicomitidos'!$A$2:$A$1048576, \"=\" &A881,'Bienes fideicomitidos'!$C$2:$C$1048576)","v":0},null,null,null,null,{"$f":"SUMIF(Series!$A$2:$A$1048576, \"=\" &A881,Series!$C$2:$C$1048576)","v":0},0]
[null,null,null,null,null,null,null,null,{"$f":"SUMIF('Bienes fideicomitidos'!$A$2:$A$1048576, \"=\" &A882,'Bienes fideicomitidos'!$C$2:$C$1048576)","v":0},null,null,null,null,{"$f":"SUMIF(Series!$A$2:$A$1048576, \"=\" &A882,Series!$C$2:$C$1048576)","v":0},0]
[null,null,null,null,null,null,null,null,{"$f":"SUMIF('Bienes fideicomitidos'!$A$2:$A$1048576, \"=\" &A883,'Bienes fideicomitidos'!$C$2:$C$1048576)","v":0},null,null,null,null,{"$f":"SUMIF(Series!$A$2:$A$1048576, \"=\" &A883,Series!$C$2:$C$1048576)","v":0},0]
[null,null,null,null,null,null,null,null,{"$f":"SUMIF('Bienes fideicomitidos'!$A$2:$A$1048576, \"=\" &A884,'Bienes fideicomitidos'!$C$2:$C$1048576)","v":0},null,null,null,null,{"$f":"SUMIF(Series!$A$2:$A$1048576, \"=\" &A884,Series!$C$2:$C$1048576)","v":0},0]
[null,null,null,null,null,null,null,null,{"$f":"SUMIF('Bienes fideicomitidos'!$A$2:$A$1048576, \"=\" &A885,'Bienes fideicomitidos'!$C$2:$C$1048576)","v":0},null,null,null,null,{"$f":"SUMIF(Series!$A$2:$A$1048576, \"=\" &A885,Series!$C$2:$C$1048576)","v":0},0]
[null,null,null,null,null,null,null,null,{"$f":"SUMIF('Bienes fideicomitidos'!$A$2:$A$1048576, \"=\" &A886,'Bienes fideicomitidos'!$C$2:$C$1048576)","v":0},null,null,null,null,{"$f":"SUMIF(Series!$A$2:$A$1048576, \"=\" &A886,Series!$C$2:$C$1048576)","v":0},0]
[null,null,null,null,null,null,null,null,{"$f":"SUMIF('Bienes fideicomitidos'!$A$2:$A$1048576, \"=\" &A887,'Bienes fideicomitidos'!$C$2:$C$1048576)","v":0},null,null,null,null,{"$f":"SUMIF(Series!$A$2:$A$1048576, \"=\" &A887,Series!$C$2:$C$1048576)","v":0},0]
[null,null,null,null,null,null,null,null,{"$f":"SUMIF('Bienes fideicomitidos'!$A$2:$A$1048576, \"=\" &A888,'Bienes fideicomitidos'!$C$2:$C$1048576)","v":0},null,null,null,null,{"$f":"SUMIF(Series!$A$2:$A$1048576, \"=\" &A888,Series!$C$2:$C$1048576)","v":0},0]
[null,null,null,null,null,null,null,null,{"$f":"SUMIF('Bienes fideicomitidos'!$A$2:$A$1048576, \"=\" &A889,'Bienes fideicomitidos'!$C$2:$C$1048576)","v":0},null,null,null,null,{"$f":"SUMIF(Series!$A$2:$A$1048576, \"=\" &A889,Series!$C$2:$C$1048576)","v":0},0]
[null,null,null,null,null,null,null,null,{"$f":"SUMIF('Bienes fideicomitidos'!$A$2:$A$1048576, \"=\" &A890,'Bienes fideicomitidos'!$C$2:$C$1048576)","v":0},null,null,null,null,{"$f":"SUMIF(Series!$A$2:$A$1048576, \"=\" &A890,Series!$C$2:$C$1048576)","v":0},0]
[null,null,null,null,null,null,null,null,{"$f":"SUMIF('Bienes fideicomitidos'!$A$2:$A$1048576, \"=\" &A891,'Bienes fideicomitidos'!$C$2:$C$1048576)","v":0},null,null,null,null,{"$f":"SUMIF(Series!$A$2:$A$1048576, \"=\" &A891,Series!$C$2:$C$1048576)","v":0},0]
[null,null,null,null,null,null,null,null,{"$f":"SUMIF('Bienes fideicomitidos'!$A$2:$A$1048576, \"=\" &A892,'Bienes fideicomitidos'!$C$2:$C$1048576)","v":0},null,null,null,null,{"$f":"SUMIF(Series!$A$2:$A$1048576, \"=\" &A892,Series!$C$2:$C$1048576)","v":0},0]
[null,null,null,null,null,null,null,null,{"$f":"SUMIF('Bienes fideicomitidos'!$A$2:$A$1048576, \"=\" &A893,'Bienes fideicomitidos'!$C$2:$C$1048576)","v":0},null,null,null,null,{"$f":"SUMIF(Series!$A$2:$A$1048576, \"=\" &A893,Series!$C$2:$C$1048576)","v":0},0]
[null,null,null,null,null,null,null,null,{"$f":"SUMIF('Bienes fideicomitidos'!$A$2:$A$1048576, \"=\" &A894,'Bienes fideicomitidos'!$C$2:$C$1048576)","v":0},null,null,null,null,{"$f":"SUMIF(Series!$A$2:$A$1048576, \"=\" &A894,Series!$C$2:$C$1048576)","v":0},0]
[null,null,null,null,null,null,null,null,{"$f":"SUMIF('Bienes fideicomitidos'!$A$2:$A$1048576, \"=\" &A895,'Bienes fideicomitidos'!$C$2:$C$1048576)","v":0},null,null,null,null,{"$f":"SUMIF(Series!$A$2:$A$1048576, \"=\" &A895,Series!$C$2:$C$1048576)","v":0},0]
[null,null,null,null,null,null,null,null,{"$f":"SUMIF('Bienes fideicomitidos'!$A$2:$A$1048576, \"=\" &A896,'Bienes fideicomitidos'!$C$2:$C$1048576)","v":0},null,null,null,null,{"$f":"SUMIF(Series!$A$2:$A$1048576, \"=\" &A896,Series!$C$2:$C$1048576)","v":0},0]
[null,null,null,null,null,null,null,null,{"$f":"SUMIF('Bienes fideicomitidos'!$A$2:$A$1048576, \"=\" &A897,'Bienes fideicomitidos'!$C$2:$C$1048576)","v":0},null,null,null,null,{"$f":"SUMIF(Series!$A$2:$A$1048576, \"=\" &A897,Series!$C$2:$C$1048576)","v":0},0]
[null,null,null,null,null,null,null,null,{"$f":"SUMIF('Bienes fideicomitidos'!$A$2:$A$1048576, \"=\" &A898,'Bienes fideicomitidos'!$C$2:$C$1048576)","v":0},null,null,null,null,{"$f":"SUMIF(Series!$A$2:$A$1048576, \"=\" &A898,Series!$C$2:$C$1048576)","v":0},0]
[null,null,null,null,null,null,null,null,{"$f":"SUMIF('Bienes fideicomitidos'!$A$2:$A$1048576, \"=\" &A899,'Bienes fideicomitidos'!$C$2:$C$1048576)","v":0},null,null,null,null,{"$f":"SUMIF(Series!$A$2:$A$1048576, \"=\" &A899,Series!$C$2:$C$1048576)","v":0},0]
[null,null,null,null,null,null,null,null,{"$f":"SUMIF('Bienes fideicomitidos'!$A$2:$A$1048576, \"=\" &A900,'Bienes fideicomitidos'!$C$2:$C$1048576)","v":0},null,null,null,null,{"$f":"SUMIF(Series!$A$2:$A$1048576, \"=\" &A900,Series!$C$2:$C$1048576)","v":0},0]
[null,null,null,null,null,null,null,null,{"$f":"SUMIF('Bienes fideicomitidos'!$A$2:$A$1048576, \"=\" &A901,'Bienes fideicomitidos'!$C$2:$C$1048576)","v":0},null,null,null,null,{"$f":"SUMIF(Series!$A$2:$A$1048576, \"=\" &A901,Series!$C$2:$C$1048576)","v":0},0]
[null,null,null,null,null,null,null,null,{"$f":"SUMIF('Bienes fideicomitidos'!$A$2:$A$1048576, \"=\" &A902,'Bienes fideicomitidos'!$C$2:$C$1048576)","v":0},null,null,null,null,{"$f":"SUMIF(Series!$A$2:$A$1048576, \"=\" &A902,Series!$C$2:$C$1048576)","v":0},0]
[null,null,null,null,null,null,null,null,{"$f":"SUMIF('Bienes fideicomitidos'!$A$2:$A$1048576, \"=\" &A903,'Bienes fideicomitidos'!$C$2:$C$1048576)","v":0},null,null,null,null,{"$f":"SUMIF(Series!$A$2:$A$1048576, \"=\" &A903,Series!$C$2:$C$1048576)","v":0},0]
[null,null,null,null,null,null,null,null,{"$f":"SUMIF('Bienes fideicomitidos'!$A$2:$A$1048576, \"=\" &A904,'Bienes fideicomitidos'!$C$2:$C$1048576)","v":0},null,null,null,null,{"$f":"SUMIF(Series!$A$2:$A$1048576, \"=\" &A904,Series!$C$2:$C$1048576)","v":0},0]
[null,null,null,null,null,null,null,null,{"$f":"SUMIF('Bienes fideicomitidos'!$A$2:$A$1048576, \"=\" &A905,'Bienes fideicomitidos'!$C$2:$C$1048576)","v":0},null,null,null,null,{"$f":"SUMIF(Series!$A$2:$A$1048576, \"=\" &A905,Series!$C$2:$C$1048576)","v":0},0]
[null,null,null,null,null,null,null,null,{"$f":"SUMIF('Bienes fideicomitidos'!$A$2:$A$1048576, \"=\" &A906,'Bienes fideicomitidos'!$C$2:$C$1048576)","v":0},null,null,null,null,{"$f":"SUMIF(Series!$A$2:$A$1048576, \"=\" &A906,Series!$C$2:$C$1048576)","v":0},0]
[null,null,null,null,null,null,null,null,{"$f":"SUMIF('Bienes fideicomitidos'!$A$2:$A$1048576, \"=\" &A907,'Bienes fideicomitidos'!$C$2:$C$1048576)","v":0},null,null,null,null,{"$f":"SUMIF(Series!$A$2:$A$1048576, \"=\" &A907,Series!$C$2:$C$1048576)","v":0},0]
[null,null,null,null,null,null,null,null,{"$f":"SUMIF('Bienes fideicomitidos'!$A$2:$A$1048576, \"=\" &A908,'Bienes fideicomitidos'!$C$2:$C$1048576)","v":0},null,null,null,null,{"$f":"SUMIF(Series!$A$2:$A$1048576, \"=\" &A908,Series!$C$2:$C$1048576)","v":0},0]
[null,null,null,null,null,null,null,null,{"$f":"SUMIF('Bienes fideicomitidos'!$A$2:$A$1048576, \"=\" &A909,'Bienes fideicomitidos'!$C$2:$C$1048576)","v":0},null,null,null,null,{"$f":"SUMIF(Series!$A$2:$A$1048576, \"=\" &A909,Series!$C$2:$C$1048576)","v":0},0]
[null,null,null,null,null,null,null,null,{"$f":"SUMIF('Bienes fideicomitidos'!$A$2:$A$1048576, \"=\" &A910,'Bienes fideicomitidos'!$C$2:$C$1048576)","v":0},null,null,null,null,{"$f":"SUMIF(Series!$A$2:$A$1048576, \"=\" &A910,Series!$C$2:$C$1048576)","v":0},{"$f":"IFERROR((I910/N910)*100,0)","v":0}]
[null,null,null,null,null,null,null,null,{"$f":"SUMIF('Bienes fideicomitidos'!$A$2:$A$1048576, \"=\" &A911,'Bienes fideicomitidos'!$C$2:$C$1048576)","v":0},null,null,null,null,{"$f":"SUMIF(Series!$A$2:$A$1048576, \"=\" &A911,Series!$C$2:$C$1048576)","v":0},0]
[null,null,null,null,null,null,null,null,{"$f":"SUMIF('Bienes fideicomitidos'!$A$2:$A$1048576, \"=\" &A912,'Bienes fideicomitidos'!$C$2:$C$1048576)","v":0},null,null,null,null,{"$f":"SUMIF(Series!$A$2:$A$1048576, \"=\" &A912,Series!$C$2:$C$1048576)","v":0},0]
[null,null,null,null,null,null,null,null,{"$f":"SUMIF('Bienes fideicomitidos'!$A$2:$A$1048576, \"=\" &A913,'Bienes fideicomitidos'!$C$2:$C$1048576)","v":0},null,null,null,null,{"$f":"SUMIF(Series!$A$2:$A$1048576, \"=\" &A913,Series!$C$2:$C$1048576)","v":0},0]
[null,null,null,null,null,null,null,null,{"$f":"SUMIF('Bienes fideicomitidos'!$A$2:$A$1048576, \"=\" &A914,'Bienes fideicomitidos'!$C$2:$C$1048576)","v":0},null,null,null,null,{"$f":"SUMIF(Series!$A$2:$A$1048576, \"=\" &A914,Series!$C$2:$C$1048576)","v":0},0]
[null,null,null,null,null,null,null,null,{"$f":"SUMIF('Bienes fideicomitidos'!$A$2:$A$1048576, \"=\" &A915,'Bienes fideicomitidos'!$C$2:$C$1048576)","v":0},null,null,null,null,{"$f":"SUMIF(Series!$A$2:$A$1048576, \"=\" &A915,Series!$C$2:$C$1048576)","v":0},0]
[null,null,null,null,null,null,null,null,{"$f":"SUMIF('Bienes fideicomitidos'!$A$2:$A$1048576, \"=\" &A916,'Bienes fideicomitidos'!$C$2:$C$1048576)","v":0},null,null,null,null,{"$f":"SUMIF(Series!$A$2:$A$1048576, \"=\" &A916,Series!$C$2:$C$1048576)","v":0},0]
[null,null,null,null,null,null,null,null,{"$f":"SUMIF('Bienes fideicomitidos'!$A$2:$A$1048576, \"=\" &A917,'Bienes fideicomitidos'!$C$2:$C$1048576)","v":0},null,null,null,null,{"$f":"SUMIF(Series!$A$2:$A$1048576, \"=\" &A917,Series!$C$2:$C$1048576)","v":0},0]
[null,null,null,null,null,null,null,null,{"$f":"SUMIF('Bienes fideicomitidos'!$A$2:$A$1048576, \"=\" &A918,'Bienes fideicomitidos'!$C$2:$C$1048576)","v":0},null,null,null,null,{"$f":"SUMIF(Series!$A$2:$A$1048576, \"=\" &A918,Series!$C$2:$C$1048576)","v":0},0]
[null,null,null,null,null,null,null,null,{"$f":"SUMIF('Bienes fideicomitidos'!$A$2:$A$1048576, \"=\" &A919,'Bienes fideicomitidos'!$C$2:$C$1048576)","v":0},null,null,null,null,{"$f":"SUMIF(Series!$A$2:$A$1048576, \"=\" &A919,Series!$C$2:$C$1048576)","v":0},0]
[null,null,null,null,null,null,null,null,{"$f":"SUMIF('Bienes fideicomitidos'!$A$2:$A$1048576, \"=\" &A920,'Bienes fideicomitidos'!$C$2:$C$1048576)","v":0},null,null,null,null,{"$f":"SUMIF(Series!$A$2:$A$1048576, \"=\" &A920,Series!$C$2:$C$1048576)","v":0},0]
[null,null,null,null,null,null,null,null,{"$f":"SUMIF('Bienes fideicomitidos'!$A$2:$A$1048576, \"=\" &A921,'Bienes fideicomitidos'!$C$2:$C$1048576)","v":0},null,null,null,null,{"$f":"SUMIF(Series!$A$2:$A$1048576, \"=\" &A921,Series!$C$2:$C$1048576)","v":0},0]
[null,null,null,null,null,null,null,null,{"$f":"SUMIF('Bienes fideicomitidos'!$A$2:$A$1048576, \"=\" &A922,'Bienes fideicomitidos'!$C$2:$C$1048576)","v":0},null,null,null,null,{"$f":"SUMIF(Series!$A$2:$A$1048576, \"=\" &A922,Series!$C$2:$C$1048576)","v":0},0]
[null,null,null,null,null,null,null,null,{"$f":"SUMIF('Bienes fideicomitidos'!$A$2:$A$1048576, \"=\" &A923,'Bienes fideicomitidos'!$C$2:$C$1048576)","v":0},null,null,null,null,{"$f":"SUMIF(Series!$A$2:$A$1048576, \"=\" &A923,Series!$C$2:$C$1048576)","v":0},0]
[null,null,null,null,null,null,null,null,{"$f":"SUMIF('Bienes fideicomitidos'!$A$2:$A$1048576, \"=\" &A924,'Bienes fideicomitidos'!$C$2:$C$1048576)","v":0},null,null,null,null,{"$f":"SUMIF(Series!$A$2:$A$1048576, \"=\" &A924,Series!$C$2:$C$1048576)","v":0},0]
[null,null,null,null,null,null,null,null,{"$f":"SUMIF('Bienes fideicomitidos'!$A$2:$A$1048576, \"=\" &A925,'Bienes fideicomitidos'!$C$2:$C$1048576)","v":0},null,null,null,null,{"$f":"SUMIF(Series!$A$2:$A$1048576, \"=\" &A925,Series!$C$2:$C$1048576)","v":0},0]
[null,null,null,null,null,null,null,null,{"$f":"SUMIF('Bienes fideicomitidos'!$A$2:$A$1048576, \"=\" &A926,'Bienes fideicomitidos'!$C$2:$C$1048576)","v":0},null,null,null,null,{"$f":"SUMIF(Series!$A$2:$A$1048576, \"=\" &A926,Series!$C$2:$C$1048576)","v":0},0]
[null,null,null,null,null,null,null,null,{"$f":"SUMIF('Bienes fideicomitidos'!$A$2:$A$1048576, \"=\" &A927,'Bienes fideicomitidos'!$C$2:$C$1048576)","v":0},null,null,null,null,{"$f":"SUMIF(Series!$A$2:$A$1048576, \"=\" &A927,Series!$C$2:$C$1048576)","v":0},0]
[null,null,null,null,null,null,null,null,{"$f":"SUMIF('Bienes fideicomitidos'!$A$2:$A$1048576, \"=\" &A928,'Bienes fideicomitidos'!$C$2:$C$1048576)","v":0},null,null,null,null,{"$f":"SUMIF(Series!$A$2:$A$1048576, \"=\" &A928,Series!$C$2:$C$1048576)","v":0},0]
[null,null,null,null,null,null,null,null,{"$f":"SUMIF('Bienes fideicomitidos'!$A$2:$A$1048576, \"=\" &A929,'Bienes fideicomitidos'!$C$2:$C$1048576)","v":0},null,null,null,null,{"$f":"SUMIF(Series!$A$2:$A$1048576, \"=\" &A929,Series!$C$2:$C$1048576)","v":0},0]
[null,null,null,null,null,null,null,null,{"$f":"SUMIF('Bienes fideicomitidos'!$A$2:$A$1048576, \"=\" &A930,'Bienes fideicomitidos'!$C$2:$C$1048576)","v":0},null,null,null,null,{"$f":"SUMIF(Series!$A$2:$A$1048576, \"=\" &A930,Series!$C$2:$C$1048576)","v":0},0]
[null,null,null,null,null,null,null,null,{"$f":"SUMIF('Bienes fideicomitidos'!$A$2:$A$1048576, \"=\" &A931,'Bienes fideicomitidos'!$C$2:$C$1048576)","v":0},null,null,null,null,{"$f":"SUMIF(Series!$A$2:$A$1048576, \"=\" &A931,Series!$C$2:$C$1048576)","v":0},0]
[null,null,null,null,null,null,null,null,{"$f":"SUMIF('Bienes fideicomitidos'!$A$2:$A$1048576, \"=\" &A932,'Bienes fideicomitidos'!$C$2:$C$1048576)","v":0},null,null,null,null,{"$f":"SUMIF(Series!$A$2:$A$1048576, \"=\" &A932,Series!$C$2:$C$1048576)","v":0},0]
[null,null,null,null,null,null,null,null,{"$f":"SUMIF('Bienes fideicomitidos'!$A$2:$A$1048576, \"=\" &A933,'Bienes fideicomitidos'!$C$2:$C$1048576)","v":0},null,null,null,null,{"$f":"SUMIF(Series!$A$2:$A$1048576, \"=\" &A933,Series!$C$2:$C$1048576)","v":0},0]
[null,null,null,null,null,null,null,null,{"$f":"SUMIF('Bienes fideicomitidos'!$A$2:$A$1048576, \"=\" &A934,'Bienes fideicomitidos'!$C$2:$C$1048576)","v":0},null,null,null,null,{"$f":"SUMIF(Series!$A$2:$A$1048576, \"=\" &A934,Series!$C$2:$C$1048576)","v":0},0]
[null,null,null,null,null,null,null,null,{"$f":"SUMIF('Bienes fideicomitidos'!$A$2:$A$1048576, \"=\" &A935,'Bienes fideicomitidos'!$C$2:$C$1048576)","v":0},null,null,null,null,{"$f":"SUMIF(Series!$A$2:$A$1048576, \"=\" &A935,Series!$C$2:$C$1048576)","v":0},0]
[null,null,null,null,null,null,null,null,{"$f":"SUMIF('Bienes fideicomitidos'!$A$2:$A$1048576, \"=\" &A936,'Bienes fideicomitidos'!$C$2:$C$1048576)","v":0},null,null,null,null,{"$f":"SUMIF(Series!$A$2:$A$1048576, \"=\" &A936,Series!$C$2:$C$1048576)","v":0},0]
[null,null,null,null,null,null,null,null,{"$f":"SUMIF('Bienes fideicomitidos'!$A$2:$A$1048576, \"=\" &A937,'Bienes fideicomitidos'!$C$2:$C$1048576)","v":0},null,null,null,null,{"$f":"SUMIF(Series!$A$2:$A$1048576, \"=\" &A937,Series!$C$2:$C$1048576)","v":0},0]
[null,null,null,null,null,null,null,null,{"$f":"SUMIF('Bienes fideicomitidos'!$A$2:$A$1048576, \"=\" &A938,'Bienes fideicomitidos'!$C$2:$C$1048576)","v":0},null,null,null,null,{"$f":"SUMIF(Series!$A$2:$A$1048576, \"=\" &A938,Series!$C$2:$C$1048576)","v":0},0]
[null,null,null,null,null,null,null,null,{"$f":"SUMIF('Bienes fideicomitidos'!$A$2:$A$1048576, \"=\" &A939,'Bienes fideicomitidos'!$C$2:$C$1048576)","v":0},null,null,null,null,{"$f":"SUMIF(Series!$A$2:$A$1048576, \"=\" &A939,Series!$C$2:$C$1048576)","v":0},0]
[null,null,null,null,null,null,null,null,{"$f":"SUMIF('Bienes fideicomitidos'!$A$2:$A$1048576, \"=\" &A940,'Bienes fideicomitidos'!$C$2:$C$1048576)","v":0},null,null,null,null,{"$f":"SUMIF(Series!$A$2:$A$1048576, \"=\" &A940,Series!$C$2:$C$1048576)","v":0},0]
[null,null,null,null,null,null,null,null,{"$f":"SUMIF('Bienes fideicomitidos'!$A$2:$A$1048576, \"=\" &A941,'Bienes fideicomitidos'!$C$2:$C$1048576)","v":0},null,null,null,null,{"$f":"SUMIF(Series!$A$2:$A$1048576, \"=\" &A941,Series!$C$2:$C$1048576)","v":0},0]
[null,null,null,null,null,null,null,null,{"$f":"SUMIF('Bienes fideicomitidos'!$A$2:$A$1048576, \"=\" &A942,'Bienes fideicomitidos'!$C$2:$C$1048576)","v":0},null,null,null,null,{"$f":"SUMIF(Series!$A$2:$A$1048576, \"=\" &A942,Series!$C$2:$C$1048576)","v":0},0]
[null,null,null,null,null,null,null,null,{"$f":"SUMIF('Bienes fideicomitidos'!$A$2:$A$1048576, \"=\" &A943,'Bienes fideicomitidos'!$C$2:$C$1048576)","v":0},null,null,null,null,{"$f":"SUMIF(Series!$A$2:$A$1048576, \"=\" &A943,Series!$C$2:$C$1048576)","v":0},0]
[null,null,null,null,null,null,null,null,{"$f":"SUMIF('Bienes fideicomitidos'!$A$2:$A$1048576, \"=\" &A944,'Bienes fideicomitidos'!$C$2:$C$1048576)","v":0},null,null,null,null,{"$f":"SUMIF(Series!$A$2:$A$1048576, \"=\" &A944,Series!$C$2:$C$1048576)","v":0},0]
[null,null,null,null,null,null,null,null,{"$f":"SUMIF('Bienes fideicomitidos'!$A$2:$A$1048576, \"=\" &A945,'Bienes fideicomitidos'!$C$2:$C$1048576)","v":0},null,null,null,null,{"$f":"SUMIF(Series!$A$2:$A$1048576, \"=\" &A945,Series!$C$2:$C$1048576)","v":0},0]
[null,null,null,null,null,null,null,null,{"$f":"SUMIF('Bienes fideicomitidos'!$A$2:$A$1048576, \"=\" &A946,'Bienes fideicomitidos'!$C$2:$C$1048576)","v":0},null,null,null,null,{"$f":"SUMIF(Series!$A$2:$A$1048576, \"=\" &A946,Series!$C$2:$C$1048576)","v":0},0]
[null,null,null,null,null,null,null,null,{"$f":"SUMIF('Bienes fideicomitidos'!$A$2:$A$1048576, \"=\" &A947,'Bienes fideicomitidos'!$C$2:$C$1048576)","v":0},null,null,null,null,{"$f":"SUMIF(Series!$A$2:$A$1048576, \"=\" &A947,Series!$C$2:$C$1048576)","v":0},0]
[null,null,null,null,null,null,null,null,{"$f":"SUMIF('Bienes fideicomitidos'!$A$2:$A$1048576, \"=\" &A948,'Bienes fideicomitidos'!$C$2:$C$1048576)","v":0},null,null,null,null,{"$f":"SUMIF(Series!$A$2:$A$1048576, \"=\" &A948,Series!$C$2:$C$1048576)","v":0},0]
[null,null,null,null,null,null,null,null,{"$f":"SUMIF('Bienes fideicomitidos'!$A$2:$A$1048576, \"=\" &A949,'Bienes fideicomitidos'!$C$2:$C$1048576)","v":0},null,null,null,null,{"$f":"SUMIF(Series!$A$2:$A$1048576, \"=\" &A949,Series!$C$2:$C$1048576)","v":0},0]
[null,null,null,null,null,null,null,null,{"$f":"SUMIF('Bienes fideicomitidos'!$A$2:$A$1048576, \"=\" &A950,'Bienes fideicomitidos'!$C$2:$C$1048576)","v":0},null,null,null,null,{"$f":"SUMIF(Series!$A$2:$A$1048576, \"=\" &A950,Series!$C$2:$C$1048576)","v":0},0]
[null,null,null,null,null,null,null,null,{"$f":"SUMIF('Bienes fideicomitidos'!$A$2:$A$1048576, \"=\" &A951,'Bienes fideicomitidos'!$C$2:$C$1048576)","v":0},null,null,null,null,{"$f":"SUMIF(Series!$A$2:$A$1048576, \"=\" &A951,Series!$C$2:$C$1048576)","v":0},0]
[null,null,null,null,null,null,null,null,{"$f":"SUMIF('Bienes fideicomitidos'!$A$2:$A$1048576, \"=\" &A952,'Bienes fideicomitidos'!$C$2:$C$1048576)","v":0},null,null,null,null,{"$f":"SUMIF(Series!$A$2:$A$1048576, \"=\" &A952,Series!$C$2:$C$1048576)","v":0},0]
[null,null,null,null,null,null,null,null,{"$f":"SUMIF('Bienes fideicomitidos'!$A$2:$A$1048576, \"=\" &A953,'Bienes fideicomitidos'!$C$2:$C$1048576)","v":0},null,null,null,null,{"$f":"SUMIF(Series!$A$2:$A$1048576, \"=\" &A953,Series!$C$2:$C$1048576)","v":0},0]
[null,null,null,null,null,null,null,null,{"$f":"SUMIF('Bienes fideicomitidos'!$A$2:$A$1048576, \"=\" &A954,'Bienes fideicomitidos'!$C$2:$C$1048576)","v":0},null,null,null,null,{"$f":"SUMIF(Series!$A$2:$A$1048576, \"=\" &A954,Series!$C$2:$C$1048576)","v":0},0]
[null,null,null,null,null,null,null,null,{"$f":"SUMIF('Bienes fideicomitidos'!$A$2:$A$1048576, \"=\" &A955,'Bienes fideicomitidos'!$C$2:$C$1048576)","v":0},null,null,null,null,{"$f":"SUMIF(Series!$A$2:$A$1048576, \"=\" &A955,Series!$C$2:$C$1048576)","v":0},0]
[null,null,null,null,null,null,null,null,{"$f":"SUMIF('Bienes fideicomitidos'!$A$2:$A$1048576, \"=\" &A956,'Bienes fideicomitidos'!$C$2:$C$1048576)","v":0},null,null,null,null,{"$f":"SUMIF(Series!$A$2:$A$1048576, \"=\" &A956,Series!$C$2:$C$1048576)","v":0},0]
[null,null,null,null,null,null,null,null,{"$f":"SUMIF('Bienes fideicomitidos'!$A$2:$A$1048576, \"=\" &A957,'Bienes fideicomitidos'!$C$2:$C$1048576)","v":0},null,null,null,null,{"$f":"SUMIF(Series!$A$2:$A$1048576, \"=\" &A957,Series!$C$2:$C$1048576)","v":0},0]
[null,null,null,null,null,null,null,null,{"$f":"SUMIF('Bienes fideicomitidos'!$A$2:$A$1048576, \"=\" &A958,'Bienes fideicomitidos'!$C$2:$C$1048576)","v":0},null,null,null,null,{"$f":"SUMIF(Series!$A$2:$A$1048576, \"=\" &A958,Series!$C$2:$C$1048576)","v":0},0]
[null,null,null,null,null,null,null,null,{"$f":"SUMIF('Bienes fideicomitidos'!$A$2:$A$1048576, \"=\" &A959,'Bienes fideicomitidos'!$C$2:$C$1048576)","v":0},null,null,null,null,{"$f":"SUMIF(Series!$A$2:$A$1048576, \"=\" &A959,Series!$C$2:$C$1048576)","v":0},0]
[null,null,null,null,null,null,null,null,{"$f":"SUMIF('Bienes fideicomitidos'!$A$2:$A$1048576, \"=\" &A960,'Bienes fideicomitidos'!$C$2:$C$1048576)","v":0},null,null,null,null,{"$f":"SUMIF(Series!$A$2:$A$1048576, \"=\" &A960,Series!$C$2:$C$1048576)","v":0},0]
[null,null,null,null,null,null,null,null,{"$f":"SUMIF('Bienes fideicomitidos'!$A$2:$A$1048576, \"=\" &A961,'Bienes fideicomitidos'!$C$2:$C$1048576)","v":0},null,null,null,null,{"$f":"SUMIF(Series!$A$2:$A$1048576, \"=\" &A961,Series!$C$2:$C$1048576)","v":0},0]
[null,null,null,null,null,null,null,null,{"$f":"SUMIF('Bienes fideicomitidos'!$A$2:$A$1048576, \"=\" &A962,'Bienes fideicomitidos'!$C$2:$C$1048576)","v":0},null,null,null,null,{"$f":"SUMIF(Series!$A$2:$A$1048576, \"=\" &A962,Series!$C$2:$C$1048576)","v":0},0]
[null,null,null,null,null,null,null,null,{"$f":"SUMIF('Bienes fideicomitidos'!$A$2:$A$1048576, \"=\" &A963,'Bienes fideicomitidos'!$C$2:$C$1048576)","v":0},null,null,null,null,{"$f":"SUMIF(Series!$A$2:$A$1048576, \"=\" &A963,Series!$C$2:$C$1048576)","v":0},0]
[null,null,null,null,null,null,null,null,{"$f":"SUMIF('Bienes fideicomitidos'!$A$2:$A$1048576, \"=\" &A964,'Bienes fideicomitidos'!$C$2:$C$1048576)","v":0},null,null,null,null,{"$f":"SUMIF(Series!$A$2:$A$1048576, \"=\" &A964,Series!$C$2:$C$1048576)","v":0},0]
[null,null,null,null,null,null,null,null,{"$f":"SUMIF('Bienes fideicomitidos'!$A$2:$A$1048576, \"=\" &A965,'Bienes fideicomitidos'!$C$2:$C$1048576)","v":0},null,null,null,null,{"$f":"SUMIF(Series!$A$2:$A$1048576, \"=\" &A965,Series!$C$2:$C$1048576)","v":0},0]
[null,null,null,null,null,null,null,null,{"$f":"SUMIF('Bienes fideicomitidos'!$A$2:$A$1048576, \"=\" &A966,'Bienes fideicomitidos'!$C$2:$C$1048576)","v":0},null,null,null,null,{"$f":"SUMIF(Series!$A$2:$A$1048576, \"=\" &A966,Series!$C$2:$C$1048576)","v":0},0]
[null,null,null,null,null,null,null,null,{"$f":"SUMIF('Bienes fideicomitidos'!$A$2:$A$1048576, \"=\" &A967,'Bienes fideicomitidos'!$C$2:$C$1048576)","v":0},null,null,null,null,{"$f":"SUMIF(Series!$A$2:$A$1048576, \"=\" &A967,Series!$C$2:$C$1048576)","v":0},0]
[null,null,null,null,null,null,null,null,{"$f":"SUMIF('Bienes fideicomitidos'!$A$2:$A$1048576, \"=\" &A968,'Bienes fideicomitidos'!$C$2:$C$1048576)","v":0},null,null,null,null,{"$f":"SUMIF(Series!$A$2:$A$1048576, \"=\" &A968,Series!$C$2:$C$1048576)","v":0},0]
[null,null,null,null,null,null,null,null,{"$f":"SUMIF('Bienes fideicomitidos'!$A$2:$A$1048576, \"=\" &A969,'Bienes fideicomitidos'!$C$2:$C$1048576)","v":0},null,null,null,null,{"$f":"SUMIF(Series!$A$2:$A$1048576, \"=\" &A969,Series!$C$2:$C$1048576)","v":0},0]
[null,null,null,null,null,null,null,null,{"$f":"SUMIF('Bienes fideicomitidos'!$A$2:$A$1048576, \"=\" &A970,'Bienes fideicomitidos'!$C$2:$C$1048576)","v":0},null,null,null,null,{"$f":"SUMIF(Series!$A$2:$A$1048576, \"=\" &A970,Series!$C$2:$C$1048576)","v":0},0]
[null,null,null,null,null,null,null,null,{"$f":"SUMIF('Bienes fideicomitidos'!$A$2:$A$1048576, \"=\" &A971,'Bienes fideicomitidos'!$C$2:$C$1048576)","v":0},null,null,null,null,{"$f":"SUMIF(Series!$A$2:$A$1048576, \"=\" &A971,Series!$C$2:$C$1048576)","v":0},0]
[null,null,null,null,null,null,null,null,{"$f":"SUMIF('Bienes fideicomitidos'!$A$2:$A$1048576, \"=\" &A972,'Bienes fideicomitidos'!$C$2:$C$1048576)","v":0},null,null,null,null,{"$f":"SUMIF(Series!$A$2:$A$1048576, \"=\" &A972,Series!$C$2:$C$1048576)","v":0},0]
[null,null,null,null,null,null,null,null,{"$f":"SUMIF('Bienes fideicomitidos'!$A$2:$A$1048576, \"=\" &A973,'Bienes fideicomitidos'!$C$2:$C$1048576)","v":0},null,null,null,null,{"$f":"SUMIF(Series!$A$2:$A$1048576, \"=\" &A973,Series!$C$2:$C$1048576)","v":0},0]
[null,null,null,null,null,null,null,null,{"$f":"SUMIF('Bienes fideicomitidos'!$A$2:$A$1048576, \"=\" &A974,'Bienes fideicomitidos'!$C$2:$C$1048576)","v":0},null,null,null,null,{"$f":"SUMIF(Series!$A$2:$A$1048576, \"=\" &A974,Series!$C$2:$C$1048576)","v":0},{"$f":"IFERROR((I974/N974)*100,0)","v":0}]
[null,null,null,null,null,null,null,null,{"$f":"SUMIF('Bienes fideicomitidos'!$A$2:$A$1048576, \"=\" &A975,'Bienes fideicomitidos'!$C$2:$C$1048576)","v":0},null,null,null,null,{"$f":"SUMIF(Series!$A$2:$A$1048576, \"=\" &A975,Series!$C$2:$C$1048576)","v":0},0]
[null,null,null,null,null,null,null,null,{"$f":"SUMIF('Bienes fideicomitidos'!$A$2:$A$1048576, \"=\" &A976,'Bienes fideicomitidos'!$C$2:$C$1048576)","v":0},null,null,null,null,{"$f":"SUMIF(Series!$A$2:$A$1048576, \"=\" &A976,Series!$C$2:$C$1048576)","v":0},0]
[null,null,null,null,null,null,null,null,{"$f":"SUMIF('Bienes fideicomitidos'!$A$2:$A$1048576, \"=\" &A977,'Bienes fideicomitidos'!$C$2:$C$1048576)","v":0},null,null,null,null,{"$f":"SUMIF(Series!$A$2:$A$1048576, \"=\" &A977,Series!$C$2:$C$1048576)","v":0},0]
[null,null,null,null,null,null,null,null,{"$f":"SUMIF('Bienes fideicomitidos'!$A$2:$A$1048576, \"=\" &A978,'Bienes fideicomitidos'!$C$2:$C$1048576)","v":0},null,null,null,null,{"$f":"SUMIF(Series!$A$2:$A$1048576, \"=\" &A978,Series!$C$2:$C$1048576)","v":0},0]
[null,null,null,null,null,null,null,null,{"$f":"SUMIF('Bienes fideicomitidos'!$A$2:$A$1048576, \"=\" &A979,'Bienes fideicomitidos'!$C$2:$C$1048576)","v":0},null,null,null,null,{"$f":"SUMIF(Series!$A$2:$A$1048576, \"=\" &A979,Series!$C$2:$C$1048576)","v":0},0]
[null,null,null,null,null,null,null,null,{"$f":"SUMIF('Bienes fideicomitidos'!$A$2:$A$1048576, \"=\" &A980,'Bienes fideicomitidos'!$C$2:$C$1048576)","v":0},null,null,null,null,{"$f":"SUMIF(Series!$A$2:$A$1048576, \"=\" &A980,Series!$C$2:$C$1048576)","v":0},0]
[null,null,null,null,null,null,null,null,{"$f":"SUMIF('Bienes fideicomitidos'!$A$2:$A$1048576, \"=\" &A981,'Bienes fideicomitidos'!$C$2:$C$1048576)","v":0},null,null,null,null,{"$f":"SUMIF(Series!$A$2:$A$1048576, \"=\" &A981,Series!$C$2:$C$1048576)","v":0},0]
[null,null,null,null,null,null,null,null,{"$f":"SUMIF('Bienes fideicomitidos'!$A$2:$A$1048576, \"=\" &A982,'Bienes fideicomitidos'!$C$2:$C$1048576)","v":0},null,null,null,null,{"$f":"SUMIF(Series!$A$2:$A$1048576, \"=\" &A982,Series!$C$2:$C$1048576)","v":0},0]
[null,null,null,null,null,null,null,null,{"$f":"SUMIF('Bienes fideicomitidos'!$A$2:$A$1048576, \"=\" &A983,'Bienes fideicomitidos'!$C$2:$C$1048576)","v":0},null,null,null,null,{"$f":"SUMIF(Series!$A$2:$A$1048576, \"=\" &A983,Series!$C$2:$C$1048576)","v":0},0]
[null,null,null,null,null,null,null,null,{"$f":"SUMIF('Bienes fideicomitidos'!$A$2:$A$1048576, \"=\" &A984,'Bienes fideicomitidos'!$C$2:$C$1048576)","v":0},null,null,null,null,{"$f":"SUMIF(Series!$A$2:$A$1048576, \"=\" &A984,Series!$C$2:$C$1048576)","v":0},0]
[null,null,null,null,null,null,null,null,{"$f":"SUMIF('Bienes fideicomitidos'!$A$2:$A$1048576, \"=\" &A985,'Bienes fideicomitidos'!$C$2:$C$1048576)","v":0},null,null,null,null,{"$f":"SUMIF(Series!$A$2:$A$1048576, \"=\" &A985,Series!$C$2:$C$1048576)","v":0},0]
[null,null,null,null,null,null,null,null,{"$f":"SUMIF('Bienes fideicomitidos'!$A$2:$A$1048576, \"=\" &A986,'Bienes fideicomitidos'!$C$2:$C$1048576)","v":0},null,null,null,null,{"$f":"SUMIF(Series!$A$2:$A$1048576, \"=\" &A986,Series!$C$2:$C$1048576)","v":0},0]
[null,null,null,null,null,null,null,null,{"$f":"SUMIF('Bienes fideicomitidos'!$A$2:$A$1048576, \"=\" &A987,'Bienes fideicomitidos'!$C$2:$C$1048576)","v":0},null,null,null,null,{"$f":"SUMIF(Series!$A$2:$A$1048576, \"=\" &A987,Series!$C$2:$C$1048576)","v":0},0]
[null,null,null,null,null,null,null,null,{"$f":"SUMIF('Bienes fideicomitidos'!$A$2:$A$1048576, \"=\" &A988,'Bienes fideicomitidos'!$C$2:$C$1048576)","v":0},null,null,null,null,{"$f":"SUMIF(Series!$A$2:$A$1048576, \"=\" &A988,Series!$C$2:$C$1048576)","v":0},0]
[null,null,null,null,null,null,null,null,{"$f":"SUMIF('Bienes fideicomitidos'!$A$2:$A$1048576, \"=\" &A989,'Bienes fideicomitidos'!$C$2:$C$1048576)","v":0},null,null,null,null,{"$f":"SUMIF(Series!$A$2:$A$1048576, \"=\" &A989,Series!$C$2:$C$1048576)","v":0},0]
[null,null,null,null,null,null,null,null,{"$f":"SUMIF('Bienes fideicomitidos'!$A$2:$A$1048576, \"=\" &A990,'Bienes fideicomitidos'!$C$2:$C$1048576)","v":0},null,null,null,null,{"$f":"SUMIF(Series!$A$2:$A$1048576, \"=\" &A990,Series!$C$2:$C$1048576)","v":0},0]
[null,null,null,null,null,null,null,null,{"$f":"SUMIF('Bienes fideicomitidos'!$A$2:$A$1048576, \"=\" &A991,'Bienes fideicomitidos'!$C$2:$C$1048576)","v":0},null,null,null,null,{"$f":"SUMIF(Series!$A$2:$A$1048576, \"=\" &A991,Series!$C$2:$C$1048576)","v":0},0]
[null,null,null,null,null,null,null,null,{"$f":"SUMIF('Bienes fideicomitidos'!$A$2:$A$1048576, \"=\" &A992,'Bienes fideicomitidos'!$C$2:$C$1048576)","v":0},null,null,null,null,{"$f":"SUMIF(Series!$A$2:$A$1048576, \"=\" &A992,Series!$C$2:$C$1048576)","v":0},0]
[null,null,null,null,null,null,null,null,{"$f":"SUMIF('Bienes fideicomitidos'!$A$2:$A$1048576, \"=\" &A993,'Bienes fideicomitidos'!$C$2:$C$1048576)","v":0},null,null,null,null,{"$f":"SUMIF(Series!$A$2:$A$1048576, \"=\" &A993,Series!$C$2:$C$1048576)","v":0},0]
[null,null,null,null,null,null,null,null,{"$f":"SUMIF('Bienes fideicomitidos'!$A$2:$A$1048576, \"=\" &A994,'Bienes fideicomitidos'!$C$2:$C$1048576)","v":0},null,null,null,null,{"$f":"SUMIF(Series!$A$2:$A$1048576, \"=\" &A994,Series!$C$2:$C$1048576)","v":0},0]
[null,null,null,null,null,null,null,null,{"$f":"SUMIF('Bienes fideicomitidos'!$A$2:$A$1048576, \"=\" &A995,'Bienes fideicomitidos'!$C$2:$C$1048576)","v":0},null,null,null,null,{"$f":"SUMIF(Series!$A$2:$A$1048576, \"=\" &A995,Series!$C$2:$C$1048576)","v":0},0]
[null,null,null,null,null,null,null,null,{"$f":"SUMIF('Bienes fideicomitidos'!$A$2:$A$1048576, \"=\" &A996,'Bienes fideicomitidos'!$C$2:$C$1048576)","v":0},null,null,null,null,{"$f":"SUMIF(Series!$A$2:$A$1048576, \"=\" &A996,Series!$C$2:$C$1048576)","v":0},0]
[null,null,null,null,null,null,null,null,{"$f":"SUMIF('Bienes fideicomitidos'!$A$2:$A$1048576, \"=\" &A997,'Bienes fideicomitidos'!$C$2:$C$1048576)","v":0},null,null,null,null,{"$f":"SUMIF(Series!$A$2:$A$1048576, \"=\" &A997,Series!$C$2:$C$1048576)","v":0},0]
[null,null,null,null,null,null,null,null,{"$f":"SUMIF('Bienes fideicomitidos'!$A$2:$A$1048576, \"=\" &A998,'Bienes fideicomitidos'!$C$2:$C$1048576)","v":0},null,null,null,null,{"$f":"SUMIF(Series!$A$2:$A$1048576, \"=\" &A998,Series!$C$2:$C$1048576)","v":0},0]
[null,null,null,null,null,null,null,null,{"$f":"SUMIF('Bienes fideicomitidos'!$A$2:$A$1048576, \"=\" &A999,'Bienes fideicomitidos'!$C$2:$C$1048576)","v":0},null,null,null,null,{"$f":"SUMIF(Series!$A$2:$A$1048576, \"=\" &A999,Series!$C$2:$C$1048576)","v":0},0]
[null,null,null,null,null,null,null,null,{"$f":"SUMIF('Bienes fideicomitidos'!$A$2:$A$1048576, \"=\" &A1000,'Bienes fideicomitidos'!$C$2:$C$1048576)","v":0},null,null,null,null,{"$f":"SUMIF(Series!$A$2:$A$1048576, \"=\" &A1000,Series!$C$2:$C$1048576)","v":0},0]
[null,null,null,null,null,null,null,null,{"$f":"SUMIF('Bienes fideicomitidos'!$A$2:$A$1048576, \"=\" &A1001,'Bienes fideicomitidos'!$C$2:$C$1048576)","v":0},null,null,null,null,{"$f":"SUMIF(Series!$A$2:$A$1048576, \"=\" &A1001,Series!$C$2:$C$1048576)","v":0},0]
[null,null,null,null,null,null,null,null,{"$f":"SUMIF('Bienes fideicomitidos'!$A$2:$A$1048576, \"=\" &A1002,'Bienes fideicomitidos'!$C$2:$C$1048576)","v":0},null,null,null,null,{"$f":"SUMIF(Series!$A$2:$A$1048576, \"=\" &A1002,Series!$C$2:$C$1048576)","v":0},0]
[null,null,null,null,null,null,null,null,{"$f":"SUMIF('Bienes fideicomitidos'!$A$2:$A$1048576, \"=\" &A1003,'Bienes fideicomitidos'!$C$2:$C$1048576)","v":0},null,null,null,null,{"$f":"SUMIF(Series!$A$2:$A$1048576, \"=\" &A1003,Series!$C$2:$C$1048576)","v":0},0]
[null,null,null,null,null,null,null,null,{"$f":"SUMIF('Bienes fideicomitidos'!$A$2:$A$1048576, \"=\" &A1004,'Bienes fideicomitidos'!$C$2:$C$1048576)","v":0},null,null,null,null,{"$f":"SUMIF(Series!$A$2:$A$1048576, \"=\" &A1004,Series!$C$2:$C$1048576)","v":0},0]
[null,null,null,null,null,null,null,null,{"$f":"SUMIF('Bienes fideicomitidos'!$A$2:$A$1048576, \"=\" &A1005,'Bienes fideicomitidos'!$C$2:$C$1048576)","v":0},null,null,null,null,{"$f":"SUMIF(Series!$A$2:$A$1048576, \"=\" &A1005,Series!$C$2:$C$1048576)","v":0},0]
[null,null,null,null,null,null,null,null,{"$f":"SUMIF('Bienes fideicomitidos'!$A$2:$A$1048576, \"=\" &A1006,'Bienes fideicomitidos'!$C$2:$C$1048576)","v":0},null,null,null,null,{"$f":"SUMIF(Series!$A$2:$A$1048576, \"=\" &A1006,Series!$C$2:$C$1048576)","v":0},0]
[null,null,null,null,null,null,null,null,{"$f":"SUMIF('Bienes fideicomitidos'!$A$2:$A$1048576, \"=\" &A1007,'Bienes fideicomitidos'!$C$2:$C$1048576)","v":0},null,null,null,null,{"$f":"SUMIF(Series!$A$2:$A$1048576, \"=\" &A1007,Series!$C$2:$C$1048576)","v":0},0]
[null,null,null,null,null,null,null,null,{"$f":"SUMIF('Bienes fideicomitidos'!$A$2:$A$1048576, \"=\" &A1008,'Bienes fideicomitidos'!$C$2:$C$1048576)","v":0},null,null,null,null,{"$f":"SUMIF(Series!$A$2:$A$1048576, \"=\" &A1008,Series!$C$2:$C$1048576)","v":0},0]
[null,null,null,null,null,null,null,null,{"$f":"SUMIF('Bienes fideicomitidos'!$A$2:$A$1048576, \"=\" &A1009,'Bienes fideicomitidos'!$C$2:$C$1048576)","v":0},null,null,null,null,{"$f":"SUMIF(Series!$A$2:$A$1048576, \"=\" &A1009,Series!$C$2:$C$1048576)","v":0},0]
[null,null,null,null,null,null,null,null,{"$f":"SUMIF('Bienes fideicomitidos'!$A$2:$A$1048576, \"=\" &A1010,'Bienes fideicomitidos'!$C$2:$C$1048576)","v":0},null,null,null,null,{"$f":"SUMIF(Series!$A$2:$A$1048576, \"=\" &A1010,Series!$C$2:$C$1048576)","v":0},0]
[null,null,null,null,null,null,null,null,{"$f":"SUMIF('Bienes fideicomitidos'!$A$2:$A$1048576, \"=\" &A1011,'Bienes fideicomitidos'!$C$2:$C$1048576)","v":0},null,null,null,null,{"$f":"SUMIF(Series!$A$2:$A$1048576, \"=\" &A1011,Series!$C$2:$C$1048576)","v":0},0]
[null,null,null,null,null,null,null,null,{"$f":"SUMIF('Bienes fideicomitidos'!$A$2:$A$1048576, \"=\" &A1012,'Bienes fideicomitidos'!$C$2:$C$1048576)","v":0},null,null,null,null,{"$f":"SUMIF(Series!$A$2:$A$1048576, \"=\" &A1012,Series!$C$2:$C$1048576)","v":0},0]
[null,null,null,null,null,null,null,null,{"$f":"SUMIF('Bienes fideicomitidos'!$A$2:$A$1048576, \"=\" &A1013,'Bienes fideicomitidos'!$C$2:$C$1048576)","v":0},null,null,null,null,{"$f":"SUMIF(Series!$A$2:$A$1048576, \"=\" &A1013,Series!$C$2:$C$1048576)","v":0},0]
[null,null,null,null,null,null,null,null,{"$f":"SUMIF('Bienes fideicomitidos'!$A$2:$A$1048576, \"=\" &A1014,'Bienes fideicomitidos'!$C$2:$C$1048576)","v":0},null,null,null,null,{"$f":"SUMIF(Series!$A$2:$A$1048576, \"=\" &A1014,Series!$C$2:$C$1048576)","v":0},0]
[null,null,null,null,null,null,null,null,{"$f":"SUMIF('Bienes fideicomitidos'!$A$2:$A$1048576, \"=\" &A1015,'Bienes fideicomitidos'!$C$2:$C$1048576)","v":0},null,null,null,null,{"$f":"SUMIF(Series!$A$2:$A$1048576, \"=\" &A1015,Series!$C$2:$C$1048576)","v":0},0]
[null,null,null,null,null,null,null,null,{"$f":"SUMIF('Bienes fideicomitidos'!$A$2:$A$1048576, \"=\" &A1016,'Bienes fideicomitidos'!$C$2:$C$1048576)","v":0},null,null,null,null,{"$f":"SUMIF(Series!$A$2:$A$1048576, \"=\" &A1016,Series!$C$2:$C$1048576)","v":0},0]
[null,null,null,null,null,null,null,null,{"$f":"SUMIF('Bienes fideicomitidos'!$A$2:$A$1048576, \"=\" &A1017,'Bienes fideicomitidos'!$C$2:$C$1048576)","v":0},null,null,null,null,{"$f":"SUMIF(Series!$A$2:$A$1048576, \"=\" &A1017,Series!$C$2:$C$1048576)","v":0},0]
[null,null,null,null,null,null,null,null,{"$f":"SUMIF('Bienes fideicomitidos'!$A$2:$A$1048576, \"=\" &A1018,'Bienes fideicomitidos'!$C$2:$C$1048576)","v":0},null,null,null,null,{"$f":"SUMIF(Series!$A$2:$A$1048576, \"=\" &A1018,Series!$C$2:$C$1048576)","v":0},0]
[null,null,null,null,null,null,null,null,{"$f":"SUMIF('Bienes fideicomitidos'!$A$2:$A$1048576, \"=\" &A1019,'Bienes fideicomitidos'!$C$2:$C$1048576)","v":0},null,null,null,null,{"$f":"SUMIF(Series!$A$2:$A$1048576, \"=\" &A1019,Series!$C$2:$C$1048576)","v":0},0]
[null,null,null,null,null,null,null,null,{"$f":"SUMIF('Bienes fideicomitidos'!$A$2:$A$1048576, \"=\" &A1020,'Bienes fideicomitidos'!$C$2:$C$1048576)","v":0},null,null,null,null,{"$f":"SUMIF(Series!$A$2:$A$1048576, \"=\" &A1020,Series!$C$2:$C$1048576)","v":0},0]
[null,null,null,null,null,null,null,null,{"$f":"SUMIF('Bienes fideicomitidos'!$A$2:$A$1048576, \"=\" &A1021,'Bienes fideicomitidos'!$C$2:$C$1048576)","v":0},null,null,null,null,{"$f":"SUMIF(Series!$A$2:$A$1048576, \"=\" &A1021,Series!$C$2:$C$1048576)","v":0},0]
[null,null,null,null,null,null,null,null,{"$f":"SUMIF('Bienes fideicomitidos'!$A$2:$A$1048576, \"=\" &A1022,'Bienes fideicomitidos'!$C$2:$C$1048576)","v":0},null,null,null,null,{"$f":"SUMIF(Series!$A$2:$A$1048576, \"=\" &A1022,Series!$C$2:$C$1048576)","v":0},0]
[null,null,null,null,null,null,null,null,{"$f":"SUMIF('Bienes fideicomitidos'!$A$2:$A$1048576, \"=\" &A1023,'Bienes fideicomitidos'!$C$2:$C$1048576)","v":0},null,null,null,null,{"$f":"SUMIF(Series!$A$2:$A$1048576, \"=\" &A1023,Series!$C$2:$C$1048576)","v":0},0]

{"sheet":"Series","index":1,"n_rows":1,"n_cols":3,"rows_kept":1,"cut":false,"hidden":false,"merged":[[0,3,1048575,16383]]}
["Resolución*","Indicar las series que cubren el patrimonio del fideicomiso*","Monto de la serie garantizada en Circulación*"]

{"sheet":"Bienes fideicomitidos","index":2,"n_rows":1,"n_cols":3,"rows_kept":1,"cut":false,"hidden":false,"merged":[[0,3,1048575,16383]]}
["Resolución*","Desglose de la composición de los bienes fideicomitidos*","Monto*"]